Workbook

Sheet меню
A1: Курс доллара США АЯК | B1: 80.5
A2: Курс евро | B2: 93
A3: Курс доллара США Аляска | B3: 86
A4: AUX | B4: Инвертор | C4: Hisense | D4: Инвертор | E4: Ultima Comfort | F4: Инвертор
B5: Он-офф | D5: Он-офф | F5: Он-офф
A6: Axioma | B6: Инвертор | C6: Hitachi | D6: Инвертор | E6: Dahatsu | F6: Инвертор
B7: Он-офф | D7: Он-офф | F7: Он-офф
A8: Ballu | B8: Инвертор | C8: Ishimatsu | D8: Инвертор | E8: Denko | F8: Инвертор
B9: Он-офф | D9: Он-офф | F9: Он-офф
A10: Bosch | B10: Инвертор | C10: Kalashnikov | D10: Инвертор | E10: Eurohoff | F10: Инвертор
B11: Он-офф | D11: Он-офф | F11: Он-офф
A12: Casarte | B12: Инвертор | C12: Kentatsu | D12: Инвертор
B13: Он-офф | D13: Он-офф
A14: Coolberg | B14: Инвертор | C14: LG | D14: Инвертор
B15: Он-офф | D15: Он-офф
A16: Daichi | B16: Инвертор | C16: MDV | D16: Инвертор
B17: Он-офф | D17: Он-офф
A18: Ecoclima | B18: Инвертор | C18: MHI | D18: Инвертор
B19: Он-офф | D19: Он-офф
A20: Ecostar | B20: Инвертор | C20: Midea | D20: Инвертор
B21: Он-офф | D21: Он-офф
A22: Electrolux | B22: Инвертор | C22: Royal Clima | D22: Инвертор
B23: Он-офф | D23: Он-офф
A24: Energolux | B24: Инвертор | C24: Royal Thermo | D24: Инвертор
B25: Он-офф | D25: Он-офф
A26: Ferrum | B26: Инвертор | C26: Shuft | D26: Инвертор
B27: Он-офф | D27: Он-офф
A28: Funai | B28: Инвертор | C28: TCL | D28: Инвертор
B29: Он-офф | D29: Он-офф
A30: Haier | B30: Инвертор | C30: Thaicon | D30: Инвертор
B31: Он-офф | D31: Он-офф

Sheet AUX
A1: HC код комплекта | B1: HC код поблочно | C1: Модель поблочно | D1: Модель | E1: РИЦ | F1: Остаток
A2: ИНВЕРТОРНЫЕ МОДЕЛИ
A3: Basic Inverter
A4: X-00014585 | C4: ASW-H07A4/CB-R2DI | D4: ASW-H07A4/CB-R2DI | E4: =VLOOKUP(A4,[1]Бытовые!$A:$N,COLUMN([1]Бытовые!$K$12),0) -> 29900 | F4: =VLOOKUP(A4,'[2]Все товары'!$A:$E,COLUMN('[2]Все товары'!$E$2),0) -> 250+
A5: X-00014587 | C5: ASW-H09A4/CB-R2DI | D5: ASW-H09A4/CB-R2DI | E5: =VLOOKUP(A5,[1]Бытовые!$A:$N,COLUMN([1]Бытовые!$K$12),0) -> 31900 | F5: =VLOOKUP(A5,'[2]Все товары'!$A:$E,COLUMN('[2]Все товары'!$E$2),0) -> 250+
A6: X-00014588 | C6: ASW-H12A4/CB-R2DI | D6: ASW-H12A4/CB-R2DI | E6: =VLOOKUP(A6,[1]Бытовые!$A:$N,COLUMN([1]Бытовые!$K$12),0) -> 37900 | F6: =VLOOKUP(A6,'[2]Все товары'!$A:$E,COLUMN('[2]Все товары'!$E$2),0) -> 118
A7: X-00014589 | C7: ASW-H18A4/CB-R2DI | D7: ASW-H18A4/CB-R2DI | E7: =VLOOKUP(A7,[1]Бытовые!$A:$N,COLUMN([1]Бытовые!$K$12),0) -> 58900 | F7: =VLOOKUP(A7,'[2]Все товары'!$A:$E,COLUMN('[2]Все товары'!$E$2),0) -> 91
A8: X-00014590 | C8: ASW-H24A4/CB-R2DI | D8: ASW-H24A4/CB-R2DI | E8: =VLOOKUP(A8,[1]Бытовые!$A:$N,COLUMN([1]Бытовые!$K$12),0) -> 74900 | F8: =VLOOKUP(A8,'[2]Все товары'!$A:$E,COLUMN('[2]Все товары'!$E$2),0) -> 215
A9: Classic Inverter
A10: X-00013865 | C10: ASW-H09A4/BA-R2DI | D10: ASW-H09A4/BA-R2DI | E10: =VLOOKUP(A10,[1]Бытовые!$A:$N,COLUMN([1]Бытовые!$K$12),0) -> 36800 | F10: =VLOOKUP(A10,'[2]Все товары'!$A:$E,COLUMN('[2]Все товары'!$E$2),0) -> 250+
A11: X-00013866 | C11: ASW-H12A4/BA-R2DI | D11: ASW-H12A4/BA-R2DI | E11: =VLOOKUP(A11,[1]Бытовые!$A:$N,COLUMN([1]Бытовые!$K$12),0) -> 43900 | F11: =VLOOKUP(A11,'[2]Все товары'!$A:$E,COLUMN('[2]Все товары'!$E$2),0) -> 250+
A12: X-00013867 | C12: ASW-H18A4/BA-R2DI | D12: ASW-H18A4/BA-R2DI | E12: =VLOOKUP(A12,[1]Бытовые!$A:$N,COLUMN([1]Бытовые!$K$12),0) -> 68400 | F12: =VLOOKUP(A12,'[2]Все товары'!$A:$E,COLUMN('[2]Все товары'!$E$2),0) -> 250+
A13: X-00013874 | C13: ASW-H07A4/BA-R2DI | D13: ASW-H07A4/BA-R2DI | E13: =VLOOKUP(A13,[1]Бытовые!$A:$N,COLUMN([1]Бытовые!$K$12),0) -> 34800 | F13: =VLOOKUP(A13,'[2]Все товары'!$A:$E,COLUMN('[2]Все товары'!$E$2),0) -> 250+
A14: X-00013879 | C14: ASW-H24A4/BA-R2DI | D14: ASW-H24A4/BA-R2DI | E14: =VLOOKUP(A14,[1]Бытовые!$A:$N,COLUMN([1]Бытовые!$K$12),0) -> 80500 | F14: =VLOOKUP(A14,'[2]Все товары'!$A:$E,COLUMN('[2]Все товары'!$E$2),0) -> 111
A15: Classic Pro Inverter
A16: X-00013802 | C16: ASW-H09A4/CA-R2DI | D16: ASW-H09A4/CA-R2DI | E16: =VLOOKUP(A16,[1]Бытовые!$A:$N,COLUMN([1]Бытовые!$K$12),0) -> 43900 | F16: =VLOOKUP(A16,'[2]Все товары'!$A:$E,COLUMN('[2]Все товары'!$E$2),0) -> 250+
A17: X-00013803 | C17: ASW-H12A4/CA-R2DI | D17: ASW-H12A4/CA-R2DI | E17: =VLOOKUP(A17,[1]Бытовые!$A:$N,COLUMN([1]Бытовые!$K$12),0) -> 48900 | F17: =VLOOKUP(A17,'[2]Все товары'!$A:$E,COLUMN('[2]Все товары'!$E$2),0) -> 198
A18: Comfort Inverter
A19: X-00013956 | C19: ASW-H09A4/HB-R2DI | D19: ASW-H09A4/HB-R2DI | E19: =VLOOKUP(A19,[1]Бытовые!$A:$N,COLUMN([1]Бытовые!$K$12),0) -> 43900 | F19: =VLOOKUP(A19,'[2]Все товары'!$A:$E,COLUMN('[2]Все товары'!$E$2),0) -> 250+
A20: X-00013958 | C20: ASW-H12A4/HB-R2DI | D20: ASW-H12A4/HB-R2DI | E20: =VLOOKUP(A20,[1]Бытовые!$A:$N,COLUMN([1]Бытовые!$K$12),0) -> 50900 | F20: =VLOOKUP(A20,'[2]Все товары'!$A:$E,COLUMN('[2]Все товары'!$E$2),0) -> 250+
A21: J Progressive series Inverter
A22: X-00010640 | C22: ASW-H09A4/JD-R2DI (v1) | D22: ASW-H09A4/JD-R2DI (v1) | E22: =VLOOKUP(A22,[1]Бытовые!$A:$N,COLUMN([1]Бытовые!$K$12),0) -> 43900 | F22: =VLOOKUP(A22,'[2]Все товары'!$A:$E,COLUMN('[2]Все товары'!$E$2),0) -> 250+
A23: X-00010641 | C23: ASW-H12A4/JD-R2DI (v1) | D23: ASW-H12A4/JD-R2DI (v1) | E23: =VLOOKUP(A23,[1]Бытовые!$A:$N,COLUMN([1]Бытовые!$K$12),0) -> 50900 | F23: =VLOOKUP(A23,'[2]Все товары'!$A:$E,COLUMN('[2]Все товары'!$E$2),0) -> 250+
A24: X-00010642 | C24: ASW-H18A4/JD-R2DI (v1) | D24: ASW-H18A4/JD-R2DI (v1) | E24: =VLOOKUP(A24,[1]Бытовые!$A:$N,COLUMN([1]Бытовые!$K$12),0) -> 76600 | F24: =VLOOKUP(A24,'[2]Все товары'!$A:$E,COLUMN('[2]Все товары'!$E$2),0) -> 123
A25: X-00010643 | C25: ASW-H24A4/JD-R2DI (v1) | D25: ASW-H24A4/JD-R2DI (v1) | E25: =VLOOKUP(A25,[1]Бытовые!$A:$N,COLUMN([1]Бытовые!$K$12),0) -> 91300 | F25: =VLOOKUP(A25,'[2]Все товары'!$A:$E,COLUMN('[2]Все товары'!$E$2),0) -> 75
A26: Premium Inverter
A27: X-00013875 | C27: ASW-H09A4/AF-R2DI | D27: ASW-H09A4/AF-R2DI | E27: =VLOOKUP(A27,[1]Бытовые!$A:$N,COLUMN([1]Бытовые!$K$12),0) -> 67700 | F27: =VLOOKUP(A27,'[2]Все товары'!$A:$E,COLUMN('[2]Все товары'!$E$2),0) -> 165
A28: X-00013877 | C28: ASW-H12A4/AF-R2DI | D28: ASW-H12A4/AF-R2DI | E28: =VLOOKUP(A28,[1]Бытовые!$A:$N,COLUMN([1]Бытовые!$K$12),0) -> 72000 | F28: =VLOOKUP(A28,'[2]Все товары'!$A:$E,COLUMN('[2]Все товары'!$E$2),0) -> 96
A29: Q Fresh series Inverter
A30: X-00012264 | C30: ASW-H09A4/QF-R2DI | D30: ASW-H09A4/QF-R2DI | E30: =VLOOKUP(A30,[1]Бытовые!$A:$N,COLUMN([1]Бытовые!$K$12),0) -> 57000 | F30: =VLOOKUP(A30,'[2]Все товары'!$A:$E,COLUMN('[2]Все товары'!$E$2),0) -> 119
A31: X-00012265 | C31: ASW-H12A4/QF-R2DI | D31: ASW-H12A4/QF-R2DI | E31: =VLOOKUP(A31,[1]Бытовые!$A:$N,COLUMN([1]Бытовые!$K$12),0) -> 63300 | F31: =VLOOKUP(A31,'[2]Все товары'!$A:$E,COLUMN('[2]Все товары'!$E$2),0) -> 0
A32: Q Light series Inverter
A33: X-00012276 | C33: ASW-H18A4/QH-R1DI | D33: ASW-H18A4/QH-R1DI | E33: 71100 | F33: =VLOOKUP(A33,'[2]Все товары'!$A:$E,COLUMN('[2]Все товары'!$E$2),0) -> 61
A34: Q Smart Series Inverter
A35: X-00012067 | C35: ASW-H09A4/HA-R2DI | D35: ASW-H09A4/HA-R2DI | E35: =VLOOKUP(A35,[1]Бытовые!$A:$N,COLUMN([1]Бытовые!$K$12),0) -> 41900 | F35: =VLOOKUP(A35,'[2]Все товары'!$A:$E,COLUMN('[2]Все товары'!$E$2),0) -> 0
A36: X-00012071 | C36: ASW-H12A4/HA-R2DI | D36: ASW-H12A4/HA-R2DI | E36: =VLOOKUP(A36,[1]Бытовые!$A:$N,COLUMN([1]Бытовые!$K$12),0) -> 45900 | F36: =VLOOKUP(A36,'[2]Все товары'!$A:$E,COLUMN('[2]Все товары'!$E$2),0) -> 0
A37: Black ART Inverter
A38: X-00013876 | C38: ASW-H09A4/CC-R2DI | D38: ASW-H09A4/CC-R2DI | E38: =VLOOKUP(A38,[1]Бытовые!$A:$N,COLUMN([1]Бытовые!$K$12),0) -> 56600 | F38: =VLOOKUP(A38,'[2]Все товары'!$A:$E,COLUMN('[2]Все товары'!$E$2),0) -> 250+
A39: X-00013878 | C39: ASW-H12A4/CC-R2DI | D39: ASW-H12A4/CC-R2DI | E39: =VLOOKUP(A39,[1]Бытовые!$A:$N,COLUMN([1]Бытовые!$K$12),0) -> 60500 | F39: =VLOOKUP(A39,'[2]Все товары'!$A:$E,COLUMN('[2]Все товары'!$E$2),0) -> 146
A40: Silver ART Inverter
A41: X-00013959 | C41: ASW-H09A4/CD-R2DI | D41: ASW-H09A4/CD-R2DI | E41: =VLOOKUP(A41,[1]Бытовые!$A:$N,COLUMN([1]Бытовые!$K$12),0) -> 56600 | F41: =VLOOKUP(A41,'[2]Все товары'!$A:$E,COLUMN('[2]Все товары'!$E$2),0) -> 250+
A42: X-00013962 | C42: ASW-H12A4/CD-R2DI | D42: ASW-H12A4/CD-R2DI | E42: =VLOOKUP(A42,[1]Бытовые!$A:$N,COLUMN([1]Бытовые!$K$12),0) -> 60500 | F42: =VLOOKUP(A42,'[2]Все товары'!$A:$E,COLUMN('[2]Все товары'!$E$2),0) -> 244
A43: МОДЕЛИ БЕЗ ИНВЕРТОРА
A44: FJ Series On-Off BLACK
A45: X-00009090 | C45: ASW-H07B4/FJ-BR1 | D45: ASW-H07B4/FJ-BR1 | E45: =VLOOKUP(A45,[1]Бытовые!$A:$N,COLUMN([1]Бытовые!$K$12),0) -> 25900 | F45: =VLOOKUP(A45,'[2]Все товары'!$A:$E,COLUMN('[2]Все товары'!$E$2),0) -> 250+
A46: X-00008116 | C46: ASW-H09A4/FJ-BR1 | D46: ASW-H09A4/FJ-BR1 | E46: 27600 | F46: =VLOOKUP(A46,'[2]Все товары'!$A:$E,COLUMN('[2]Все товары'!$E$2),0) -> 17
A47: X-00009091 | C47: ASW-H09B4/FJ-BR1 | D47: ASW-H09B4/FJ-BR1 | E47: =VLOOKUP(A47,[1]Бытовые!$A:$N,COLUMN([1]Бытовые!$K$12),0) -> 28500 | F47: =VLOOKUP(A47,'[2]Все товары'!$A:$E,COLUMN('[2]Все товары'!$E$2),0) -> 250+
A48: X-00009092 | C48: ASW-H12B4/FJ-BR1 | D48: ASW-H12B4/FJ-BR1 | E48: =VLOOKUP(A48,[1]Бытовые!$A:$N,COLUMN([1]Бытовые!$K$12),0) -> 34900 | F48: =VLOOKUP(A48,'[2]Все товары'!$A:$E,COLUMN('[2]Все товары'!$E$2),0) -> 178
A49: FJ Series On-Off SILVER
A50: X-00009067 | C50: ASW-H07B4/FJ-SR1 | D50: ASW-H07B4/FJ-SR1 | E50: 25900 | F50: =VLOOKUP(A50,'[2]Все товары'!$A:$E,COLUMN('[2]Все товары'!$E$2),0) -> 250+
A51: X-00009068 | C51: ASW-H09B4/FJ-SR1 | D51: ASW-H09B4/FJ-SR1 | E51: 28500 | F51: =VLOOKUP(A51,'[2]Все товары'!$A:$E,COLUMN('[2]Все товары'!$E$2),0) -> 250+
A52: X-00009069 | C52: ASW-H12B4/FJ-SR1 | D52: ASW-H12B4/FJ-SR1 | E52: 34900 | F52: =VLOOKUP(A52,'[2]Все товары'!$A:$E,COLUMN('[2]Все товары'!$E$2),0) -> 250+
A53: X-00009070 | C53: ASW-H18B4/FJ-SR1 | D53: ASW-H18B4/FJ-SR1 | E53: 64000 | F53: =VLOOKUP(A53,'[2]Все товары'!$A:$E,COLUMN('[2]Все товары'!$E$2),0) -> 7
A54: X-00009071 | C54: ASW-H24B4/FJ-SR1 | D54: ASW-H24B4/FJ-SR1 | E54: 77200 | F54: =VLOOKUP(A54,'[2]Все товары'!$A:$E,COLUMN('[2]Все товары'!$E$2),0) -> 0
A55: FP Series Prime On-Off
A56: X-00009768 | C56: ASW-H07A4/FP-R1 | D56: ASW-H07A4/FP-R1 | E56: 23900 | F56: =VLOOKUP(A56,'[2]Все товары'!$A:$E,COLUMN('[2]Все товары'!$E$2),0) -> 250+
A57: X-00009773 | C57: ASW-H09A4/FP-R1 | D57: ASW-H09A4/FP-R1 | E57: 25900 | F57: =VLOOKUP(A57,'[2]Все товары'!$A:$E,COLUMN('[2]Все товары'!$E$2),0) -> 250+
A58: X-00009774 | C58: ASW-H12A4/FP-R1 | D58: ASW-H12A4/FP-R1 | E58: 32900 | F58: =VLOOKUP(A58,'[2]Все товары'!$A:$E,COLUMN('[2]Все товары'!$E$2),0) -> 250+
A59: X-00009775 | C59: ASW-H24A4/FP-R1 | D59: ASW-H24A4/FP-R1 | E59: 62900 | F59: =VLOOKUP(A59,'[2]Все товары'!$A:$E,COLUMN('[2]Все товары'!$E$2),0) -> 250+
A60: X-00009776 | C60: ASW-H18A4/FP-R1 | D60: ASW-H18A4/FP-R1 | E60: 51900 | F60: =VLOOKUP(A60,'[2]Все товары'!$A:$E,COLUMN('[2]Все товары'!$E$2),0) -> 250+
A61: X-00011712 | C61: ASW-H36A4/FP-R1 | D61: ASW-H36A4/FP-R1 | E61: 97690 | F61: =VLOOKUP(A61,'[2]Все товары'!$A:$E,COLUMN('[2]Все товары'!$E$2),0) -> 229
A62: J series On-Off
A63: X-00011732 | C63: ASW-H07A4/JD-R1 | D63: ASW-H07A4/JD-R1 | E63: 25900 | F63: =VLOOKUP(A63,'[2]Все товары'!$A:$E,COLUMN('[2]Все товары'!$E$2),0) -> 250+
A64: X-00011734 | C64: ASW-H09A4/JD-R1 | D64: ASW-H09A4/JD-R1 | E64: 28900 | F64: =VLOOKUP(A64,'[2]Все товары'!$A:$E,COLUMN('[2]Все товары'!$E$2),0) -> 250+
A65: X-00011736 | C65: ASW-H12A4/JD-R1 | D65: ASW-H12A4/JD-R1 | E65: 34900 | F65: =VLOOKUP(A65,'[2]Все товары'!$A:$E,COLUMN('[2]Все товары'!$E$2),0) -> 250+
A66: X-00011738 | C66: ASW-H18A4/JD-R1 | D66: ASW-H18A4/JD-R1 | E66: 52900 | F66: =VLOOKUP(A66,'[2]Все товары'!$A:$E,COLUMN('[2]Все товары'!$E$2),0) -> 250+
A67: X-00011740 | C67: ASW-H24A4/JD-R1 | D67: ASW-H24A4/JD-R1 | E67: 71400 | F67: =VLOOKUP(A67,'[2]Все товары'!$A:$E,COLUMN('[2]Все товары'!$E$2),0) -> 107
A68: X-00011742 | C68: ASW-H36A4/JD-R1 | D68: ASW-H36A4/JD-R1 | E68: 100900 | F68: =VLOOKUP(A68,'[2]Все товары'!$A:$E,COLUMN('[2]Все товары'!$E$2),0) -> 0
A69: Q Light series On-Off
A70: X-00012280 | C70: ASW-H07A4/QH-R1 | D70: ASW-H07A4/QH-R1 | E70: 28000 | F70: =VLOOKUP(A70,'[2]Все товары'!$A:$E,COLUMN('[2]Все товары'!$E$2),0) -> 0
A71: X-00012285 | C71: ASW-H09A4/QH-R1 | D71: ASW-H09A4/QH-R1 | E71: 32100 | F71: =VLOOKUP(A71,'[2]Все товары'!$A:$E,COLUMN('[2]Все товары'!$E$2),0) -> 0
A72: X-00012286 | C72: ASW-H12A4/QH-R1 | D72: ASW-H12A4/QH-R1 | E72: 40400 | F72: =VLOOKUP(A72,'[2]Все товары'!$A:$E,COLUMN('[2]Все товары'!$E$2),0) -> 1
A73: X-00012287 | C73: ASW-H18A4/QH-R1 | D73: ASW-H18A4/QH-R1 | E73: 63600 | F73: =VLOOKUP(A73,'[2]Все товары'!$A:$E,COLUMN('[2]Все товары'!$E$2),0) -> 250+
A74: X-00012288 | C74: ASW-H24A4/QH-R1 | D74: ASW-H24A4/QH-R1 | E74: 76300 | F74: =VLOOKUP(A74,'[2]Все товары'!$A:$E,COLUMN('[2]Все товары'!$E$2),0) -> 7
A75: МУЛЬТИСПИТ-СИСТЕМЫ
A76: Серия Free Match Inverter R32. Наружные блоки
A77: X-00012496 | C77: AM2-H14/4DR2 | D77: =C77 -> AM2-H14/4DR2 | E77: =VLOOKUP(A77,'[2]Все товары'!$A:$L,COLUMN('[3]Все товары'!$H$2),0) -> 67200 | F77: =VLOOKUP(A77,'[2]Все товары'!$A:$E,COLUMN('[2]Все товары'!$E$2),0) -> 61
A78: X-00012497 | C78: AM2-H18/4DR2 | D78: =C78 -> AM2-H18/4DR2 | E78: =VLOOKUP(A78,'[2]Все товары'!$A:$L,COLUMN('[3]Все товары'!$H$2),0) -> 71300 | F78: =VLOOKUP(A78,'[2]Все товары'!$A:$E,COLUMN('[2]Все товары'!$E$2),0) -> 0
A79: X-00012498 | C79: AM3-H21/4DR2 | D79: =C79 -> AM3-H21/4DR2 | E79: =VLOOKUP(A79,'[2]Все товары'!$A:$L,COLUMN('[3]Все товары'!$H$2),0) -> 87200 | F79: =VLOOKUP(A79,'[2]Все товары'!$A:$E,COLUMN('[2]Все товары'!$E$2),0) -> 0
A80: X-00012499 | C80: AM3-H27/4DR2 | D80: =C80 -> AM3-H27/4DR2 | E80: =VLOOKUP(A80,'[2]Все товары'!$A:$L,COLUMN('[3]Все товары'!$H$2),0) -> 97000 | F80: =VLOOKUP(A80,'[2]Все товары'!$A:$E,COLUMN('[2]Все товары'!$E$2),0) -> 53
A81: X-00014670 | C81: AM4-H28/4DR2 | D81: =C81 -> AM4-H28/4DR2 | E81: 125400 | F81: =VLOOKUP(A81,'[2]Все товары'!$A:$E,COLUMN('[2]Все товары'!$E$2),0) -> 0
A82: X-00012500 | C82: AM4-H36/4DR2 | D82: =C82 -> AM4-H36/4DR2 | E82: =VLOOKUP(A82,'[2]Все товары'!$A:$L,COLUMN('[3]Все товары'!$H$2),0) -> 153000 | F82: =VLOOKUP(A82,'[2]Все товары'!$A:$E,COLUMN('[2]Все товары'!$E$2),0) -> 111
A83: X-00012501 | C83: AM5-H42/4DR2 | D83: =C83 -> AM5-H42/4DR2 | E83: =VLOOKUP(A83,'[2]Все товары'!$A:$L,COLUMN('[3]Все товары'!$H$2),0) -> 184200 | F83: =VLOOKUP(A83,'[2]Все товары'!$A:$E,COLUMN('[2]Все товары'!$E$2),0) -> 70
A84: Внутренние блоки настенного типа. Подходят для наружных блоков фреон R32/R410A с ИК пультом
A85: X-00012102 | C85: AMWM-H07/4R2(J) | D85: =C85 -> AMWM-H07/4R2(J) | E85: =VLOOKUP(A85,'[2]Все товары'!$A:$L,COLUMN('[3]Все товары'!$H$2),0) -> 17700 | F85: =VLOOKUP(A85,'[2]Все товары'!$A:$E,COLUMN('[2]Все товары'!$E$2),0) -> 0
A86: X-00012103 | C86: AMWM-H09/4R2(J) | D86: =C86 -> AMWM-H09/4R2(J) | E86: =VLOOKUP(A86,'[2]Все товары'!$A:$L,COLUMN('[3]Все товары'!$H$2),0) -> 18200 | F86: =VLOOKUP(A86,'[2]Все товары'!$A:$E,COLUMN('[2]Все товары'!$E$2),0) -> 0
A87: X-00012104 | C87: AMWM-H12/4R2(J) | D87: =C87 -> AMWM-H12/4R2(J) | E87: =VLOOKUP(A87,'[2]Все товары'!$A:$L,COLUMN('[3]Все товары'!$H$2),0) -> 19200 | F87: =VLOOKUP(A87,'[2]Все товары'!$A:$E,COLUMN('[2]Все товары'!$E$2),0) -> 8
A88: X-00012105 | C88: AMWM-H18/4R2(J) | D88: =C88 -> AMWM-H18/4R2(J) | E88: =VLOOKUP(A88,'[2]Все товары'!$A:$L,COLUMN('[3]Все товары'!$H$2),0) -> 26700 | F88: =VLOOKUP(A88,'[2]Все товары'!$A:$E,COLUMN('[2]Все товары'!$E$2),0) -> 26
A89: Внутренние блоки настенного типа. Подходят для наружных блоков фреон R32/R410A с ИК пультом
A90: X-00014255 | C90: AMWM-H07/4R2(BA) | D90: =C90 -> AMWM-H07/4R2(BA) | E90: =VLOOKUP(A90,'[2]Все товары'!$A:$L,COLUMN('[3]Все товары'!$H$2),0) -> 17700 | F90: =VLOOKUP(A90,'[2]Все товары'!$A:$E,COLUMN('[2]Все товары'!$E$2),0) -> 0
A91: X-00014257 | C91: AMWM-H09/4R2(BA) | D91: =C91 -> AMWM-H09/4R2(BA) | E91: =VLOOKUP(A91,'[2]Все товары'!$A:$L,COLUMN('[3]Все товары'!$H$2),0) -> 18200 | F91: =VLOOKUP(A91,'[2]Все товары'!$A:$E,COLUMN('[2]Все товары'!$E$2),0) -> 0
A92: X-00014260 | C92: AMWM-H12/4R2(BA) | D92: =C92 -> AMWM-H12/4R2(BA) | E92: =VLOOKUP(A92,'[2]Все товары'!$A:$L,COLUMN('[3]Все товары'!$H$2),0) -> 19200 | F92: =VLOOKUP(A92,'[2]Все товары'!$A:$E,COLUMN('[2]Все товары'!$E$2),0) -> 0
A93: X-00014262 | C93: AMWM-H18/4R2(BA) | D93: =C93 -> AMWM-H18/4R2(BA) | E93: =VLOOKUP(A93,'[2]Все товары'!$A:$L,COLUMN('[3]Все товары'!$H$2),0) -> 26700 | F93: =VLOOKUP(A93,'[2]Все товары'!$A:$E,COLUMN('[2]Все товары'!$E$2),0) -> 11
A94: X-00014683 | C94: AMWM-H24/4R2(BA) | D94: =C94 -> AMWM-H24/4R2(BA) | E94: =VLOOKUP(A94,'[2]Все товары'!$A:$L,COLUMN('[3]Все товары'!$H$2),0) -> 33380 | F94: =VLOOKUP(A94,'[2]Все товары'!$A:$E,COLUMN('[2]Все товары'!$E$2),0) -> 0
A95: Внутренние блоки настенного типа. Подходят для наружных блоков фреон R32/R410A с ИК пультом
A96: X-00014256 | C96: AMWM-H09/4R2(CC) | D96: =C96 -> AMWM-H09/4R2(CC) | E96: =VLOOKUP(A96,'[2]Все товары'!$A:$L,COLUMN('[3]Все товары'!$H$2),0) -> 22200 | F96: =VLOOKUP(A96,'[2]Все товары'!$A:$E,COLUMN('[2]Все товары'!$E$2),0) -> 185
A97: X-00014259 | C97: AMWM-H12/4R2(CC) | D97: =C97 -> AMWM-H12/4R2(CC) | E97: =VLOOKUP(A97,'[2]Все товары'!$A:$L,COLUMN('[3]Все товары'!$H$2),0) -> 23500 | F97: =VLOOKUP(A97,'[2]Все товары'!$A:$E,COLUMN('[2]Все товары'!$E$2),0) -> 66
A98: Внутренние блоки настенного типа. Подходят для наружных блоков фреон R32/R410A с ИК пультом
A99: X-00014258 | C99: AMWM-H09/4R2(CD) | D99: =C99 -> AMWM-H09/4R2(CD) | E99: =VLOOKUP(A99,'[2]Все товары'!$A:$L,COLUMN('[3]Все товары'!$H$2),0) -> 19300 | F99: =VLOOKUP(A99,'[2]Все товары'!$A:$E,COLUMN('[2]Все товары'!$E$2),0) -> 216
A100: X-00014261 | C100: AMWM-H12/4R2(CD) | D100: =C100 -> AMWM-H12/4R2(CD) | E100: =VLOOKUP(A100,'[2]Все товары'!$A:$L,COLUMN('[3]Все товары'!$H$2),0) -> 20400 | F100: =VLOOKUP(A100,'[2]Все товары'!$A:$E,COLUMN('[2]Все товары'!$E$2),0) -> 73
...

Sheet Axioma
A1: HC код комплекта | B1: HC код поблочно | C1: Модель поблочно | D1: Модель | E1: РИЦ | F1: Остаток1 | G1: В пути | H1: Остаток2 | I1: Остаток3
A2: ИНВЕРТОРНЫЕ МОДЕЛИ
A3: ASX/ASB (серия F)
A4: ASX07FZ1 | C4: ASX07FZ1 | D4: =_xlfn.CONCAT(C4," / ",C5) -> ASX07FZ1 / ASB07FZ1 | E4: =VLOOKUP(A4,[4]RAC!$A:$K,COLUMN([4]RAC!$K$11),0) -> 29190 | F4: =VLOOKUP(A4,[5]Лист1!$A:$E,COLUMN([5]Лист1!$C$4),0) -> 0 | G4: =VLOOKUP(A4,[5]Лист1!$A:$E,COLUMN([5]Лист1!$D$526),0) -> 0 | H4: =VLOOKUP(A4,[6]Лист1!$A:$E,COLUMN([6]Лист1!$C$4),0) -> 0 | I4: =VLOOKUP(A4,[7]Лист1!$A:$E,COLUMN([7]Лист1!$C$4),0) -> 0
A5: ASB07FZ1 | C5: ASB07FZ1 | F5: =VLOOKUP(A5,[5]Лист1!$A:$E,COLUMN([5]Лист1!$C$4),0) -> 3 | G5: =VLOOKUP(A5,[5]Лист1!$A:$E,COLUMN([5]Лист1!$D$526),0) -> 2 | H5: =VLOOKUP(A5,[6]Лист1!$A:$E,COLUMN([6]Лист1!$C$4),0) -> 2 | I5: =VLOOKUP(A5,[7]Лист1!$A:$E,COLUMN([7]Лист1!$C$4),0) -> 0
A6: ASX09FZ1 | C6: ASX09FZ1 | D6: =_xlfn.CONCAT(C6," / ",C7) -> ASX09FZ1 / ASB09FZ1 | E6: =VLOOKUP(A6,[4]RAC!$A:$K,COLUMN([4]RAC!$K$11),0) -> 30790 | F6: =VLOOKUP(A6,[5]Лист1!$A:$E,COLUMN([5]Лист1!$C$4),0) -> 2 | G6: =VLOOKUP(A6,[5]Лист1!$A:$E,COLUMN([5]Лист1!$D$526),0) -> 1 | H6: =VLOOKUP(A6,[6]Лист1!$A:$E,COLUMN([6]Лист1!$C$4),0) -> 0 | I6: =VLOOKUP(A6,[7]Лист1!$A:$E,COLUMN([7]Лист1!$C$4),0) -> 0
A7: ASB09FZ1 | C7: ASB09FZ1 | F7: =VLOOKUP(A7,[5]Лист1!$A:$E,COLUMN([5]Лист1!$C$4),0) -> 0 | G7: =VLOOKUP(A7,[5]Лист1!$A:$E,COLUMN([5]Лист1!$D$526),0) -> 0 | H7: =VLOOKUP(A7,[6]Лист1!$A:$E,COLUMN([6]Лист1!$C$4),0) -> 0 | I7: =VLOOKUP(A7,[7]Лист1!$A:$E,COLUMN([7]Лист1!$C$4),0) -> 0
A8: ASX12FZ1 | C8: ASX12FZ1 | D8: =_xlfn.CONCAT(C8," / ",C9) -> ASX12FZ1 / ASB12FZ1 | E8: =VLOOKUP(A8,[4]RAC!$A:$K,COLUMN([4]RAC!$K$11),0) -> 33990 | F8: =VLOOKUP(A8,[5]Лист1!$A:$E,COLUMN([5]Лист1!$C$4),0) -> 0 | G8: =VLOOKUP(A8,[5]Лист1!$A:$E,COLUMN([5]Лист1!$D$526),0) -> 9 | H8: =VLOOKUP(A8,[6]Лист1!$A:$E,COLUMN([6]Лист1!$C$4),0) -> 9 | I8: =VLOOKUP(A8,[7]Лист1!$A:$E,COLUMN([7]Лист1!$C$4),0) -> 0
A9: ASB12FZ1 | C9: ASB12FZ1 | F9: =VLOOKUP(A9,[5]Лист1!$A:$E,COLUMN([5]Лист1!$C$4),0) -> 0 | G9: =VLOOKUP(A9,[5]Лист1!$A:$E,COLUMN([5]Лист1!$D$526),0) -> 6 | H9: =VLOOKUP(A9,[6]Лист1!$A:$E,COLUMN([6]Лист1!$C$4),0) -> 6 | I9: =VLOOKUP(A9,[7]Лист1!$A:$E,COLUMN([7]Лист1!$C$4),0) -> 0
A10: ASX18FZ1 | C10: ASX18FZ1 | D10: =_xlfn.CONCAT(C10," / ",C11) -> ASX18FZ1 / ASB18FZ1 | E10: =VLOOKUP(A10,[4]RAC!$A:$K,COLUMN([4]RAC!$K$11),0) -> 58990 | F10: =VLOOKUP(A10,[5]Лист1!$A:$E,COLUMN([5]Лист1!$C$4),0) -> 1 | G10: =VLOOKUP(A10,[5]Лист1!$A:$E,COLUMN([5]Лист1!$D$526),0) -> >50 | H10: =VLOOKUP(A10,[6]Лист1!$A:$E,COLUMN([6]Лист1!$C$4),0) -> >50 | I10: =VLOOKUP(A10,[7]Лист1!$A:$E,COLUMN([7]Лист1!$C$4),0) -> 0
A11: ASB18FZ1 | C11: ASB18FZ1 | F11: =VLOOKUP(A11,[5]Лист1!$A:$E,COLUMN([5]Лист1!$C$4),0) -> 0 | G11: =VLOOKUP(A11,[5]Лист1!$A:$E,COLUMN([5]Лист1!$D$526),0) -> >50 | H11: =VLOOKUP(A11,[6]Лист1!$A:$E,COLUMN([6]Лист1!$C$4),0) -> >50 | I11: =VLOOKUP(A11,[7]Лист1!$A:$E,COLUMN([7]Лист1!$C$4),0) -> 0
A12: ASX24FZ1 | C12: ASX24FZ1 | D12: =_xlfn.CONCAT(C12," / ",C13) -> ASX24FZ1 / ASB24FZ1 | E12: =VLOOKUP(A12,[4]RAC!$A:$K,COLUMN([4]RAC!$K$11),0) -> 75390 | F12: =VLOOKUP(A12,[5]Лист1!$A:$E,COLUMN([5]Лист1!$C$4),0) -> 1 | G12: =VLOOKUP(A12,[5]Лист1!$A:$E,COLUMN([5]Лист1!$D$526),0) -> 14 | H12: =VLOOKUP(A12,[6]Лист1!$A:$E,COLUMN([6]Лист1!$C$4),0) -> 14 | I12: =VLOOKUP(A12,[7]Лист1!$A:$E,COLUMN([7]Лист1!$C$4),0) -> 0
A13: ASB24FZ1 | C13: ASB24FZ1 | F13: =VLOOKUP(A13,[5]Лист1!$A:$E,COLUMN([5]Лист1!$C$4),0) -> 0 | G13: =VLOOKUP(A13,[5]Лист1!$A:$E,COLUMN([5]Лист1!$D$526),0) -> 12 | H13: =VLOOKUP(A13,[6]Лист1!$A:$E,COLUMN([6]Лист1!$C$4),0) -> 12 | I13: =VLOOKUP(A13,[7]Лист1!$A:$E,COLUMN([7]Лист1!$C$4),0) -> 0
A14: ASX/ASB (серия H)
A15: ASX07HZ1R | C15: ASX07HZ1R | D15: =_xlfn.CONCAT(C15," / ",C16) -> ASX07HZ1R / ASB07HZ1R | E15: =VLOOKUP(A15,[4]RAC!$A:$K,COLUMN([4]RAC!$K$11),0) -> 30090 | F15: =VLOOKUP(A15,[5]Лист1!$A:$E,COLUMN([5]Лист1!$C$4),0) -> 0 | G15: =VLOOKUP(A15,[5]Лист1!$A:$E,COLUMN([5]Лист1!$D$526),0) -> 0 | H15: =VLOOKUP(A15,[6]Лист1!$A:$E,COLUMN([6]Лист1!$C$4),0) -> 0 | I15: =VLOOKUP(A15,[7]Лист1!$A:$E,COLUMN([7]Лист1!$C$4),0) -> 0
A16: ASB07HZ1R | C16: ASB07HZ1R | F16: =VLOOKUP(A16,[5]Лист1!$A:$E,COLUMN([5]Лист1!$C$4),0) -> 0 | G16: =VLOOKUP(A16,[5]Лист1!$A:$E,COLUMN([5]Лист1!$D$526),0) -> 0 | H16: =VLOOKUP(A16,[6]Лист1!$A:$E,COLUMN([6]Лист1!$C$4),0) -> 0 | I16: =VLOOKUP(A16,[7]Лист1!$A:$E,COLUMN([7]Лист1!$C$4),0) -> 0
A17: ASX09HZ1R | C17: ASX09HZ1R | D17: =_xlfn.CONCAT(C17," / ",C18) -> ASX09HZ1R / ASB09HZ1R | E17: =VLOOKUP(A17,[4]RAC!$A:$K,COLUMN([4]RAC!$K$11),0) -> 31890 | F17: =VLOOKUP(A17,[5]Лист1!$A:$E,COLUMN([5]Лист1!$C$4),0) -> 0 | G17: =VLOOKUP(A17,[5]Лист1!$A:$E,COLUMN([5]Лист1!$D$526),0) -> 18 | H17: =VLOOKUP(A17,[6]Лист1!$A:$E,COLUMN([6]Лист1!$C$4),0) -> 0 | I17: =VLOOKUP(A17,[7]Лист1!$A:$E,COLUMN([7]Лист1!$C$4),0) -> 0
A18: ASB09HZ1R | C18: ASB09HZ1R | F18: =VLOOKUP(A18,[5]Лист1!$A:$E,COLUMN([5]Лист1!$C$4),0) -> 0 | G18: =VLOOKUP(A18,[5]Лист1!$A:$E,COLUMN([5]Лист1!$D$526),0) -> 19 | H18: =VLOOKUP(A18,[6]Лист1!$A:$E,COLUMN([6]Лист1!$C$4),0) -> 0 | I18: =VLOOKUP(A18,[7]Лист1!$A:$E,COLUMN([7]Лист1!$C$4),0) -> 0
A19: ASX12HZ1R | C19: ASX12HZ1R | D19: =_xlfn.CONCAT(C19," / ",C20) -> ASX12HZ1R / ASB12HZ1R | E19: =VLOOKUP(A19,[4]RAC!$A:$K,COLUMN([4]RAC!$K$11),0) -> 35090 | F19: =VLOOKUP(A19,[5]Лист1!$A:$E,COLUMN([5]Лист1!$C$4),0) -> 22 | G19: =VLOOKUP(A19,[5]Лист1!$A:$E,COLUMN([5]Лист1!$D$526),0) -> >50 | H19: =VLOOKUP(A19,[6]Лист1!$A:$E,COLUMN([6]Лист1!$C$4),0) -> 0 | I19: =VLOOKUP(A19,[7]Лист1!$A:$E,COLUMN([7]Лист1!$C$4),0) -> 0
A20: ASB12HZ1R | C20: ASB12HZ1R | F20: =VLOOKUP(A20,[5]Лист1!$A:$E,COLUMN([5]Лист1!$C$4),0) -> 21 | G20: =VLOOKUP(A20,[5]Лист1!$A:$E,COLUMN([5]Лист1!$D$526),0) -> >50 | H20: =VLOOKUP(A20,[6]Лист1!$A:$E,COLUMN([6]Лист1!$C$4),0) -> 0 | I20: =VLOOKUP(A20,[7]Лист1!$A:$E,COLUMN([7]Лист1!$C$4),0) -> 0
A21: ASX18HZ1R | C21: ASX18HZ1R | D21: =_xlfn.CONCAT(C21," / ",C22) -> ASX18HZ1R / ASB18HZ1R | E21: =VLOOKUP(A21,[4]RAC!$A:$K,COLUMN([4]RAC!$K$11),0) -> 60890 | F21: =VLOOKUP(A21,[5]Лист1!$A:$E,COLUMN([5]Лист1!$C$4),0) -> 0 | G21: =VLOOKUP(A21,[5]Лист1!$A:$E,COLUMN([5]Лист1!$D$526),0) -> 0 | H21: =VLOOKUP(A21,[6]Лист1!$A:$E,COLUMN([6]Лист1!$C$4),0) -> 0 | I21: =VLOOKUP(A21,[7]Лист1!$A:$E,COLUMN([7]Лист1!$C$4),0) -> 0
A22: ASB18HZ1R | C22: ASB18HZ1R | F22: =VLOOKUP(A22,[5]Лист1!$A:$E,COLUMN([5]Лист1!$C$4),0) -> 0 | G22: =VLOOKUP(A22,[5]Лист1!$A:$E,COLUMN([5]Лист1!$D$526),0) -> 0 | H22: =VLOOKUP(A22,[6]Лист1!$A:$E,COLUMN([6]Лист1!$C$4),0) -> 0 | I22: =VLOOKUP(A22,[7]Лист1!$A:$E,COLUMN([7]Лист1!$C$4),0) -> 0
A23: ASX24HZ1R | C23: ASX24HZ1R | D23: =_xlfn.CONCAT(C23," / ",C24) -> ASX24HZ1R / ASB24HZ1R | E23: =VLOOKUP(A23,[4]RAC!$A:$K,COLUMN([4]RAC!$K$11),0) -> 77990 | F23: =VLOOKUP(A23,[5]Лист1!$A:$E,COLUMN([5]Лист1!$C$4),0) -> 0 | G23: =VLOOKUP(A23,[5]Лист1!$A:$E,COLUMN([5]Лист1!$D$526),0) -> 0 | H23: =VLOOKUP(A23,[6]Лист1!$A:$E,COLUMN([6]Лист1!$C$4),0) -> 0 | I23: =VLOOKUP(A23,[7]Лист1!$A:$E,COLUMN([7]Лист1!$C$4),0) -> 0
A24: ASB24HZ1R | C24: ASB24HZ1R | F24: =VLOOKUP(A24,[5]Лист1!$A:$E,COLUMN([5]Лист1!$C$4),0) -> 0 | G24: =VLOOKUP(A24,[5]Лист1!$A:$E,COLUMN([5]Лист1!$D$526),0) -> 0 | H24: =VLOOKUP(A24,[6]Лист1!$A:$E,COLUMN([6]Лист1!$C$4),0) -> 0 | I24: =VLOOKUP(A24,[7]Лист1!$A:$E,COLUMN([7]Лист1!$C$4),0) -> 0
A26: ASX07H1Z1R | C26: ASX07H1Z1R | D26: =_xlfn.CONCAT(C26," / ",C27) -> ASX07H1Z1R / ASB07H1Z1R | E26: =VLOOKUP(A26,[4]RAC!$A:$K,COLUMN([4]RAC!$K$11),0) -> 30490 | F26: =VLOOKUP(A26,[5]Лист1!$A:$E,COLUMN([5]Лист1!$C$4),0) -> 0 | G26: =VLOOKUP(A26,[5]Лист1!$A:$E,COLUMN([5]Лист1!$D$526),0) -> 0 | H26: =VLOOKUP(A26,[6]Лист1!$A:$E,COLUMN([6]Лист1!$C$4),0) -> 0 | I26: =VLOOKUP(A26,[7]Лист1!$A:$E,COLUMN([7]Лист1!$C$4),0) -> 0
A27: ASB07H1Z1R | C27: ASB07H1Z1R | F27: =VLOOKUP(A27,[5]Лист1!$A:$E,COLUMN([5]Лист1!$C$4),0) -> 0 | G27: =VLOOKUP(A27,[5]Лист1!$A:$E,COLUMN([5]Лист1!$D$526),0) -> 0 | H27: =VLOOKUP(A27,[6]Лист1!$A:$E,COLUMN([6]Лист1!$C$4),0) -> 0 | I27: =VLOOKUP(A27,[7]Лист1!$A:$E,COLUMN([7]Лист1!$C$4),0) -> 0
A28: ASX09H1Z1R | C28: ASX09H1Z1R | D28: =_xlfn.CONCAT(C28," / ",C29) -> ASX09H1Z1R / ASB09H1Z1R | E28: =VLOOKUP(A28,[4]RAC!$A:$K,COLUMN([4]RAC!$K$11),0) -> 32490 | F28: =VLOOKUP(A28,[5]Лист1!$A:$E,COLUMN([5]Лист1!$C$4),0) -> 0 | G28: =VLOOKUP(A28,[5]Лист1!$A:$E,COLUMN([5]Лист1!$D$526),0) -> 0 | H28: =VLOOKUP(A28,[6]Лист1!$A:$E,COLUMN([6]Лист1!$C$4),0) -> 0 | I28: =VLOOKUP(A28,[7]Лист1!$A:$E,COLUMN([7]Лист1!$C$4),0) -> 0
A29: ASB09H1Z1R | C29: ASB09H1Z1R | F29: =VLOOKUP(A29,[5]Лист1!$A:$E,COLUMN([5]Лист1!$C$4),0) -> 0 | G29: =VLOOKUP(A29,[5]Лист1!$A:$E,COLUMN([5]Лист1!$D$526),0) -> 0 | H29: =VLOOKUP(A29,[6]Лист1!$A:$E,COLUMN([6]Лист1!$C$4),0) -> 0 | I29: =VLOOKUP(A29,[7]Лист1!$A:$E,COLUMN([7]Лист1!$C$4),0) -> 0
A30: ASX12H1Z1R | C30: ASX12H1Z1R | D30: =_xlfn.CONCAT(C30," / ",C31) -> ASX12H1Z1R / ASB12H1Z1R | E30: =VLOOKUP(A30,[4]RAC!$A:$K,COLUMN([4]RAC!$K$11),0) -> 35490 | F30: =VLOOKUP(A30,[5]Лист1!$A:$E,COLUMN([5]Лист1!$C$4),0) -> >50 | G30: =VLOOKUP(A30,[5]Лист1!$A:$E,COLUMN([5]Лист1!$D$526),0) -> >50 | H30: =VLOOKUP(A30,[6]Лист1!$A:$E,COLUMN([6]Лист1!$C$4),0) -> >50 | I30: =VLOOKUP(A30,[7]Лист1!$A:$E,COLUMN([7]Лист1!$C$4),0) -> 0
A31: ASB12H1Z1R | C31: ASB12H1Z1R | F31: =VLOOKUP(A31,[5]Лист1!$A:$E,COLUMN([5]Лист1!$C$4),0) -> >50 | G31: =VLOOKUP(A31,[5]Лист1!$A:$E,COLUMN([5]Лист1!$D$526),0) -> >50 | H31: =VLOOKUP(A31,[6]Лист1!$A:$E,COLUMN([6]Лист1!$C$4),0) -> >50 | I31: =VLOOKUP(A31,[7]Лист1!$A:$E,COLUMN([7]Лист1!$C$4),0) -> 0
A32: ASX18H1Z1R | C32: ASX18H1Z1R | D32: =_xlfn.CONCAT(C32," / ",C33) -> ASX18H1Z1R / ASB18H1Z1R | E32: =VLOOKUP(A32,[4]RAC!$A:$K,COLUMN([4]RAC!$K$11),0) -> 61590 | F32: =VLOOKUP(A32,[5]Лист1!$A:$E,COLUMN([5]Лист1!$C$4),0) -> 0 | G32: =VLOOKUP(A32,[5]Лист1!$A:$E,COLUMN([5]Лист1!$D$526),0) -> 22 | H32: =VLOOKUP(A32,[6]Лист1!$A:$E,COLUMN([6]Лист1!$C$4),0) -> 22 | I32: =VLOOKUP(A32,[7]Лист1!$A:$E,COLUMN([7]Лист1!$C$4),0) -> 0
A33: ASB18H1Z1R | C33: ASB18H1Z1R | F33: =VLOOKUP(A33,[5]Лист1!$A:$E,COLUMN([5]Лист1!$C$4),0) -> 0 | G33: =VLOOKUP(A33,[5]Лист1!$A:$E,COLUMN([5]Лист1!$D$526),0) -> 22 | H33: =VLOOKUP(A33,[6]Лист1!$A:$E,COLUMN([6]Лист1!$C$4),0) -> 22 | I33: =VLOOKUP(A33,[7]Лист1!$A:$E,COLUMN([7]Лист1!$C$4),0) -> 0
A34: ASX24H1Z1R | C34: ASX24H1Z1R | D34: =_xlfn.CONCAT(C34," / ",C35) -> ASX24H1Z1R / ASB24H1Z1R | E34: =VLOOKUP(A34,[4]RAC!$A:$K,COLUMN([4]RAC!$K$11),0) -> 78690 | F34: =VLOOKUP(A34,[5]Лист1!$A:$E,COLUMN([5]Лист1!$C$4),0) -> 0 | G34: =VLOOKUP(A34,[5]Лист1!$A:$E,COLUMN([5]Лист1!$D$526),0) -> >50 | H34: =VLOOKUP(A34,[6]Лист1!$A:$E,COLUMN([6]Лист1!$C$4),0) -> >50 | I34: =VLOOKUP(A34,[7]Лист1!$A:$E,COLUMN([7]Лист1!$C$4),0) -> 0
A35: ASB24H1Z1R | C35: ASB24H1Z1R | F35: =VLOOKUP(A35,[5]Лист1!$A:$E,COLUMN([5]Лист1!$C$4),0) -> 0 | G35: =VLOOKUP(A35,[5]Лист1!$A:$E,COLUMN([5]Лист1!$D$526),0) -> >50 | H35: =VLOOKUP(A35,[6]Лист1!$A:$E,COLUMN([6]Лист1!$C$4),0) -> >50 | I35: =VLOOKUP(A35,[7]Лист1!$A:$E,COLUMN([7]Лист1!$C$4),0) -> 0
A36: МОДЕЛИ БЕЗ ИНВЕРТОРА
A37: ASX/ASB (серия F)
A38: ASX07F1 | C38: ASX07F1 | D38: =_xlfn.CONCAT(C38," / ",C39) -> ASX07F1 / ASB07F1 | E38: =VLOOKUP(A38,[4]RAC!$A:$K,COLUMN([4]RAC!$K$11),0) -> 19990 | F38: =VLOOKUP(A38,[5]Лист1!$A:$E,COLUMN([5]Лист1!$C$4),0) -> 0 | G38: =VLOOKUP(A38,[5]Лист1!$A:$E,COLUMN([5]Лист1!$D$526),0) -> 0 | H38: =VLOOKUP(A38,[6]Лист1!$A:$E,COLUMN([6]Лист1!$C$4),0) -> 0 | I38: =VLOOKUP(A38,[7]Лист1!$A:$E,COLUMN([7]Лист1!$C$4),0) -> 0
A39: ASB07F1 | C39: ASB07F1 | F39: =VLOOKUP(A39,[5]Лист1!$A:$E,COLUMN([5]Лист1!$C$4),0) -> 0 | G39: =VLOOKUP(A39,[5]Лист1!$A:$E,COLUMN([5]Лист1!$D$526),0) -> 0 | H39: =VLOOKUP(A39,[6]Лист1!$A:$E,COLUMN([6]Лист1!$C$4),0) -> 0 | I39: =VLOOKUP(A39,[7]Лист1!$A:$E,COLUMN([7]Лист1!$C$4),0) -> 0
A40: ASX09F1 | C40: ASX09F1 | D40: =_xlfn.CONCAT(C40," / ",C41) -> ASX09F1 / ASB09F1 | E40: =VLOOKUP(A40,[4]RAC!$A:$K,COLUMN([4]RAC!$K$11),0) -> 22190 | F40: =VLOOKUP(A40,[5]Лист1!$A:$E,COLUMN([5]Лист1!$C$4),0) -> 3 | G40: =VLOOKUP(A40,[5]Лист1!$A:$E,COLUMN([5]Лист1!$D$526),0) -> 0 | H40: =VLOOKUP(A40,[6]Лист1!$A:$E,COLUMN([6]Лист1!$C$4),0) -> 0 | I40: =VLOOKUP(A40,[7]Лист1!$A:$E,COLUMN([7]Лист1!$C$4),0) -> 0
A41: ASB09F1 | C41: ASB09F1 | F41: =VLOOKUP(A41,[5]Лист1!$A:$E,COLUMN([5]Лист1!$C$4),0) -> 3 | G41: =VLOOKUP(A41,[5]Лист1!$A:$E,COLUMN([5]Лист1!$D$526),0) -> 0 | H41: =VLOOKUP(A41,[6]Лист1!$A:$E,COLUMN([6]Лист1!$C$4),0) -> 0 | I41: =VLOOKUP(A41,[7]Лист1!$A:$E,COLUMN([7]Лист1!$C$4),0) -> 0
A42: ASX12F1 | C42: ASX12F1 | D42: =_xlfn.CONCAT(C42," / ",C43) -> ASX12F1 / ASB12F1 | E42: =VLOOKUP(A42,[4]RAC!$A:$K,COLUMN([4]RAC!$K$11),0) -> 30190 | F42: =VLOOKUP(A42,[5]Лист1!$A:$E,COLUMN([5]Лист1!$C$4),0) -> 1 | G42: =VLOOKUP(A42,[5]Лист1!$A:$E,COLUMN([5]Лист1!$D$526),0) -> >50 | H42: =VLOOKUP(A42,[6]Лист1!$A:$E,COLUMN([6]Лист1!$C$4),0) -> >50 | I42: =VLOOKUP(A42,[7]Лист1!$A:$E,COLUMN([7]Лист1!$C$4),0) -> 0
A43: ASB12F1 | C43: ASB12F1 | F43: =VLOOKUP(A43,[5]Лист1!$A:$E,COLUMN([5]Лист1!$C$4),0) -> 3 | G43: =VLOOKUP(A43,[5]Лист1!$A:$E,COLUMN([5]Лист1!$D$526),0) -> >50 | H43: =VLOOKUP(A43,[6]Лист1!$A:$E,COLUMN([6]Лист1!$C$4),0) -> >50 | I43: =VLOOKUP(A43,[7]Лист1!$A:$E,COLUMN([7]Лист1!$C$4),0) -> 0
A44: ASX18F1 | C44: ASX18F1 | D44: =_xlfn.CONCAT(C44," / ",C45) -> ASX18F1 / ASB18F1 | E44: =VLOOKUP(A44,[4]RAC!$A:$K,COLUMN([4]RAC!$K$11),0) -> 49890 | F44: =VLOOKUP(A44,[5]Лист1!$A:$E,COLUMN([5]Лист1!$C$4),0) -> 0 | G44: =VLOOKUP(A44,[5]Лист1!$A:$E,COLUMN([5]Лист1!$D$526),0) -> 5 | H44: =VLOOKUP(A44,[6]Лист1!$A:$E,COLUMN([6]Лист1!$C$4),0) -> 2 | I44: =VLOOKUP(A44,[7]Лист1!$A:$E,COLUMN([7]Лист1!$C$4),0) -> 0
A45: ASB18F1 | C45: ASB18F1 | F45: =VLOOKUP(A45,[5]Лист1!$A:$E,COLUMN([5]Лист1!$C$4),0) -> 0 | G45: =VLOOKUP(A45,[5]Лист1!$A:$E,COLUMN([5]Лист1!$D$526),0) -> 1 | H45: =VLOOKUP(A45,[6]Лист1!$A:$E,COLUMN([6]Лист1!$C$4),0) -> 0 | I45: =VLOOKUP(A45,[7]Лист1!$A:$E,COLUMN([7]Лист1!$C$4),0) -> 0
A46: ASX24F1 | C46: ASX24F1 | D46: =_xlfn.CONCAT(C46," / ",C47) -> ASX24F1 / ASB24F1 | E46: =VLOOKUP(A46,[4]RAC!$A:$K,COLUMN([4]RAC!$K$11),0) -> 62790 | F46: =VLOOKUP(A46,[5]Лист1!$A:$E,COLUMN([5]Лист1!$C$4),0) -> 7 | G46: =VLOOKUP(A46,[5]Лист1!$A:$E,COLUMN([5]Лист1!$D$526),0) -> 12 | H46: =VLOOKUP(A46,[6]Лист1!$A:$E,COLUMN([6]Лист1!$C$4),0) -> 0 | I46: =VLOOKUP(A46,[7]Лист1!$A:$E,COLUMN([7]Лист1!$C$4),0) -> 0
A47: ASB24F1 | C47: ASB24F1 | F47: =VLOOKUP(A47,[5]Лист1!$A:$E,COLUMN([5]Лист1!$C$4),0) -> 5 | G47: =VLOOKUP(A47,[5]Лист1!$A:$E,COLUMN([5]Лист1!$D$526),0) -> 12 | H47: =VLOOKUP(A47,[6]Лист1!$A:$E,COLUMN([6]Лист1!$C$4),0) -> 0 | I47: =VLOOKUP(A47,[7]Лист1!$A:$E,COLUMN([7]Лист1!$C$4),0) -> 0
A48: ASX/ASB (серия H)
A49: ASX07H1R | C49: ASX07H1R | D49: =_xlfn.CONCAT(C49," / ",C50) -> ASX07H1R / ASB07H1R | E49: =VLOOKUP(A49,[4]RAC!$A:$K,COLUMN([4]RAC!$K$11),0) -> 20790 | F49: =VLOOKUP(A49,[5]Лист1!$A:$E,COLUMN([5]Лист1!$C$4),0) -> >50 | G49: =VLOOKUP(A49,[5]Лист1!$A:$E,COLUMN([5]Лист1!$D$526),0) -> 0 | H49: =VLOOKUP(A49,[6]Лист1!$A:$E,COLUMN([6]Лист1!$C$4),0) -> 0 | I49: =VLOOKUP(A49,[7]Лист1!$A:$E,COLUMN([7]Лист1!$C$4),0) -> 0
A50: ASB07H1R | C50: ASB07H1R | F50: =VLOOKUP(A50,[5]Лист1!$A:$E,COLUMN([5]Лист1!$C$4),0) -> >50 | G50: =VLOOKUP(A50,[5]Лист1!$A:$E,COLUMN([5]Лист1!$D$526),0) -> 0 | H50: =VLOOKUP(A50,[6]Лист1!$A:$E,COLUMN([6]Лист1!$C$4),0) -> 0 | I50: =VLOOKUP(A50,[7]Лист1!$A:$E,COLUMN([7]Лист1!$C$4),0) -> 0
A51: ASX09H1R | C51: ASX09H1R | D51: =_xlfn.CONCAT(C51," / ",C52) -> ASX09H1R / ASB09H1R | E51: =VLOOKUP(A51,[4]RAC!$A:$K,COLUMN([4]RAC!$K$11),0) -> 22890 | F51: =VLOOKUP(A51,[5]Лист1!$A:$E,COLUMN([5]Лист1!$C$4),0) -> >50 | G51: =VLOOKUP(A51,[5]Лист1!$A:$E,COLUMN([5]Лист1!$D$526),0) -> 16 | H51: =VLOOKUP(A51,[6]Лист1!$A:$E,COLUMN([6]Лист1!$C$4),0) -> 16 | I51: =VLOOKUP(A51,[7]Лист1!$A:$E,COLUMN([7]Лист1!$C$4),0) -> 0
A52: ASB09H1R | C52: ASB09H1R | F52: =VLOOKUP(A52,[5]Лист1!$A:$E,COLUMN([5]Лист1!$C$4),0) -> >50 | G52: =VLOOKUP(A52,[5]Лист1!$A:$E,COLUMN([5]Лист1!$D$526),0) -> 9 | H52: =VLOOKUP(A52,[6]Лист1!$A:$E,COLUMN([6]Лист1!$C$4),0) -> 9 | I52: =VLOOKUP(A52,[7]Лист1!$A:$E,COLUMN([7]Лист1!$C$4),0) -> 0
A53: ASX12H1R | C53: ASX12H1R | D53: =_xlfn.CONCAT(C53," / ",C54) -> ASX12H1R / ASB12H1R | E53: =VLOOKUP(A53,[4]RAC!$A:$K,COLUMN([4]RAC!$K$11),0) -> 31190 | F53: =VLOOKUP(A53,[5]Лист1!$A:$E,COLUMN([5]Лист1!$C$4),0) -> >50 | G53: =VLOOKUP(A53,[5]Лист1!$A:$E,COLUMN([5]Лист1!$D$526),0) -> >50 | H53: =VLOOKUP(A53,[6]Лист1!$A:$E,COLUMN([6]Лист1!$C$4),0) -> >50 | I53: =VLOOKUP(A53,[7]Лист1!$A:$E,COLUMN([7]Лист1!$C$4),0) -> >50
A54: ASB12H1R | C54: ASB12H1R | F54: =VLOOKUP(A54,[5]Лист1!$A:$E,COLUMN([5]Лист1!$C$4),0) -> >50 | G54: =VLOOKUP(A54,[5]Лист1!$A:$E,COLUMN([5]Лист1!$D$526),0) -> >50 | H54: =VLOOKUP(A54,[6]Лист1!$A:$E,COLUMN([6]Лист1!$C$4),0) -> >50 | I54: =VLOOKUP(A54,[7]Лист1!$A:$E,COLUMN([7]Лист1!$C$4),0) -> >50
A55: ASX18H1R | C55: ASX18H1R | D55: =_xlfn.CONCAT(C55," / ",C56) -> ASX18H1R / ASB18H1R | E55: =VLOOKUP(A55,[4]RAC!$A:$K,COLUMN([4]RAC!$K$11),0) -> 51490 | F55: =VLOOKUP(A55,[5]Лист1!$A:$E,COLUMN([5]Лист1!$C$4),0) -> 1 | G55: =VLOOKUP(A55,[5]Лист1!$A:$E,COLUMN([5]Лист1!$D$526),0) -> 43 | H55: =VLOOKUP(A55,[6]Лист1!$A:$E,COLUMN([6]Лист1!$C$4),0) -> 43 | I55: =VLOOKUP(A55,[7]Лист1!$A:$E,COLUMN([7]Лист1!$C$4),0) -> 0
A56: ASB18H1R | C56: ASB18H1R | F56: =VLOOKUP(A56,[5]Лист1!$A:$E,COLUMN([5]Лист1!$C$4),0) -> 0 | G56: =VLOOKUP(A56,[5]Лист1!$A:$E,COLUMN([5]Лист1!$D$526),0) -> >50 | H56: =VLOOKUP(A56,[6]Лист1!$A:$E,COLUMN([6]Лист1!$C$4),0) -> >50 | I56: =VLOOKUP(A56,[7]Лист1!$A:$E,COLUMN([7]Лист1!$C$4),0) -> 0
A57: ASX24H1R | C57: ASX24H1R | D57: =_xlfn.CONCAT(C57," / ",C58) -> ASX24H1R / ASB24H1R | E57: =VLOOKUP(A57,[4]RAC!$A:$K,COLUMN([4]RAC!$K$11),0) -> 64690 | F57: =VLOOKUP(A57,[5]Лист1!$A:$E,COLUMN([5]Лист1!$C$4),0) -> 0 | G57: =VLOOKUP(A57,[5]Лист1!$A:$E,COLUMN([5]Лист1!$D$526),0) -> 42 | H57: =VLOOKUP(A57,[6]Лист1!$A:$E,COLUMN([6]Лист1!$C$4),0) -> 42 | I57: =VLOOKUP(A57,[7]Лист1!$A:$E,COLUMN([7]Лист1!$C$4),0) -> 0
A58: ASB24H1R | C58: ASB24H1R | F58: =VLOOKUP(A58,[5]Лист1!$A:$E,COLUMN([5]Лист1!$C$4),0) -> 0 | G58: =VLOOKUP(A58,[5]Лист1!$A:$E,COLUMN([5]Лист1!$D$526),0) -> 42 | H58: =VLOOKUP(A58,[6]Лист1!$A:$E,COLUMN([6]Лист1!$C$4),0) -> 42 | I58: =VLOOKUP(A58,[7]Лист1!$A:$E,COLUMN([7]Лист1!$C$4),0) -> 0
A59: МУЛЬТИСПИТ-СИСТЕМЫ
A60: Наружные блоки мульти-сплит-систем
A61: ASB14M2Z1R1 | C61: ASB14M2Z1R1 | D61: =A61 -> ASB14M2Z1R1 | E61: =VLOOKUP(A61,[4]MULTI!$A:$M,COLUMN([4]MULTI!$M$11),0) -> 47490 | F61: =VLOOKUP(A61,[5]Лист1!$A:$E,COLUMN([5]Лист1!$C$4),0) -> 0 | G61: =VLOOKUP(A61,[5]Лист1!$A:$E,COLUMN([5]Лист1!$D$526),0) -> 0 | H61: =VLOOKUP(A61,[6]Лист1!$A:$E,COLUMN([6]Лист1!$C$4),0) -> 0 | I61: =VLOOKUP(A61,[7]Лист1!$A:$E,COLUMN([7]Лист1!$C$4),0) -> 0
A62: ASB14M2Z1R | C62: ASB14M2Z1R | D62: =A62 -> ASB14M2Z1R | E62: =VLOOKUP(A62,[4]MULTI!$A:$M,COLUMN([4]MULTI!$M$11),0) -> 46290 | F62: =VLOOKUP(A62,[5]Лист1!$A:$E,COLUMN([5]Лист1!$C$4),0) -> 0 | G62: =VLOOKUP(A62,[5]Лист1!$A:$E,COLUMN([5]Лист1!$D$526),0) -> 0 | H62: =VLOOKUP(A62,[6]Лист1!$A:$E,COLUMN([6]Лист1!$C$4),0) -> 0 | I62: =VLOOKUP(A62,[7]Лист1!$A:$E,COLUMN([7]Лист1!$C$4),0) -> 0
A63: ASB18M2Z1R | C63: ASB18M2Z1R | D63: =A63 -> ASB18M2Z1R | E63: =VLOOKUP(A63,[4]MULTI!$A:$M,COLUMN([4]MULTI!$M$11),0) -> 54190 | F63: =VLOOKUP(A63,[5]Лист1!$A:$E,COLUMN([5]Лист1!$C$4),0) -> 0 | G63: =VLOOKUP(A63,[5]Лист1!$A:$E,COLUMN([5]Лист1!$D$526),0) -> 42 | H63: =VLOOKUP(A63,[6]Лист1!$A:$E,COLUMN([6]Лист1!$C$4),0) -> 38 | I63: =VLOOKUP(A63,[7]Лист1!$A:$E,COLUMN([7]Лист1!$C$4),0) -> 0
A64: ASB21M3Z1R | C64: ASB21M3Z1R | D64: =A64 -> ASB21M3Z1R | E64: =VLOOKUP(A64,[4]MULTI!$A:$M,COLUMN([4]MULTI!$M$11),0) -> 66590 | F64: =VLOOKUP(A64,[5]Лист1!$A:$E,COLUMN([5]Лист1!$C$4),0) -> 0 | G64: =VLOOKUP(A64,[5]Лист1!$A:$E,COLUMN([5]Лист1!$D$526),0) -> 0 | H64: =VLOOKUP(A64,[6]Лист1!$A:$E,COLUMN([6]Лист1!$C$4),0) -> 0 | I64: =VLOOKUP(A64,[7]Лист1!$A:$E,COLUMN([7]Лист1!$C$4),0) -> 0
A65: ASB27M3Z1R | C65: ASB27M3Z1R | D65: =A65 -> ASB27M3Z1R | E65: =VLOOKUP(A65,[4]MULTI!$A:$M,COLUMN([4]MULTI!$M$11),0) -> 77690 | F65: =VLOOKUP(A65,[5]Лист1!$A:$E,COLUMN([5]Лист1!$C$4),0) -> 0 | G65: =VLOOKUP(A65,[5]Лист1!$A:$E,COLUMN([5]Лист1!$D$526),0) -> 28 | H65: =VLOOKUP(A65,[6]Лист1!$A:$E,COLUMN([6]Лист1!$C$4),0) -> 0 | I65: =VLOOKUP(A65,[7]Лист1!$A:$E,COLUMN([7]Лист1!$C$4),0) -> 0
A66: ASB32M4Z1R | C66: ASB32M4Z1R | D66: =A66 -> ASB32M4Z1R | E66: =VLOOKUP(A66,[4]MULTI!$A:$M,COLUMN([4]MULTI!$M$11),0) -> 108790 | F66: =VLOOKUP(A66,[5]Лист1!$A:$E,COLUMN([5]Лист1!$C$4),0) -> 0 | G66: =VLOOKUP(A66,[5]Лист1!$A:$E,COLUMN([5]Лист1!$D$526),0) -> >50 | H66: =VLOOKUP(A66,[6]Лист1!$A:$E,COLUMN([6]Лист1!$C$4),0) -> 32 | I66: =VLOOKUP(A66,[7]Лист1!$A:$E,COLUMN([7]Лист1!$C$4),0) -> 0
A67: ASB42M5Z1R | C67: ASB42M5Z1R | D67: =A67 -> ASB42M5Z1R | E67: =VLOOKUP(A67,[4]MULTI!$A:$M,COLUMN([4]MULTI!$M$11),0) -> 130990 | F67: =VLOOKUP(A67,[5]Лист1!$A:$E,COLUMN([5]Лист1!$C$4),0) -> 0 | G67: =VLOOKUP(A67,[5]Лист1!$A:$E,COLUMN([5]Лист1!$D$526),0) -> >50 | H67: =VLOOKUP(A67,[6]Лист1!$A:$E,COLUMN([6]Лист1!$C$4),0) -> >50 | I67: =VLOOKUP(A67,[7]Лист1!$A:$E,COLUMN([7]Лист1!$C$4),0) -> 0
A68: Внутренние блоки настенного типа
A69: ASX07MH1Z1R | C69: ASX07MH1Z1R | D69: =A69 -> ASX07MH1Z1R | E69: =VLOOKUP(A69,[4]MULTI!$A:$M,COLUMN([4]MULTI!$M$11),0) -> 14290 | F69: =VLOOKUP(A69,[5]Лист1!$A:$E,COLUMN([5]Лист1!$C$4),0) -> 0 | G69: =VLOOKUP(A69,[5]Лист1!$A:$E,COLUMN([5]Лист1!$D$526),0) -> >50 | H69: =VLOOKUP(A69,[6]Лист1!$A:$E,COLUMN([6]Лист1!$C$4),0) -> >50 | I69: =VLOOKUP(A69,[7]Лист1!$A:$E,COLUMN([7]Лист1!$C$4),0) -> 45
A70: ASX09MH1Z1R | C70: ASX09MH1Z1R | D70: =A70 -> ASX09MH1Z1R | E70: =VLOOKUP(A70,[4]MULTI!$A:$M,COLUMN([4]MULTI!$M$11),0) -> 14990 | F70: =VLOOKUP(A70,[5]Лист1!$A:$E,COLUMN([5]Лист1!$C$4),0) -> 0 | G70: =VLOOKUP(A70,[5]Лист1!$A:$E,COLUMN([5]Лист1!$D$526),0) -> 6 | H70: =VLOOKUP(A70,[6]Лист1!$A:$E,COLUMN([6]Лист1!$C$4),0) -> 3 | I70: =VLOOKUP(A70,[7]Лист1!$A:$E,COLUMN([7]Лист1!$C$4),0) -> 0
A71: ASX12MH1Z1R | C71: ASX12MH1Z1R | D71: =A71 -> ASX12MH1Z1R | E71: =VLOOKUP(A71,[4]MULTI!$A:$M,COLUMN([4]MULTI!$M$11),0) -> 16590 | F71: =VLOOKUP(A71,[5]Лист1!$A:$E,COLUMN([5]Лист1!$C$4),0) -> 0 | G71: =VLOOKUP(A71,[5]Лист1!$A:$E,COLUMN([5]Лист1!$D$526),0) -> 25 | H71: =VLOOKUP(A71,[6]Лист1!$A:$E,COLUMN([6]Лист1!$C$4),0) -> 0 | I71: =VLOOKUP(A71,[7]Лист1!$A:$E,COLUMN([7]Лист1!$C$4),0) -> 0
A72: ASX18MH1Z1R | C72: ASX18MH1Z1R | D72: =A72 -> ASX18MH1Z1R | E72: =VLOOKUP(A72,[4]MULTI!$A:$M,COLUMN([4]MULTI!$M$11),0) -> 19090 | F72: =VLOOKUP(A72,[5]Лист1!$A:$E,COLUMN([5]Лист1!$C$4),0) -> 0 | G72: =VLOOKUP(A72,[5]Лист1!$A:$E,COLUMN([5]Лист1!$D$526),0) -> >50 | H72: =VLOOKUP(A72,[6]Лист1!$A:$E,COLUMN([6]Лист1!$C$4),0) -> 44 | I72: =VLOOKUP(A72,[7]Лист1!$A:$E,COLUMN([7]Лист1!$C$4),0) -> 0
A73: ASX07MHZ1R | C73: ASX07MHZ1R | D73: =A73 -> ASX07MHZ1R | E73: =VLOOKUP(A73,[4]MULTI!$A:$M,COLUMN([4]MULTI!$M$11),0) -> 13790 | F73: =VLOOKUP(A73,[5]Лист1!$A:$E,COLUMN([5]Лист1!$C$4),0) -> 1 | G73: =VLOOKUP(A73,[5]Лист1!$A:$E,COLUMN([5]Лист1!$D$526),0) -> >50 | H73: =VLOOKUP(A73,[6]Лист1!$A:$E,COLUMN([6]Лист1!$C$4),0) -> >50 | I73: =VLOOKUP(A73,[7]Лист1!$A:$E,COLUMN([7]Лист1!$C$4),0) -> 0
A74: ASX09MHZ1R | C74: ASX09MHZ1R | D74: =A74 -> ASX09MHZ1R | E74: =VLOOKUP(A74,[4]MULTI!$A:$M,COLUMN([4]MULTI!$M$11),0) -> 14590 | F74: =VLOOKUP(A74,[5]Лист1!$A:$E,COLUMN([5]Лист1!$C$4),0) -> 0 | G74: =VLOOKUP(A74,[5]Лист1!$A:$E,COLUMN([5]Лист1!$D$526),0) -> 0 | H74: =VLOOKUP(A74,[6]Лист1!$A:$E,COLUMN([6]Лист1!$C$4),0) -> 0 | I74: =VLOOKUP(A74,[7]Лист1!$A:$E,COLUMN([7]Лист1!$C$4),0) -> 0
A75: ASX12MHZ1R | C75: ASX12MHZ1R | D75: =A75 -> ASX12MHZ1R | E75: =VLOOKUP(A75,[4]MULTI!$A:$M,COLUMN([4]MULTI!$M$11),0) -> 16090 | F75: =VLOOKUP(A75,[5]Лист1!$A:$E,COLUMN([5]Лист1!$C$4),0) -> 2 | G75: =VLOOKUP(A75,[5]Лист1!$A:$E,COLUMN([5]Лист1!$D$526),0) -> 41 | H75: =VLOOKUP(A75,[6]Лист1!$A:$E,COLUMN([6]Лист1!$C$4),0) -> 41 | I75: =VLOOKUP(A75,[7]Лист1!$A:$E,COLUMN([7]Лист1!$C$4),0) -> 0
A76: ASX18MHZ1R | C76: ASX18MHZ1R | D76: =A76 -> ASX18MHZ1R | E76: =VLOOKUP(A76,[4]MULTI!$A:$M,COLUMN([4]MULTI!$M$11),0) -> 18590 | F76: =VLOOKUP(A76,[5]Лист1!$A:$E,COLUMN([5]Лист1!$C$4),0) -> 5 | G76: =VLOOKUP(A76,[5]Лист1!$A:$E,COLUMN([5]Лист1!$D$526),0) -> 35 | H76: =VLOOKUP(A76,[6]Лист1!$A:$E,COLUMN([6]Лист1!$C$4),0) -> 35 | I76: =VLOOKUP(A76,[7]Лист1!$A:$E,COLUMN([7]Лист1!$C$4),0) -> 0
A77: Внутренние блоки канального типа
A78: ASX09MCZ1R1 | C78: ASX09MCZ1R1 | D78: =A78 -> ASX09MCZ1R1 | E78: =VLOOKUP(A78,[4]MULTI!$A:$M,COLUMN([4]MULTI!$M$11),0) -> 32690 | F78: =VLOOKUP(A78,[5]Лист1!$A:$E,COLUMN([5]Лист1!$C$4),0) -> 1 | G78: =VLOOKUP(A78,[5]Лист1!$A:$E,COLUMN([5]Лист1!$D$526),0) -> 32 | H78: =VLOOKUP(A78,[6]Лист1!$A:$E,COLUMN([6]Лист1!$C$4),0) -> 13 | I78: =VLOOKUP(A78,[7]Лист1!$A:$E,COLUMN([7]Лист1!$C$4),0) -> 19
A79: ASX12MCZ1R1 | C79: ASX12MCZ1R1 | D79: =A79 -> ASX12MCZ1R1 | E79: =VLOOKUP(A79,[4]MULTI!$A:$M,COLUMN([4]MULTI!$M$11),0) -> 34690 | F79: =VLOOKUP(A79,[5]Лист1!$A:$E,COLUMN([5]Лист1!$C$4),0) -> 0 | G79: =VLOOKUP(A79,[5]Лист1!$A:$E,COLUMN([5]Лист1!$D$526),0) -> 37 | H79: =VLOOKUP(A79,[6]Лист1!$A:$E,COLUMN([6]Лист1!$C$4),0) -> 20 | I79: =VLOOKUP(A79,[7]Лист1!$A:$E,COLUMN([7]Лист1!$C$4),0) -> 17
A80: ASX18MCZ1R1 | C80: ASX18MCZ1R1 | D80: =A80 -> ASX18MCZ1R1 | E80: =VLOOKUP(A80,[4]MULTI!$A:$M,COLUMN([4]MULTI!$M$11),0) -> 37790 | F80: =VLOOKUP(A80,[5]Лист1!$A:$E,COLUMN([5]Лист1!$C$4),0) -> 0 | G80: =VLOOKUP(A80,[5]Лист1!$A:$E,COLUMN([5]Лист1!$D$526),0) -> 34 | H80: =VLOOKUP(A80,[6]Лист1!$A:$E,COLUMN([6]Лист1!$C$4),0) -> 18 | I80: =VLOOKUP(A80,[7]Лист1!$A:$E,COLUMN([7]Лист1!$C$4),0) -> 16
A81: ASX09MCZ1R | C81: ASX09MCZ1R | D81: =A81 -> ASX09MCZ1R | E81: =VLOOKUP(A81,[4]MULTI!$A:$M,COLUMN([4]MULTI!$M$11),0) -> 30990 | F81: =VLOOKUP(A81,[5]Лист1!$A:$E,COLUMN([5]Лист1!$C$4),0) -> 3 | G81: =VLOOKUP(A81,[5]Лист1!$A:$E,COLUMN([5]Лист1!$D$526),0) -> 25 | H81: =VLOOKUP(A81,[6]Лист1!$A:$E,COLUMN([6]Лист1!$C$4),0) -> 25 | I81: =VLOOKUP(A81,[7]Лист1!$A:$E,COLUMN([7]Лист1!$C$4),0) -> 0
A82: ASX12MCZ1R | C82: ASX12MCZ1R | D82: =A82 -> ASX12MCZ1R | E82: =VLOOKUP(A82,[4]MULTI!$A:$M,COLUMN([4]MULTI!$M$11),0) -> 32690 | F82: =VLOOKUP(A82,[5]Лист1!$A:$E,COLUMN([5]Лист1!$C$4),0) -> 1 | G82: =VLOOKUP(A82,[5]Лист1!$A:$E,COLUMN([5]Лист1!$D$526),0) -> 9 | H82: =VLOOKUP(A82,[6]Лист1!$A:$E,COLUMN([6]Лист1!$C$4),0) -> 9 | I82: =VLOOKUP(A82,[7]Лист1!$A:$E,COLUMN([7]Лист1!$C$4),0) -> 0
A83: ASX18MCZ1R | C83: ASX18MCZ1R | D83: =A83 -> ASX18MCZ1R | E83: =VLOOKUP(A83,[4]MULTI!$A:$M,COLUMN([4]MULTI!$M$11),0) -> 35590 | F83: =VLOOKUP(A83,[5]Лист1!$A:$E,COLUMN([5]Лист1!$C$4),0) -> 0 | G83: =VLOOKUP(A83,[5]Лист1!$A:$E,COLUMN([5]Лист1!$D$526),0) -> 12 | H83: =VLOOKUP(A83,[6]Лист1!$A:$E,COLUMN([6]Лист1!$C$4),0) -> 12 | I83: =VLOOKUP(A83,[7]Лист1!$A:$E,COLUMN([7]Лист1!$C$4),0) -> 0
A84: Внутренние блоки канального типа
A85: ASX09MDZ1R1 | C85: ASX09MDZ1R1 | D85: =A85 -> ASX09MDZ1R1 | E85: =VLOOKUP(A85,[4]MULTI!$A:$M,COLUMN([4]MULTI!$M$11),0) -> 30690 | F85: =VLOOKUP(A85,[5]Лист1!$A:$E,COLUMN([5]Лист1!$C$4),0) -> 1 | G85: =VLOOKUP(A85,[5]Лист1!$A:$E,COLUMN([5]Лист1!$D$526),0) -> >50 | H85: =VLOOKUP(A85,[6]Лист1!$A:$E,COLUMN([6]Лист1!$C$4),0) -> 24 | I85: =VLOOKUP(A85,[7]Лист1!$A:$E,COLUMN([7]Лист1!$C$4),0) -> 36
A86: ASX12MDZ1R1 | C86: ASX12MDZ1R1 | D86: =A86 -> ASX12MDZ1R1 | E86: =VLOOKUP(A86,[4]MULTI!$A:$M,COLUMN([4]MULTI!$M$11),0) -> 31690 | F86: =VLOOKUP(A86,[5]Лист1!$A:$E,COLUMN([5]Лист1!$C$4),0) -> 0 | G86: =VLOOKUP(A86,[5]Лист1!$A:$E,COLUMN([5]Лист1!$D$526),0) -> 40 | H86: =VLOOKUP(A86,[6]Лист1!$A:$E,COLUMN([6]Лист1!$C$4),0) -> 20 | I86: =VLOOKUP(A86,[7]Лист1!$A:$E,COLUMN([7]Лист1!$C$4),0) -> 19
A87: ASX18MDZ1R1 | C87: ASX18MDZ1R1 | D87: =A87 -> ASX18MDZ1R1 | E87: =VLOOKUP(A87,[4]MULTI!$A:$M,COLUMN([4]MULTI!$M$11),0) -> 39190 | F87: =VLOOKUP(A87,[5]Лист1!$A:$E,COLUMN([5]Лист1!$C$4),0) -> 0 | G87: =VLOOKUP(A87,[5]Лист1!$A:$E,COLUMN([5]Лист1!$D$526),0) -> 36 | H87: =VLOOKUP(A87,[6]Лист1!$A:$E,COLUMN([6]Лист1!$C$4),0) -> 16 | I87: =VLOOKUP(A87,[7]Лист1!$A:$E,COLUMN([7]Лист1!$C$4),0) -> 19
A88: ASX09MDZ1R | C88: ASX09MDZ1R | D88: =A88 -> ASX09MDZ1R | E88: =VLOOKUP(A88,[4]MULTI!$A:$M,COLUMN([4]MULTI!$M$11),0) -> 29190 | F88: =VLOOKUP(A88,[5]Лист1!$A:$E,COLUMN([5]Лист1!$C$4),0) -> 3 | G88: =VLOOKUP(A88,[5]Лист1!$A:$E,COLUMN([5]Лист1!$D$526),0) -> 32 | H88: =VLOOKUP(A88,[6]Лист1!$A:$E,COLUMN([6]Лист1!$C$4),0) -> 32 | I88: =VLOOKUP(A88,[7]Лист1!$A:$E,COLUMN([7]Лист1!$C$4),0) -> 0
A89: ASX12MDZ1R | C89: ASX12MDZ1R | D89: =A89 -> ASX12MDZ1R | E89: =VLOOKUP(A89,[4]MULTI!$A:$M,COLUMN([4]MULTI!$M$11),0) -> 30090 | F89: =VLOOKUP(A89,[5]Лист1!$A:$E,COLUMN([5]Лист1!$C$4),0) -> 0 | G89: =VLOOKUP(A89,[5]Лист1!$A:$E,COLUMN([5]Лист1!$D$526),0) -> 12 | H89: =VLOOKUP(A89,[6]Лист1!$A:$E,COLUMN([6]Лист1!$C$4),0) -> 12 | I89: =VLOOKUP(A89,[7]Лист1!$A:$E,COLUMN([7]Лист1!$C$4),0) -> 0
A90: ASX18MDZ1R | C90: ASX18MDZ1R | D90: =A90 -> ASX18MDZ1R | E90: =VLOOKUP(A90,[4]MULTI!$A:$M,COLUMN([4]MULTI!$M$11),0) -> 37090 | F90: =VLOOKUP(A90,[5]Лист1!$A:$E,COLUMN([5]Лист1!$C$4),0) -> 1 | G90: =VLOOKUP(A90,[5]Лист1!$A:$E,COLUMN([5]Лист1!$D$526),0) -> 10 | H90: =VLOOKUP(A90,[6]Лист1!$A:$E,COLUMN([6]Лист1!$C$4),0) -> 10 | I90: =VLOOKUP(A90,[7]Лист1!$A:$E,COLUMN([7]Лист1!$C$4),0) -> 0
A91: АКСЕССУАРЫ ДЛЯ МУЛЬТИ-СПЛИТ-СИСТЕМ
A92: AWC-M20 | B92: Проводной пульт управления для кассетных и канальных блоков AWC-M20 | E92: =VLOOKUP(A92,[4]MULTI!$A:$M,COLUMN([4]MULTI!$M$11),0) -> 6900 | F92: =VLOOKUP(A92,[5]Лист1!$A:$E,COLUMN([5]Лист1!$C$4),0) -> >50 | G92: =VLOOKUP(A92,[5]Лист1!$A:$E,COLUMN([5]Лист1!$D$526),0) -> 0 | H92: =VLOOKUP(A92,[6]Лист1!$A:$E,COLUMN([6]Лист1!$C$4),0) -> 0 | I92: =VLOOKUP(A92,[7]Лист1!$A:$E,COLUMN([7]Лист1!$C$4),0) -> 0

Sheet Ballu
A1: HC код комплекта | B1: HC код поблочно | C1: Модель поблочно | D1: Модель | E1: РИЦ | F1: Остаток
A2: ИНВЕРТОРНЫЕ МОДЕЛИ
A3: Ice Peak ERP Full DC Inverter / A+++ European Energy Efficiency edition
A4: НС-1688163 | C4: BSPKI-10HN8_V4 | D4: BSPKI-10HN8_V4 | E4: 59990 | F4: =VLOOKUP(A4,[8]Sheet1!$A:$J,COLUMN([8]Sheet1!$J$2),0) -> 0
A5: НС-1688164 | C5: BSPKI-13HN8_V4 | D5: BSPKI-13HN8_V4 | E5: 62990 | F5: =VLOOKUP(A5,[8]Sheet1!$A:$J,COLUMN([8]Sheet1!$J$2),0) -> 1
A6: НС-1688165 | C6: BSPKI-18HN8_V4 | D6: BSPKI-18HN8_V4 | E6: 105990 | F6: =VLOOKUP(A6,[8]Sheet1!$A:$J,COLUMN([8]Sheet1!$J$2),0) -> 45
A7: НС-1688166 | C7: BSPKI-24HN8_V4 | D7: BSPKI-24HN8_V4 | E7: 135990 | F7: =VLOOKUP(A7,[8]Sheet1!$A:$J,COLUMN([8]Sheet1!$J$2),0) -> 10
A8: Boho ERP Full DC Inverter / A+++ European Energy Efficiency edition
A9: НС-1434042 | C9: BSNI-10HN8 | D9: BSNI-10HN8 | E9: 59990 | F9: =VLOOKUP(A9,[8]Sheet1!$A:$J,COLUMN([8]Sheet1!$J$2),0) -> 127
A10: НС-1434043 | C10: BSNI-13HN8 | D10: BSNI-13HN8 | E10: 62990 | F10: =VLOOKUP(A10,[8]Sheet1!$A:$J,COLUMN([8]Sheet1!$J$2),0) -> 94
A11: Platinum ERP DC Inverter Black Edition / A+ European Energy Efficiency edition
A12: НС-1478047 | C12: BSPI-10HN8/BL/EU | D12: BSPI-10HN8/BL/EU | E12: 49990 | F12: =VLOOKUP(A12,[8]Sheet1!$A:$J,COLUMN([8]Sheet1!$J$2),0) -> 1218
A13: НС-1478059 | C13: BSPI-13HN8/BL/EU | D13: BSPI-13HN8/BL/EU | E13: 54990 | F13: =VLOOKUP(A13,[8]Sheet1!$A:$J,COLUMN([8]Sheet1!$J$2),0) -> 479
A14: Defender ERP DC Inverter / A++ European Energy Efficiency edition
A15: НС-1597634 | C15: BSHI-09HN8 | D15: BSHI-09HN8 | E15: 47990 | F15: =VLOOKUP(A15,[8]Sheet1!$A:$J,COLUMN([8]Sheet1!$J$2),0) -> 390
A16: НС-1597635 | C16: BSHI-12HN8 | D16: BSHI-12HN8 | E16: 53490 | F16: =VLOOKUP(A16,[8]Sheet1!$A:$J,COLUMN([8]Sheet1!$J$2),0) -> 216
A17: НС-1597636 | C17: BSHI-18HN8 | D17: BSHI-18HN8 | E17: 88990 | F17: =VLOOKUP(A17,[8]Sheet1!$A:$J,COLUMN([8]Sheet1!$J$2),0) -> 2
A18: НС-1597637 | C18: BSHI-24HN8 | D18: BSHI-24HN8 | E18: 110990 | F18: =VLOOKUP(A18,[8]Sheet1!$A:$J,COLUMN([8]Sheet1!$J$2),0) -> 19
A19: Platinum Evolution ERP DC Inverter / A++ European Energy Efficiency edition
A20: НС-1688175 | C20: BSUI-09HN8_V4 | D20: BSUI-09HN8_V4 | E20: 45990 | F20: =VLOOKUP(A20,[8]Sheet1!$A:$J,COLUMN([8]Sheet1!$J$2),0) -> 557
A21: НС-1688176 | C21: BSUI-12HN8_V4 | D21: BSUI-12HN8_V4 | E21: 51490 | F21: =VLOOKUP(A21,[8]Sheet1!$A:$J,COLUMN([8]Sheet1!$J$2),0) -> 25
A22: НС-1688177 | C22: BSUI-18HN8_V4 | D22: BSUI-18HN8_V4 | E22: 85990 | F22: =VLOOKUP(A22,[8]Sheet1!$A:$J,COLUMN([8]Sheet1!$J$2),0) -> 0
A23: НС-1688178 | C23: BSUI-24HN8_V4 | D23: BSUI-24HN8_V4 | E23: 107990 | F23: =VLOOKUP(A23,[8]Sheet1!$A:$J,COLUMN([8]Sheet1!$J$2),0) -> 90
A24: Greenland / ERP R32 DC Inverter A++ class
A25: НС-1408815 | C25: BSGRI-09HN8_22Y | D25: BSGRI-09HN8_22Y | E25: 49990 | F25: =VLOOKUP(A25,[8]Sheet1!$A:$J,COLUMN([8]Sheet1!$J$2),0) -> 1119
A26: НС-1408818 | C26: BSGRI-12HN8_22Y | D26: BSGRI-12HN8_22Y | E26: 55990 | F26: =VLOOKUP(A26,[8]Sheet1!$A:$J,COLUMN([8]Sheet1!$J$2),0) -> 520
A27: НС-1408821 | C27: BSGRI-18HN8_22Y | D27: BSGRI-18HN8_22Y | E27: 90990 | F27: =VLOOKUP(A27,[8]Sheet1!$A:$J,COLUMN([8]Sheet1!$J$2),0) -> 12
A28: НС-1408822 | C28: BSGRI-24HN8_22Y | D28: BSGRI-24HN8_22Y | E28: 113990 | F28: =VLOOKUP(A28,[8]Sheet1!$A:$J,COLUMN([8]Sheet1!$J$2),0) -> 76
A29: Tessey / Professional Protected A class DC inverter
A30: НС-1763718 | C30: BSTI-07HN8 | D30: BSTI-07HN8 | E30: 29990 | F30: =VLOOKUP(A30,[8]Sheet1!$A:$J,COLUMN([8]Sheet1!$J$2),0) -> 105
A31: НС-1763719 | C31: BSTI-09HN8 | D31: BSTI-09HN8 | E31: 32990 | F31: =VLOOKUP(A31,[8]Sheet1!$A:$J,COLUMN([8]Sheet1!$J$2),0) -> 67
A32: НС-1763720 | C32: BSTI-12HN8 | D32: BSTI-12HN8 | E32: 40490 | F32: =VLOOKUP(A32,[8]Sheet1!$A:$J,COLUMN([8]Sheet1!$J$2),0) -> 148
A33: НС-1763721 | C33: BSTI-18HN8 | D33: BSTI-18HN8 | E33: 70990 | F33: =VLOOKUP(A33,[8]Sheet1!$A:$J,COLUMN([8]Sheet1!$J$2),0) -> 44
A34: НС-1763722 | C34: BSTI-24HN8 | D34: BSTI-24HN8 | E34: 86990 | F34: =VLOOKUP(A34,[8]Sheet1!$A:$J,COLUMN([8]Sheet1!$J$2),0) -> 4
A35: ECO Smart / A class DC inverter
A36: НС-1690235 | C36: BSYI-08HN8_V4 | D36: BSYI-08HN8_V4 | E36: 30990 | F36: =VLOOKUP(A36,[8]Sheet1!$A:$J,COLUMN([8]Sheet1!$J$2),0) -> 0
A37: НС-1690257 | C37: BSYI-10HN8_V4 | D37: BSYI-10HN8_V4 | E37: 33990 | F37: =VLOOKUP(A37,[8]Sheet1!$A:$J,COLUMN([8]Sheet1!$J$2),0) -> 367
A38: НС-1690258 | C38: BSYI-12HN8_V4 | D38: BSYI-12HN8_V4 | E38: 41490 | F38: =VLOOKUP(A38,[8]Sheet1!$A:$J,COLUMN([8]Sheet1!$J$2),0) -> 0
A39: НС-1763004 | C39: BSYI-08HN8_V5 | D39: BSYI-08HN8_V5 | E39: 30990 | F39: =VLOOKUP(A39,[8]Sheet1!$A:$J,COLUMN([8]Sheet1!$J$2),0) -> 0
A40: НС-1763006 | C40: BSYI-10HN8_V5 | D40: BSYI-10HN8_V5 | E40: 33990 | F40: =VLOOKUP(A40,[8]Sheet1!$A:$J,COLUMN([8]Sheet1!$J$2),0) -> 10
A41: НС-1763007 | C41: BSYI-12HN8_V5 | D41: BSYI-12HN8_V5 | E41: 41490 | F41: =VLOOKUP(A41,[8]Sheet1!$A:$J,COLUMN([8]Sheet1!$J$2),0) -> 0
A42: НС-1763008 | C42: BSYI-18HN8_V5 | D42: BSYI-18HN8_V5 | E42: 71990 | F42: =VLOOKUP(A42,[8]Sheet1!$A:$J,COLUMN([8]Sheet1!$J$2),0) -> 0
A43: НС-1763010 | C43: BSYI-24HN8_V5 | D43: BSYI-24HN8_V5 | E43: 87990 | F43: =VLOOKUP(A43,[8]Sheet1!$A:$J,COLUMN([8]Sheet1!$J$2),0) -> 0
A44: Odyssey / A class DC inverter
A45: НС-1708362 | C45: BSOI-08HN8 | D45: BSOI-08HN8 | E45: 29990 | F45: =VLOOKUP(A45,[8]Sheet1!$A:$J,COLUMN([8]Sheet1!$J$2),0) -> 0
A46: НС-1708364 | C46: BSOI-10HN8 | D46: BSOI-10HN8 | E46: 32990 | F46: =VLOOKUP(A46,[8]Sheet1!$A:$J,COLUMN([8]Sheet1!$J$2),0) -> 798
A47: НС-1688436 | C47: BSOI-12HN8 | D47: BSOI-12HN8 | E47: 40490 | F47: =VLOOKUP(A47,[8]Sheet1!$A:$J,COLUMN([8]Sheet1!$J$2),0) -> 0
A48: НС-1688437 | C48: BSOI-18HN8 | D48: BSOI-18HN8 | E48: 70990 | F48: =VLOOKUP(A48,[8]Sheet1!$A:$J,COLUMN([8]Sheet1!$J$2),0) -> 0
A49: НС-1688438 | C49: BSOI-24HN8 | D49: BSOI-24HN8 | E49: 86990 | F49: =VLOOKUP(A49,[8]Sheet1!$A:$J,COLUMN([8]Sheet1!$J$2),0) -> 3
A50: Odyssey Pro ERP Full DC Inverter / A++ European Energy Efficiency edition
A51: НС-1762804 | C51: BSOI-08HN8/ERP | D51: BSOI-08HN8/ERP | E51: 30990 | F51: =VLOOKUP(A51,[8]Sheet1!$A:$J,COLUMN([8]Sheet1!$J$2),0) -> 0
A52: НС-1762807 | C52: BSOI-10HN8/ERP | D52: BSOI-10HN8/ERP | E52: 33990 | F52: =VLOOKUP(A52,[8]Sheet1!$A:$J,COLUMN([8]Sheet1!$J$2),0) -> 3450
A53: НС-1762812 | C53: BSOI-12HN8/ERP | D53: BSOI-12HN8/ERP | E53: 41490 | F53: =VLOOKUP(A53,[8]Sheet1!$A:$J,COLUMN([8]Sheet1!$J$2),0) -> 676
A54: НС-1762822 | C54: BSOI-18HN8/ERP | D54: BSOI-18HN8/ERP | E54: 71990 | F54: =VLOOKUP(A54,[8]Sheet1!$A:$J,COLUMN([8]Sheet1!$J$2),0) -> 0
A55: НС-1762828 | C55: BSOI-24HN8/ERP | D55: BSOI-24HN8/ERP | E55: 87990 | F55: =VLOOKUP(A55,[8]Sheet1!$A:$J,COLUMN([8]Sheet1!$J$2),0) -> 0
A56: Универсальный Wi-Fi модуль HOMMYN
A57: НС-1416708 | C57: HDN/WFN-02-01 | D57: HDN/WFN-02-01 | E57: 2190 | F57: =VLOOKUP(A57,[8]Sheet1!$A:$J,COLUMN([8]Sheet1!$J$2),0) -> 1213
A58: НС-1646329 | C58: HDN/WFN-02-02 | D58: HDN/WFN-02-02 | E58: 2690 | F58: =VLOOKUP(A58,[8]Sheet1!$A:$J,COLUMN([8]Sheet1!$J$2),0) -> 15
A59: НС-1535746 | C59: HCC-GR | D59: HCC-GR | E59: 670 | F59: =VLOOKUP(A59,[8]Sheet1!$A:$J,COLUMN([8]Sheet1!$J$2),0) -> 135
A60: НС-1535757 | C60: HCC-HI | D60: HCC-HI | E60: 670 | F60: =VLOOKUP(A60,[8]Sheet1!$A:$J,COLUMN([8]Sheet1!$J$2),0) -> 0
A61: МОДЕЛИ БЕЗ ИНВЕРТОРА
A62: Olympio Legend
A63: НС-1608691 | C63: BSW-07HN1_24Y | D63: BSW-07HN1_24Y | E63: 23990 | F63: =VLOOKUP(A63,[8]Sheet1!$A:$J,COLUMN([8]Sheet1!$J$2),0) -> 357
A64: НС-1608692 | C64: BSW-09HN1_24Y | D64: BSW-09HN1_24Y | E64: 25990 | F64: =VLOOKUP(A64,[8]Sheet1!$A:$J,COLUMN([8]Sheet1!$J$2),0) -> 0
A65: НС-1608693 | C65: BSW-12HN1_24Y | D65: BSW-12HN1_24Y | E65: 35490 | F65: =VLOOKUP(A65,[8]Sheet1!$A:$J,COLUMN([8]Sheet1!$J$2),0) -> 154
A66: НС-1608694 | C66: BSW-18HN1_24Y | D66: BSW-18HN1_24Y | E66: 58490 | F66: =VLOOKUP(A66,[8]Sheet1!$A:$J,COLUMN([8]Sheet1!$J$2),0) -> 191
A67: НС-1608695 | C67: BSW-24HN1_24Y | D67: BSW-24HN1_24Y | E67: 73990 | F67: =VLOOKUP(A67,[8]Sheet1!$A:$J,COLUMN([8]Sheet1!$J$2),0) -> 0
A68: НС-1608696 | C68: BSW-30HN1_24Y | D68: BSW-30HN1_24Y | E68: 82990 | F68: =VLOOKUP(A68,[8]Sheet1!$A:$J,COLUMN([8]Sheet1!$J$2),0) -> 63
A69: Tessey
A70: НС-1763729 | C70: BST-07HN1 | D70: BST-07HN1 | E70: 23990 | F70: =VLOOKUP(A70,[8]Sheet1!$A:$J,COLUMN([8]Sheet1!$J$2),0) -> 0
A71: НС-1763730 | C71: BST-09HN1 | D71: BST-09HN1 | E71: 25990 | F71: =VLOOKUP(A71,[8]Sheet1!$A:$J,COLUMN([8]Sheet1!$J$2),0) -> 0
A72: НС-1763731 | C72: BST-12HN1 | D72: BST-12HN1 | E72: 35490 | F72: =VLOOKUP(A72,[8]Sheet1!$A:$J,COLUMN([8]Sheet1!$J$2),0) -> 0
A73: НС-1763732 | C73: BST-18HN1 | D73: BST-18HN1 | E73: 58490 | F73: =VLOOKUP(A73,[8]Sheet1!$A:$J,COLUMN([8]Sheet1!$J$2),0) -> 0
A74: НС-1763733 | C74: BST-24HN1 | D74: BST-24HN1 | E74: 73990 | F74: =VLOOKUP(A74,[8]Sheet1!$A:$J,COLUMN([8]Sheet1!$J$2),0) -> 0
A75: НС-1765626 | C75: BST-30HN1 | D75: BST-30HN1 | E75: 82990 | F75: =VLOOKUP(A75,[8]Sheet1!$A:$J,COLUMN([8]Sheet1!$J$2),0) -> 0
A76: Olympio Edge
A77: НС-1407890 | C77: BSO-07HN8_22Y | D77: BSO-07HN8_22Y | E77: 23990 | F77: =VLOOKUP(A77,[8]Sheet1!$A:$J,COLUMN([8]Sheet1!$J$2),0) -> 2449
A78: НС-1407891 | C78: BSO-09HN8_22Y | D78: BSO-09HN8_22Y | E78: 25990 | F78: =VLOOKUP(A78,[8]Sheet1!$A:$J,COLUMN([8]Sheet1!$J$2),0) -> 5450
A79: НС-1407892 | C79: BSO-12HN8_22Y | D79: BSO-12HN8_22Y | E79: 35490 | F79: =VLOOKUP(A79,[8]Sheet1!$A:$J,COLUMN([8]Sheet1!$J$2),0) -> 666
A80: НС-1407894 | C80: BSO-18HN8_22Y | D80: BSO-18HN8_22Y | E80: 58490 | F80: =VLOOKUP(A80,[8]Sheet1!$A:$J,COLUMN([8]Sheet1!$J$2),0) -> 1
A81: НС-1407897 | C81: BSO-24HN8_22Y | D81: BSO-24HN8_22Y | E81: 73990 | F81: =VLOOKUP(A81,[8]Sheet1!$A:$J,COLUMN([8]Sheet1!$J$2),0) -> 0
A82: BRAVO 36 000 BTU
A83: НС-1036017 | C83: BSQ-36HN1 | D83: BSQ-36HN1 | E83: 125990 | F83: =VLOOKUP(A83,[8]Sheet1!$A:$J,COLUMN([8]Sheet1!$J$2),0) -> 330
A84: НС-1707691 | C84: BSQ-36HN8 | D84: BSQ-36HN8 | E84: 125990 | F84: =VLOOKUP(A84,[8]Sheet1!$A:$J,COLUMN([8]Sheet1!$J$2),0) -> 168
A85: Универсальный Wi-Fi модуль HOMMYN
A86: НС-1416708 | C86: HDN/WFN-02-01 | D86: HDN/WFN-02-01 | E86: 2190 | F86: =VLOOKUP(A86,[8]Sheet1!$A:$J,COLUMN([8]Sheet1!$J$2),0) -> 1213
A87: НС-1646329 | C87: HDN/WFN-02-02 | D87: HDN/WFN-02-02 | E87: 2690 | F87: =VLOOKUP(A87,[8]Sheet1!$A:$J,COLUMN([8]Sheet1!$J$2),0) -> 15
A88: НС-1535746 | C88: HCC-GR | D88: HCC-GR | E88: 670 | F88: =VLOOKUP(A88,[8]Sheet1!$A:$J,COLUMN([8]Sheet1!$J$2),0) -> 135
A89: НС-1535757 | C89: HCC-HI | D89: HCC-HI | E89: 670 | F89: =VLOOKUP(A89,[8]Sheet1!$A:$J,COLUMN([8]Sheet1!$J$2),0) -> 0
A90: МУЛЬТИСПЛИТ-СИСТЕМЫ
A91: Наружные блоки Super Free Match R32
A92: НС-1247854 | D92: BA2OI-FM/out-14HN8/EU | E92: =VLOOKUP(D92,'[9]МУЛЬТИ СПЛИТ-СИСТЕМЫ'!$A:$T,COLUMN('[9]МУЛЬТИ СПЛИТ-СИСТЕМЫ'!$O$12),0) -> 68700 | F92: =VLOOKUP(A92,[8]Sheet1!$A:$J,COLUMN([8]Sheet1!$J$2),0) -> 177
A93: НС-1247884 | D93: BA2OI-FM/out-18HN8/EU | E93: =VLOOKUP(D93,'[9]МУЛЬТИ СПЛИТ-СИСТЕМЫ'!$A:$T,COLUMN('[9]МУЛЬТИ СПЛИТ-СИСТЕМЫ'!$O$12),0) -> 72200 | F93: =VLOOKUP(A93,[8]Sheet1!$A:$J,COLUMN([8]Sheet1!$J$2),0) -> 0
A94: НС-1247886 | D94: BA3OI-FM/out-21HN8/EU | E94: =VLOOKUP(D94,'[9]МУЛЬТИ СПЛИТ-СИСТЕМЫ'!$A:$T,COLUMN('[9]МУЛЬТИ СПЛИТ-СИСТЕМЫ'!$O$12),0) -> 94400 | F94: =VLOOKUP(A94,[8]Sheet1!$A:$J,COLUMN([8]Sheet1!$J$2),0) -> 118
A95: НС-1247887 | D95: BA3OI-FM/out-27HN8/EU | E95: =VLOOKUP(D95,'[9]МУЛЬТИ СПЛИТ-СИСТЕМЫ'!$A:$T,COLUMN('[9]МУЛЬТИ СПЛИТ-СИСТЕМЫ'!$O$12),0) -> 104400 | F95: =VLOOKUP(A95,[8]Sheet1!$A:$J,COLUMN([8]Sheet1!$J$2),0) -> 35
A96: НС-1247889 | D96: BA4OI-FM/out-36HN8/EU | E96: =VLOOKUP(D96,'[9]МУЛЬТИ СПЛИТ-СИСТЕМЫ'!$A:$T,COLUMN('[9]МУЛЬТИ СПЛИТ-СИСТЕМЫ'!$O$12),0) -> 161900 | F96: =VLOOKUP(A96,[8]Sheet1!$A:$J,COLUMN([8]Sheet1!$J$2),0) -> 53
A97: НС-1247891 | D97: BA5OI-FM/out-42HN8/EU | E97: =VLOOKUP(D97,'[9]МУЛЬТИ СПЛИТ-СИСТЕМЫ'!$A:$T,COLUMN('[9]МУЛЬТИ СПЛИТ-СИСТЕМЫ'!$O$12),0) -> 177300 | F97: =VLOOKUP(A97,[8]Sheet1!$A:$J,COLUMN([8]Sheet1!$J$2),0) -> 51
A98: Наружные блоки Free Match R32_LP LONG PIPE (ДЛИННЫЕ ТРАССЫ)
A99: НС-1607647 | D99: BA2OI-FM/out-14HN8/EU_LP | E99: =VLOOKUP(D99,'[9]МУЛЬТИ СПЛИТ-СИСТЕМЫ'!$A:$T,COLUMN('[9]МУЛЬТИ СПЛИТ-СИСТЕМЫ'!$O$12),0) -> 72800 | F99: =VLOOKUP(A99,[8]Sheet1!$A:$J,COLUMN([8]Sheet1!$J$2),0) -> 19
A100: НС-1607648 | D100: BA2OI-FM/out-18HN8/EU_LP | E100: =VLOOKUP(D100,'[9]МУЛЬТИ СПЛИТ-СИСТЕМЫ'!$A:$T,COLUMN('[9]МУЛЬТИ СПЛИТ-СИСТЕМЫ'!$O$12),0) -> 76500 | F100: =VLOOKUP(A100,[8]Sheet1!$A:$J,COLUMN([8]Sheet1!$J$2),0) -> 20
...

Sheet Bosch
A1: HC код комплекта | B1: HC код поблочно | C1: Модель поблочно | D1: Модель | E1: РИЦ | F1: Остаток1 | G1: В пути | H1: Остаток2 | I1: Остаток3
A2: ИНВЕРТОРНЫЕ МОДЕЛИ
A3: Инверторные сплит-системы серии Climate Line 5000
A4: CLL5000 W 22 E | C4: CLL5000 W 22 E | D4: =_xlfn.CONCAT(C4," / ",C5) -> CLL5000 W 22 E / CLL5000 22 E | E4: =VLOOKUP(A4,[10]RAC!$A:$K,COLUMN([10]RAC!$K$8),0) -> 46990 | F4: =VLOOKUP(A4,[5]Лист1!$A:$E,COLUMN([5]Лист1!$C$4),0) -> 0 | G4: =VLOOKUP(A4,[5]Лист1!$A:$E,COLUMN([5]Лист1!$D$526),0) -> 0 | H4: =VLOOKUP(A4,[6]Лист1!$A:$E,COLUMN([6]Лист1!$C$4),0) -> 0 | I4: =VLOOKUP(A4,[7]Лист1!$A:$E,COLUMN([7]Лист1!$C$4),0) -> 0
A5: CLL5000 22 E | C5: CLL5000 22 E | F5: =VLOOKUP(A5,[5]Лист1!$A:$E,COLUMN([5]Лист1!$C$4),0) -> 3 | G5: =VLOOKUP(A5,[5]Лист1!$A:$E,COLUMN([5]Лист1!$D$526),0) -> 0 | H5: =VLOOKUP(A5,[6]Лист1!$A:$E,COLUMN([6]Лист1!$C$4),0) -> 0 | I5: =VLOOKUP(A5,[7]Лист1!$A:$E,COLUMN([7]Лист1!$C$4),0) -> 0
A6: CLL5000 W 28 E | C6: CLL5000 W 28 E | D6: =_xlfn.CONCAT(C6," / ",C7) -> CLL5000 W 28 E / CLL5000 28 E | E6: =VLOOKUP(A6,[10]RAC!$A:$K,COLUMN([10]RAC!$K$8),0) -> 49990 | F6: =VLOOKUP(A6,[5]Лист1!$A:$E,COLUMN([5]Лист1!$C$4),0) -> 0 | G6: =VLOOKUP(A6,[5]Лист1!$A:$E,COLUMN([5]Лист1!$D$526),0) -> 1 | H6: =VLOOKUP(A6,[6]Лист1!$A:$E,COLUMN([6]Лист1!$C$4),0) -> 0 | I6: =VLOOKUP(A6,[7]Лист1!$A:$E,COLUMN([7]Лист1!$C$4),0) -> 0
A7: CLL5000 28 E | C7: CLL5000 28 E | F7: =VLOOKUP(A7,[5]Лист1!$A:$E,COLUMN([5]Лист1!$C$4),0) -> 0 | G7: =VLOOKUP(A7,[5]Лист1!$A:$E,COLUMN([5]Лист1!$D$526),0) -> 0 | H7: =VLOOKUP(A7,[6]Лист1!$A:$E,COLUMN([6]Лист1!$C$4),0) -> 0 | I7: =VLOOKUP(A7,[7]Лист1!$A:$E,COLUMN([7]Лист1!$C$4),0) -> 0
A8: CLL5000 W 34 E | C8: CLL5000 W 34 E | D8: =_xlfn.CONCAT(C8," / ",C9) -> CLL5000 W 34 E / CLL5000 34 E | E8: =VLOOKUP(A8,[10]RAC!$A:$K,COLUMN([10]RAC!$K$8),0) -> 56990 | F8: =VLOOKUP(A8,[5]Лист1!$A:$E,COLUMN([5]Лист1!$C$4),0) -> 1 | G8: =VLOOKUP(A8,[5]Лист1!$A:$E,COLUMN([5]Лист1!$D$526),0) -> 0 | H8: =VLOOKUP(A8,[6]Лист1!$A:$E,COLUMN([6]Лист1!$C$4),0) -> 0 | I8: =VLOOKUP(A8,[7]Лист1!$A:$E,COLUMN([7]Лист1!$C$4),0) -> 0
A9: CLL5000 34 E | C9: CLL5000 34 E | F9: =VLOOKUP(A9,[5]Лист1!$A:$E,COLUMN([5]Лист1!$C$4),0) -> 0 | G9: =VLOOKUP(A9,[5]Лист1!$A:$E,COLUMN([5]Лист1!$D$526),0) -> 0 | H9: =VLOOKUP(A9,[6]Лист1!$A:$E,COLUMN([6]Лист1!$C$4),0) -> 0 | I9: =VLOOKUP(A9,[7]Лист1!$A:$E,COLUMN([7]Лист1!$C$4),0) -> 0
A10: Инверторные сплит-системы серии Climate 6000i
A11: CL6001iU W 26 E | C11: CL6001iU W 26 E | D11: =_xlfn.CONCAT(C11," / ",C12) -> CL6001iU W 26 E / CL6001i 26 E | E11: =VLOOKUP(A11,[10]RAC!$A:$K,COLUMN([10]RAC!$K$8),0) -> 67900 | F11: =VLOOKUP(A11,[5]Лист1!$A:$E,COLUMN([5]Лист1!$C$4),0) -> 0 | G11: =VLOOKUP(A11,[5]Лист1!$A:$E,COLUMN([5]Лист1!$D$526),0) -> 0 | H11: =VLOOKUP(A11,[6]Лист1!$A:$E,COLUMN([6]Лист1!$C$4),0) -> 0 | I11: =VLOOKUP(A11,[7]Лист1!$A:$E,COLUMN([7]Лист1!$C$4),0) -> 0
A12: CL6001i 26 E | C12: CL6001i 26 E | F12: =VLOOKUP(A12,[5]Лист1!$A:$E,COLUMN([5]Лист1!$C$4),0) -> 0 | G12: =VLOOKUP(A12,[5]Лист1!$A:$E,COLUMN([5]Лист1!$D$526),0) -> 4 | H12: =VLOOKUP(A12,[6]Лист1!$A:$E,COLUMN([6]Лист1!$C$4),0) -> 0 | I12: =VLOOKUP(A12,[7]Лист1!$A:$E,COLUMN([7]Лист1!$C$4),0) -> 0
A13: CL6001iU W 53 E | C13: CL6001iU W 53 E | D13: =_xlfn.CONCAT(C13," / ",C14) -> CL6001iU W 53 E / CL6001i 53 E | E13: =VLOOKUP(A13,[10]RAC!$A:$K,COLUMN([10]RAC!$K$8),0) -> 88190 | F13: =VLOOKUP(A13,[5]Лист1!$A:$E,COLUMN([5]Лист1!$C$4),0) -> #N/A | G13: =VLOOKUP(A13,[5]Лист1!$A:$E,COLUMN([5]Лист1!$D$526),0) -> #N/A | H13: =VLOOKUP(A13,[6]Лист1!$A:$E,COLUMN([6]Лист1!$C$4),0) -> #N/A | I13: =VLOOKUP(A13,[7]Лист1!$A:$E,COLUMN([7]Лист1!$C$4),0) -> #N/A
A14: CL6001i 53 E | C14: CL6001i 53 E | F14: =VLOOKUP(A14,[5]Лист1!$A:$E,COLUMN([5]Лист1!$C$4),0) -> #N/A | G14: =VLOOKUP(A14,[5]Лист1!$A:$E,COLUMN([5]Лист1!$D$526),0) -> #N/A | H14: =VLOOKUP(A14,[6]Лист1!$A:$E,COLUMN([6]Лист1!$C$4),0) -> #N/A | I14: =VLOOKUP(A14,[7]Лист1!$A:$E,COLUMN([7]Лист1!$C$4),0) -> #N/A
A15: МОДЕЛИ БЕЗ ИНВЕРТОРА
A16: Climate Line 2000
A17: CLL2000 W 23 | C17: CLL2000 W 23 | D17: =_xlfn.CONCAT(C17," / ",C18) -> CLL2000 W 23 / CLL2000 23 | E17: =VLOOKUP(A17,[10]RAC!$A:$K,COLUMN([10]RAC!$K$8),0) -> 30990 | F17: =VLOOKUP(A17,[5]Лист1!$A:$E,COLUMN([5]Лист1!$C$4),0) -> 0 | G17: =VLOOKUP(A17,[5]Лист1!$A:$E,COLUMN([5]Лист1!$D$526),0) -> 0 | H17: =VLOOKUP(A17,[6]Лист1!$A:$E,COLUMN([6]Лист1!$C$4),0) -> 0 | I17: =VLOOKUP(A17,[7]Лист1!$A:$E,COLUMN([7]Лист1!$C$4),0) -> 0
A18: CLL2000 23 | C18: CLL2000 23 | F18: =VLOOKUP(A18,[5]Лист1!$A:$E,COLUMN([5]Лист1!$C$4),0) -> 0 | G18: =VLOOKUP(A18,[5]Лист1!$A:$E,COLUMN([5]Лист1!$D$526),0) -> 0 | H18: =VLOOKUP(A18,[6]Лист1!$A:$E,COLUMN([6]Лист1!$C$4),0) -> 0 | I18: =VLOOKUP(A18,[7]Лист1!$A:$E,COLUMN([7]Лист1!$C$4),0) -> 0
A19: CLL2000 W 26 | C19: CLL2000 W 26 | D19: =_xlfn.CONCAT(C19," / ",C20) -> CLL2000 W 26 / CLL2000 26 | E19: =VLOOKUP(A19,[10]RAC!$A:$K,COLUMN([10]RAC!$K$8),0) -> 34990 | F19: =VLOOKUP(A19,[5]Лист1!$A:$E,COLUMN([5]Лист1!$C$4),0) -> 0 | G19: =VLOOKUP(A19,[5]Лист1!$A:$E,COLUMN([5]Лист1!$D$526),0) -> 3 | H19: =VLOOKUP(A19,[6]Лист1!$A:$E,COLUMN([6]Лист1!$C$4),0) -> 1 | I19: =VLOOKUP(A19,[7]Лист1!$A:$E,COLUMN([7]Лист1!$C$4),0) -> 0
A20: CLL2000 26 | C20: CLL2000 26 | F20: =VLOOKUP(A20,[5]Лист1!$A:$E,COLUMN([5]Лист1!$C$4),0) -> 0 | G20: =VLOOKUP(A20,[5]Лист1!$A:$E,COLUMN([5]Лист1!$D$526),0) -> 0 | H20: =VLOOKUP(A20,[6]Лист1!$A:$E,COLUMN([6]Лист1!$C$4),0) -> 0 | I20: =VLOOKUP(A20,[7]Лист1!$A:$E,COLUMN([7]Лист1!$C$4),0) -> 0
A21: CLL2000 W 35 | C21: CLL2000 W 35 | D21: =_xlfn.CONCAT(C21," / ",C22) -> CLL2000 W 35 / CLL2000 35 | E21: =VLOOKUP(A21,[10]RAC!$A:$K,COLUMN([10]RAC!$K$8),0) -> 41990 | F21: =VLOOKUP(A21,[5]Лист1!$A:$E,COLUMN([5]Лист1!$C$4),0) -> 1 | G21: =VLOOKUP(A21,[5]Лист1!$A:$E,COLUMN([5]Лист1!$D$526),0) -> 0 | H21: =VLOOKUP(A21,[6]Лист1!$A:$E,COLUMN([6]Лист1!$C$4),0) -> 0 | I21: =VLOOKUP(A21,[7]Лист1!$A:$E,COLUMN([7]Лист1!$C$4),0) -> 0
A22: CLL2000 35 | C22: CLL2000 35 | F22: =VLOOKUP(A22,[5]Лист1!$A:$E,COLUMN([5]Лист1!$C$4),0) -> 0 | G22: =VLOOKUP(A22,[5]Лист1!$A:$E,COLUMN([5]Лист1!$D$526),0) -> 4 | H22: =VLOOKUP(A22,[6]Лист1!$A:$E,COLUMN([6]Лист1!$C$4),0) -> 0 | I22: =VLOOKUP(A22,[7]Лист1!$A:$E,COLUMN([7]Лист1!$C$4),0) -> 0
A23: CLL2000 W 53 | C23: CLL2000 W 53 | D23: =_xlfn.CONCAT(C23," / ",C24) -> CLL2000 W 53 / CLL2000 53 | E23: =VLOOKUP(A23,[10]RAC!$A:$K,COLUMN([10]RAC!$K$8),0) -> 53190 | F23: =VLOOKUP(A23,[5]Лист1!$A:$E,COLUMN([5]Лист1!$C$4),0) -> 0 | G23: =VLOOKUP(A23,[5]Лист1!$A:$E,COLUMN([5]Лист1!$D$526),0) -> 5 | H23: =VLOOKUP(A23,[6]Лист1!$A:$E,COLUMN([6]Лист1!$C$4),0) -> 3 | I23: =VLOOKUP(A23,[7]Лист1!$A:$E,COLUMN([7]Лист1!$C$4),0) -> 0
A24: CLL2000 53 | C24: CLL2000 53 | F24: =VLOOKUP(A24,[5]Лист1!$A:$E,COLUMN([5]Лист1!$C$4),0) -> 0 | G24: =VLOOKUP(A24,[5]Лист1!$A:$E,COLUMN([5]Лист1!$D$526),0) -> 0 | H24: =VLOOKUP(A24,[6]Лист1!$A:$E,COLUMN([6]Лист1!$C$4),0) -> 0 | I24: =VLOOKUP(A24,[7]Лист1!$A:$E,COLUMN([7]Лист1!$C$4),0) -> 0
A25: CLL2000 W 70 | C25: CLL2000 W 70 | D25: =_xlfn.CONCAT(C25," / ",C26) -> CLL2000 W 70 / CLL2000 70 | E25: =VLOOKUP(A25,[10]RAC!$A:$K,COLUMN([10]RAC!$K$8),0) -> 64890 | F25: =VLOOKUP(A25,[5]Лист1!$A:$E,COLUMN([5]Лист1!$C$4),0) -> 1 | G25: =VLOOKUP(A25,[5]Лист1!$A:$E,COLUMN([5]Лист1!$D$526),0) -> 0 | H25: =VLOOKUP(A25,[6]Лист1!$A:$E,COLUMN([6]Лист1!$C$4),0) -> 0 | I25: =VLOOKUP(A25,[7]Лист1!$A:$E,COLUMN([7]Лист1!$C$4),0) -> 0
A26: CLL2000 70 | C26: CLL2000 70 | F26: =VLOOKUP(A26,[5]Лист1!$A:$E,COLUMN([5]Лист1!$C$4),0) -> 0 | G26: =VLOOKUP(A26,[5]Лист1!$A:$E,COLUMN([5]Лист1!$D$526),0) -> 2 | H26: =VLOOKUP(A26,[6]Лист1!$A:$E,COLUMN([6]Лист1!$C$4),0) -> 0 | I26: =VLOOKUP(A26,[7]Лист1!$A:$E,COLUMN([7]Лист1!$C$4),0) -> 0
A27: Climate Line 2000 с минусовой доработкой
A28: CLL2000 W 23 | C28: CLL2000 W 23 | D28: =_xlfn.CONCAT(C28," / ",C29) -> CLL2000 W 23 / CLL2000 23/-40 | E28: 36490 | F28: =VLOOKUP(A28,[5]Лист1!$A:$E,COLUMN([5]Лист1!$C$4),0) -> 0 | G28: =VLOOKUP(A28,[5]Лист1!$A:$E,COLUMN([5]Лист1!$D$526),0) -> 0 | H28: =VLOOKUP(A28,[6]Лист1!$A:$E,COLUMN([6]Лист1!$C$4),0) -> 0 | I28: =VLOOKUP(A28,[7]Лист1!$A:$E,COLUMN([7]Лист1!$C$4),0) -> 0
A29: CLL2000 23/-40 | C29: CLL2000 23/-40 | F29: =VLOOKUP(A29,[5]Лист1!$A:$E,COLUMN([5]Лист1!$C$4),0) -> #N/A | G29: =VLOOKUP(A29,[5]Лист1!$A:$E,COLUMN([5]Лист1!$D$526),0) -> #N/A | H29: =VLOOKUP(A29,[6]Лист1!$A:$E,COLUMN([6]Лист1!$C$4),0) -> #N/A | I29: =VLOOKUP(A29,[7]Лист1!$A:$E,COLUMN([7]Лист1!$C$4),0) -> #N/A
A30: CLL2000 W 26 | C30: CLL2000 W 26 | D30: =_xlfn.CONCAT(C30," / ",C31) -> CLL2000 W 26 / CLL2000 26/-40 | E30: 40490 | F30: =VLOOKUP(A30,[5]Лист1!$A:$E,COLUMN([5]Лист1!$C$4),0) -> 0 | G30: =VLOOKUP(A30,[5]Лист1!$A:$E,COLUMN([5]Лист1!$D$526),0) -> 3 | H30: =VLOOKUP(A30,[6]Лист1!$A:$E,COLUMN([6]Лист1!$C$4),0) -> 1 | I30: =VLOOKUP(A30,[7]Лист1!$A:$E,COLUMN([7]Лист1!$C$4),0) -> 0
A31: CLL2000 26/-40 | C31: CLL2000 26/-40 | F31: =VLOOKUP(A31,[5]Лист1!$A:$E,COLUMN([5]Лист1!$C$4),0) -> #N/A | G31: =VLOOKUP(A31,[5]Лист1!$A:$E,COLUMN([5]Лист1!$D$526),0) -> #N/A | H31: =VLOOKUP(A31,[6]Лист1!$A:$E,COLUMN([6]Лист1!$C$4),0) -> #N/A | I31: =VLOOKUP(A31,[7]Лист1!$A:$E,COLUMN([7]Лист1!$C$4),0) -> #N/A
A32: CLL2000 W 35 | C32: CLL2000 W 35 | D32: =_xlfn.CONCAT(C32," / ",C33) -> CLL2000 W 35 / CLL2000 35/-40 | E32: 47490 | F32: =VLOOKUP(A32,[5]Лист1!$A:$E,COLUMN([5]Лист1!$C$4),0) -> 1 | G32: =VLOOKUP(A32,[5]Лист1!$A:$E,COLUMN([5]Лист1!$D$526),0) -> 0 | H32: =VLOOKUP(A32,[6]Лист1!$A:$E,COLUMN([6]Лист1!$C$4),0) -> 0 | I32: =VLOOKUP(A32,[7]Лист1!$A:$E,COLUMN([7]Лист1!$C$4),0) -> 0
A33: CLL2000 35/-40 | C33: CLL2000 35/-40 | F33: =VLOOKUP(A33,[5]Лист1!$A:$E,COLUMN([5]Лист1!$C$4),0) -> #N/A | G33: =VLOOKUP(A33,[5]Лист1!$A:$E,COLUMN([5]Лист1!$D$526),0) -> #N/A | H33: =VLOOKUP(A33,[6]Лист1!$A:$E,COLUMN([6]Лист1!$C$4),0) -> #N/A | I33: =VLOOKUP(A33,[7]Лист1!$A:$E,COLUMN([7]Лист1!$C$4),0) -> #N/A
A34: CLL2000 W 53 | C34: CLL2000 W 53 | D34: =_xlfn.CONCAT(C34," / ",C35) -> CLL2000 W 53 / CLL2000 53/-40 | E34: 58690 | F34: =VLOOKUP(A34,[5]Лист1!$A:$E,COLUMN([5]Лист1!$C$4),0) -> 0 | G34: =VLOOKUP(A34,[5]Лист1!$A:$E,COLUMN([5]Лист1!$D$526),0) -> 5 | H34: =VLOOKUP(A34,[6]Лист1!$A:$E,COLUMN([6]Лист1!$C$4),0) -> 3 | I34: =VLOOKUP(A34,[7]Лист1!$A:$E,COLUMN([7]Лист1!$C$4),0) -> 0
A35: CLL2000 53/-40 | C35: CLL2000 53/-40 | F35: =VLOOKUP(A35,[5]Лист1!$A:$E,COLUMN([5]Лист1!$C$4),0) -> #N/A | G35: =VLOOKUP(A35,[5]Лист1!$A:$E,COLUMN([5]Лист1!$D$526),0) -> #N/A | H35: =VLOOKUP(A35,[6]Лист1!$A:$E,COLUMN([6]Лист1!$C$4),0) -> #N/A | I35: =VLOOKUP(A35,[7]Лист1!$A:$E,COLUMN([7]Лист1!$C$4),0) -> #N/A
A36: CLL2000 W 70 | C36: CLL2000 W 70 | D36: =_xlfn.CONCAT(C36," / ",C37) -> CLL2000 W 70 / CLL2000 70/-40 | E36: 71390 | F36: =VLOOKUP(A36,[5]Лист1!$A:$E,COLUMN([5]Лист1!$C$4),0) -> 1 | G36: =VLOOKUP(A36,[5]Лист1!$A:$E,COLUMN([5]Лист1!$D$526),0) -> 0 | H36: =VLOOKUP(A36,[6]Лист1!$A:$E,COLUMN([6]Лист1!$C$4),0) -> 0 | I36: =VLOOKUP(A36,[7]Лист1!$A:$E,COLUMN([7]Лист1!$C$4),0) -> 0
A37: CLL2000 70/-40 | C37: CLL2000 70/-40 | F37: =VLOOKUP(A37,[5]Лист1!$A:$E,COLUMN([5]Лист1!$C$4),0) -> #N/A | G37: =VLOOKUP(A37,[5]Лист1!$A:$E,COLUMN([5]Лист1!$D$526),0) -> #N/A | H37: =VLOOKUP(A37,[6]Лист1!$A:$E,COLUMN([6]Лист1!$C$4),0) -> #N/A | I37: =VLOOKUP(A37,[7]Лист1!$A:$E,COLUMN([7]Лист1!$C$4),0) -> #N/A

Sheet Casarte
A1: HC код комплекта | B1: HC код поблочно | C1: Модель поблочно | D1: Модель | E1: РИЦ | F1: Остаток
A2: Серия VELATO (HEAT PUMP -30°С) серебристый
A3: CAS25CC1/R3-S | C3: CAS25CC1/R3-S | D3: =_xlfn.CONCAT(C3," / ",C4) -> CAS25CC1/R3-S / 1U25CC1/R3 | E3: {=VLOOKUP("*CAS25CC1/R3*",[11]CASARTE!$A:$M,COLUMN([11]CASARTE!$M$4:$M$5),0)} -> 155000 | F3: =VLOOKUP("*CAS25CC1/R3-S*",[12]Лист_1!$A:$AG,COLUMN([12]Лист_1!$U$9),0) -> 0
A4: 1U25CC1/R3 | C4: 1U25CC1/R3 | F4: =VLOOKUP("*1U25CC1/R3*",[12]Лист_1!$A:$AG,COLUMN([12]Лист_1!$U$9),0) -> 0
A5: CAS35CC1/R3-S | C5: CAS35CC1/R3-S | D5: =_xlfn.CONCAT(C5," / ",C6) -> CAS35CC1/R3-S / 1U35CC1/R3 | E5: {=VLOOKUP("*CAS35CC1/R3*",[11]CASARTE!$A:$M,COLUMN([11]CASARTE!$M$4:$M$5),0)} -> 186000 | F5: =VLOOKUP("*CAS35CC1/R3-S*",[12]Лист_1!$A:$AG,COLUMN([12]Лист_1!$U$9),0) -> 0
A6: 1U35CC1/R3 | C6: 1U35CC1/R3 | F6: =VLOOKUP("*1U35CC1/R3*",[12]Лист_1!$A:$AG,COLUMN([12]Лист_1!$U$9),0) -> 0
A7: CAS50CC1/R3-S | C7: CAS50CC1/R3-S | D7: =_xlfn.CONCAT(C7," / ",C8) -> CAS50CC1/R3-S / 1U50CC1/R3 | E7: {=VLOOKUP("*CAS50CC1/R3*",[11]CASARTE!$A:$M,COLUMN([11]CASARTE!$M$4:$M$5),0)} -> 260000 | F7: =VLOOKUP("*CAS50CC1/R3-S*",[12]Лист_1!$A:$AG,COLUMN([12]Лист_1!$U$9),0) -> #N/A
A8: 1U50CC1/R3 | C8: 1U50CC1/R3 | F8: =VLOOKUP("*1U50CC1/R3*",[12]Лист_1!$A:$AG,COLUMN([12]Лист_1!$U$9),0) -> 0
A9: Серия VELATO (HEAT PUMP -30°С) черный
A10: CAS25CC1/R3-B | C10: CAS25CC1/R3-B | D10: =_xlfn.CONCAT(C10," / ",C11) -> CAS25CC1/R3-B / 1U25CC1/R3 | E10: {=VLOOKUP("*CAS25CC1/R3*",[11]CASARTE!$A:$M,COLUMN([11]CASARTE!$M$4:$M$5),0)} -> 155000 | F10: =VLOOKUP("*CAS25CC1/R3-B*",[12]Лист_1!$A:$AG,COLUMN([12]Лист_1!$U$9),0) -> 0
A11: 1U25CC1/R3 | C11: 1U25CC1/R3 | F11: =VLOOKUP("*1U25CC1/R3*",[12]Лист_1!$A:$AG,COLUMN([12]Лист_1!$U$9),0) -> 0
A12: CAS35CC1/R3-B | C12: CAS35CC1/R3-B | D12: =_xlfn.CONCAT(C12," / ",C13) -> CAS35CC1/R3-B / 1U35CC1/R3 | E12: {=VLOOKUP("*CAS35CC1/R3*",[11]CASARTE!$A:$M,COLUMN([11]CASARTE!$M$4:$M$5),0)} -> 186000 | F12: =VLOOKUP("*CAS35CC1/R3-B*",[12]Лист_1!$A:$AG,COLUMN([12]Лист_1!$U$9),0) -> 0
A13: 1U35CC1/R3 | C13: 1U35CC1/R3 | F13: =VLOOKUP("*1U35CC1/R3*",[12]Лист_1!$A:$AG,COLUMN([12]Лист_1!$U$9),0) -> 0
A14: CAS50CC1/R3-B | C14: CAS50CC1/R3-B | D14: =_xlfn.CONCAT(C14," / ",C15) -> CAS50CC1/R3-B / 1U50CC1/R3 | E14: {=VLOOKUP("*CAS50CC1/R3*",[11]CASARTE!$A:$M,COLUMN([11]CASARTE!$M$4:$M$5),0)} -> 260000 | F14: =VLOOKUP("*CAS50CC1/R3-B*",[12]Лист_1!$A:$AG,COLUMN([12]Лист_1!$U$9),0) -> 0
A15: 1U50CC1/R3 | C15: 1U50CC1/R3 | F15: =VLOOKUP("*1U50CC1/R3*",[12]Лист_1!$A:$AG,COLUMN([12]Лист_1!$U$9),0) -> 0
A16: Серия VELATO (HEAT PUMP -30°С) синий
A17: CAS25CC1/R3-С | C17: CAS25CC1/R3-С | D17: =_xlfn.CONCAT(C17," / ",C18) -> CAS25CC1/R3-С / 1U25CC1/R3 | E17: {=VLOOKUP("*CAS25CC1/R3*",[11]CASARTE!$A:$M,COLUMN([11]CASARTE!$M$4:$M$5),0)} -> 155000 | F17: =VLOOKUP("*CAS25CC1/R3-С*",[12]Лист_1!$A:$AG,COLUMN([12]Лист_1!$U$9),0) -> #N/A
A18: 1U25CC1/R3 | C18: 1U25CC1/R3 | F18: =VLOOKUP("*1U25CC1/R3*",[12]Лист_1!$A:$AG,COLUMN([12]Лист_1!$U$9),0) -> 0
A19: CAS35CC1/R3-С | C19: CAS35CC1/R3-С | D19: =_xlfn.CONCAT(C19," / ",C20) -> CAS35CC1/R3-С / 1U35CC1/R3 | E19: {=VLOOKUP("*CAS35CC1/R3*",[11]CASARTE!$A:$M,COLUMN([11]CASARTE!$M$4:$M$5),0)} -> 186000 | F19: =VLOOKUP("*CAS35CC1/R3-С*",[12]Лист_1!$A:$AG,COLUMN([12]Лист_1!$U$9),0) -> 0
A20: 1U35CC1/R3 | C20: 1U35CC1/R3 | F20: =VLOOKUP("*1U35CC1/R3*",[12]Лист_1!$A:$AG,COLUMN([12]Лист_1!$U$9),0) -> 0
A21: CAS50CC1/R3-С | C21: CAS50CC1/R3-С | D21: =_xlfn.CONCAT(C21," / ",C22) -> CAS50CC1/R3-С / 1U50CC1/R3 | E21: {=VLOOKUP("*CAS50CC1/R3*",[11]CASARTE!$A:$M,COLUMN([11]CASARTE!$M$4:$M$5),0)} -> 260000 | F21: =VLOOKUP("*CAS50CC1/R3-С*",[12]Лист_1!$A:$AG,COLUMN([12]Лист_1!$U$9),0) -> #N/A
A22: 1U50CC1/R3 | C22: 1U50CC1/R3 | F22: =VLOOKUP("*1U50CC1/R3*",[12]Лист_1!$A:$AG,COLUMN([12]Лист_1!$U$9),0) -> 0
A23: Серия ELETTO (HEAT PUMP -20°С) белый
A24: CAS25CX1/R3-W | C24: CAS25CX1/R3-W | D24: =_xlfn.CONCAT(C24," / ",C25) -> CAS25CX1/R3-W / 1U25CX1/R3 | E24: {=VLOOKUP(A24,[11]CASARTE!$A:$M,COLUMN([11]CASARTE!$M$11:$M$12),0)} -> 124000 | F24: =VLOOKUP("*CAS25CX1/R3-W*",[12]Лист_1!$A:$AG,COLUMN([12]Лист_1!$U$9),0) -> 0
A25: 1U25CX1/R3 | C25: 1U25CX1/R3 | F25: =VLOOKUP("*1U25CX1/R3*",[12]Лист_1!$A:$AG,COLUMN([12]Лист_1!$U$9),0) -> #N/A
A26: CAS35CX1/R3-W | C26: CAS35CX1/R3-W | D26: =_xlfn.CONCAT(C26," / ",C27) -> CAS35CX1/R3-W / 1U35CX1/R3 | E26: {=VLOOKUP(A26,[11]CASARTE!$A:$M,COLUMN([11]CASARTE!$M$11:$M$12),0)} -> 156000 | F26: =VLOOKUP("*CAS35CX1/R3-W*",[12]Лист_1!$A:$AG,COLUMN([12]Лист_1!$U$9),0) -> 0
A27: 1U35CX1/R3 | C27: 1U35CX1/R3 | F27: =VLOOKUP("*1U35CX1/R3*",[12]Лист_1!$A:$AG,COLUMN([12]Лист_1!$U$9),0) -> #N/A
A28: CAS50CX1/R3-W | C28: CAS50CX1/R3-W | D28: =_xlfn.CONCAT(C28," / ",C29) -> CAS50CX1/R3-W / 1U50CX1/R3 | E28: {=VLOOKUP(A28,[11]CASARTE!$A:$M,COLUMN([11]CASARTE!$M$11:$M$12),0)} -> 220000 | F28: =VLOOKUP("*CAS50CX1/R3-W*",[12]Лист_1!$A:$AG,COLUMN([12]Лист_1!$U$9),0) -> 0
A29: 1U50CX1/R3 | C29: 1U50CX1/R3 | F29: =VLOOKUP("*1U50CX1/R3*",[12]Лист_1!$A:$AG,COLUMN([12]Лист_1!$U$9),0) -> #N/A
A30: Серия ELETTO (HEAT PUMP -20°С) бежевый
A31: CAS25CX1/R3-G | C31: CAS25CX1/R3-G | D31: =_xlfn.CONCAT(C31," / ",C32) -> CAS25CX1/R3-G / 1U25CX1/R3 | E31: {=VLOOKUP("*CAS25CX1/R3-B*",[11]CASARTE!$1:$1048576,COLUMN([11]CASARTE!$M$13:$M$14),0)} -> 127000 | F31: =VLOOKUP("*CAS25CX1/R3-G*",[12]Лист_1!$A:$AG,COLUMN([12]Лист_1!$U$9),0) -> 0
A32: 1U25CX1/R3 | C32: 1U25CX1/R3 | F32: =VLOOKUP("*1U25CX1/R3*",[12]Лист_1!$A:$AG,COLUMN([12]Лист_1!$U$9),0) -> #N/A
A33: CAS35CX1/R3-G | C33: CAS35CX1/R3-G | D33: =_xlfn.CONCAT(C33," / ",C34) -> CAS35CX1/R3-G / 1U35CX1/R3 | E33: {=VLOOKUP("*CAS35CX1/R3-B*",[11]CASARTE!$1:$1048576,COLUMN([11]CASARTE!$M$13:$M$14),0)} -> 160000 | F33: =VLOOKUP("*CAS35CX1/R3-G*",[12]Лист_1!$A:$AG,COLUMN([12]Лист_1!$U$9),0) -> 0
A34: 1U35CX1/R3 | C34: 1U35CX1/R3 | F34: =VLOOKUP("*1U35CX1/R3*",[12]Лист_1!$A:$AG,COLUMN([12]Лист_1!$U$9),0) -> #N/A
A35: CAS50CX1/R3-G | C35: CAS50CX1/R3-G | D35: =_xlfn.CONCAT(C35," / ",C36) -> CAS50CX1/R3-G / 1U50CX1/R3 | E35: {=VLOOKUP("*CAS50CX1/R3-B*",[11]CASARTE!$1:$1048576,COLUMN([11]CASARTE!$M$13:$M$14),0)} -> 224000 | F35: =VLOOKUP("*CAS50CX1/R3-G*",[12]Лист_1!$A:$AG,COLUMN([12]Лист_1!$U$9),0) -> 0
A36: 1U50CX1/R3 | C36: 1U50CX1/R3 | F36: =VLOOKUP("*1U50CX1/R3*",[12]Лист_1!$A:$AG,COLUMN([12]Лист_1!$U$9),0) -> #N/A
A37: Серия ELETTO (HEAT PUMP -20°С) черный
A38: CAS25CX1/R3-B | C38: CAS25CX1/R3-B | D38: =_xlfn.CONCAT(C38," / ",C39) -> CAS25CX1/R3-B / 1U25CX1/R3 | E38: {=VLOOKUP("*CAS25CX1/R3-B*",[11]CASARTE!$1:$1048576,COLUMN([11]CASARTE!$M$13:$M$14),0)} -> 127000 | F38: =VLOOKUP("*CAS25CX1/R3-B*",[12]Лист_1!$A:$AG,COLUMN([12]Лист_1!$U$9),0) -> 0
A39: 1U25CX1/R3 | C39: 1U25CX1/R3 | F39: =VLOOKUP("*1U25CX1/R3*",[12]Лист_1!$A:$AG,COLUMN([12]Лист_1!$U$9),0) -> #N/A
A40: CAS35CX1/R3-B | C40: CAS35CX1/R3-B | D40: =_xlfn.CONCAT(C40," / ",C41) -> CAS35CX1/R3-B / 1U35CX1/R3 | E40: {=VLOOKUP("*CAS35CX1/R3-B*",[11]CASARTE!$1:$1048576,COLUMN([11]CASARTE!$M$13:$M$14),0)} -> 160000 | F40: =VLOOKUP("*CAS35CX1/R3-B*",[12]Лист_1!$A:$AG,COLUMN([12]Лист_1!$U$9),0) -> 0
A41: 1U35CX1/R3 | C41: 1U35CX1/R3 | F41: =VLOOKUP("*1U35CX1/R3*",[12]Лист_1!$A:$AG,COLUMN([12]Лист_1!$U$9),0) -> #N/A
A42: CAS50CX1/R3-B | C42: CAS50CX1/R3-B | D42: =_xlfn.CONCAT(C42," / ",C43) -> CAS50CX1/R3-B / 1U50CX1/R3 | E42: {=VLOOKUP("*CAS50CX1/R3-B*",[11]CASARTE!$1:$1048576,COLUMN([11]CASARTE!$M$13:$M$14),0)} -> 224000 | F42: =VLOOKUP("*CAS50CX1/R3-B*",[12]Лист_1!$A:$AG,COLUMN([12]Лист_1!$U$9),0) -> 0
A43: 1U50CX1/R3 | C43: 1U50CX1/R3 | F43: =VLOOKUP("*1U50CX1/R3*",[12]Лист_1!$A:$AG,COLUMN([12]Лист_1!$U$9),0) -> #N/A
A44: Серия TRIANO белый
A45: CAS25MW1/R3-W | C45: CAS25MW1/R3-W | D45: =_xlfn.CONCAT(C45," / ",C46) -> CAS25MW1/R3-W / 1U25MW1/R3 | E45: {=VLOOKUP(A45,[11]CASARTE!$1:$1048576,COLUMN([11]CASARTE!$M$24:$M$25),0)} -> 89000 | F45: =VLOOKUP("*CAS25MW1/R3-W*",[12]Лист_1!$A:$AG,COLUMN([12]Лист_1!$U$9),0) -> 0
A46: 1U25MW1/R3 | C46: 1U25MW1/R3 | F46: =VLOOKUP("*1U25MW1/R3*",[12]Лист_1!$A:$AG,COLUMN([12]Лист_1!$U$9),0) -> 0
A47: CAS35MW1/R3-W | C47: CAS35MW1/R3-W | D47: =_xlfn.CONCAT(C47," / ",C48) -> CAS35MW1/R3-W / 1U35MW1/R3 | E47: {=VLOOKUP(A47,[11]CASARTE!$1:$1048576,COLUMN([11]CASARTE!$M$24:$M$25),0)} -> 97000 | F47: =VLOOKUP("*CAS35MW1/R3-W*",[12]Лист_1!$A:$AG,COLUMN([12]Лист_1!$U$9),0) -> 0
A48: 1U35MW1/R3 | C48: 1U35MW1/R3 | F48: =VLOOKUP("*1U35MW1/R3*",[12]Лист_1!$A:$AG,COLUMN([12]Лист_1!$U$9),0) -> 0
A49: Серия TRIANO бежевый
A50: СAS25MW1/R3-G | C50: СAS25MW1/R3-G | D50: =_xlfn.CONCAT(C50," / ",C51) -> СAS25MW1/R3-G / 1U25MW1/R3 | E50: 98000 | F50: =VLOOKUP("*СAS25MW1/R3-G*",[12]Лист_1!$A:$AG,COLUMN([12]Лист_1!$U$9),0) -> #N/A
A51: 1U25MW1/R3 | C51: 1U25MW1/R3 | F51: =VLOOKUP("*1U25MW1/R3*",[12]Лист_1!$A:$AG,COLUMN([12]Лист_1!$U$9),0) -> 0
A52: СAS35MW1/R3-G | C52: СAS35MW1/R3-G | D52: =_xlfn.CONCAT(C52," / ",C53) -> СAS35MW1/R3-G / 1U35MW1/R3 | E52: 108000 | F52: =VLOOKUP("*СAS35MW1/R3-G*",[12]Лист_1!$A:$AG,COLUMN([12]Лист_1!$U$9),0) -> #N/A
A53: 1U35MW1/R3 | C53: 1U35MW1/R3 | F53: =VLOOKUP("*1U35MW1/R3*",[12]Лист_1!$A:$AG,COLUMN([12]Лист_1!$U$9),0) -> 0
A54: Серия TRIANO синий
A55: СAS25MW1/R3-B | C55: СAS25MW1/R3-B | D55: =_xlfn.CONCAT(C55," / ",C56) -> СAS25MW1/R3-B / 1U25MW1/R3 | E55: {=VLOOKUP("*СAS25MW1/R3-B*",[11]CASARTE!$1:$1048576,COLUMN([11]CASARTE!$M$24:$M$25),0)} -> 98000 | F55: =VLOOKUP("*СAS25MW1/R3-B*",[12]Лист_1!$A:$AG,COLUMN([12]Лист_1!$U$9),0) -> #N/A
A56: 1U25MW1/R3 | C56: 1U25MW1/R3 | F56: =VLOOKUP("*1U25MW1/R3*",[12]Лист_1!$A:$AG,COLUMN([12]Лист_1!$U$9),0) -> 0
A57: СAS35MW1/R3-B | C57: СAS35MW1/R3-B | D57: =_xlfn.CONCAT(C57," / ",C58) -> СAS35MW1/R3-B / 1U35MW1/R3 | E57: {=VLOOKUP("*СAS35MW1/R3-B*",[11]CASARTE!$1:$1048576,COLUMN([11]CASARTE!$M$24:$M$25),0)} -> 108000 | F57: =VLOOKUP("*СAS35MW1/R3-B*",[12]Лист_1!$A:$AG,COLUMN([12]Лист_1!$U$9),0) -> #N/A
A58: 1U35MW1/R3 | C58: 1U35MW1/R3 | F58: =VLOOKUP("*1U35MW1/R3*",[12]Лист_1!$A:$AG,COLUMN([12]Лист_1!$U$9),0) -> 0
A59: МУЛЬТИСПЛИТ-СИСТЕМЫ
A60: Внутренние блоки. Серия VELATO серебристый
A61: CAS25CC1/R3-S | D61: =A61 -> CAS25CC1/R3-S | E61: 62000 | F61: =VLOOKUP("*CAS25CC1/R3-S*",[12]Лист_1!$A:$AG,COLUMN([12]Лист_1!$U$9),0) -> 0
A62: CAS35CC1/R3-S | D62: =A62 -> CAS35CC1/R3-S | E62: 77000 | F62: =VLOOKUP("*CAS35CC1/R3-S*",[12]Лист_1!$A:$AG,COLUMN([12]Лист_1!$U$9),0) -> 0
A63: CAS50CC1/R3-S | D63: =A63 -> CAS50CC1/R3-S | E63: 131000 | F63: =VLOOKUP("*CAS50CC1/R3-S*",[12]Лист_1!$A:$AG,COLUMN([12]Лист_1!$U$9),0) -> #N/A
A64: Внутренние блоки. Серия VELATO синий
A65: CAS25CC1/R3-С | D65: =A65 -> CAS25CC1/R3-С | E65: 62000 | F65: =VLOOKUP("*CAS25CC1/R3-С*",[12]Лист_1!$A:$AG,COLUMN([12]Лист_1!$U$9),0) -> #N/A
A66: CAS35CC1/R3-С | D66: =A66 -> CAS35CC1/R3-С | E66: 77000 | F66: =VLOOKUP("*CAS35CC1/R3-С*",[12]Лист_1!$A:$AG,COLUMN([12]Лист_1!$U$9),0) -> 0
A67: CAS50CC1/R3-С | D67: =A67 -> CAS50CC1/R3-С | E67: 131000 | F67: =VLOOKUP("*CAS50CC1/R3-С*",[12]Лист_1!$A:$AG,COLUMN([12]Лист_1!$U$9),0) -> #N/A
A68: Внутренние блоки. Серия VELATO черный
A69: CAS25CC1/R3-B | D69: =A69 -> CAS25CC1/R3-B | E69: 62000 | F69: =VLOOKUP("*CAS25CC1/R3-B *",[12]Лист_1!$A:$AG,COLUMN([12]Лист_1!$U$9),0) -> 0
A70: CAS35CC1/R3-B | D70: =A70 -> CAS35CC1/R3-B | E70: 77000 | F70: =VLOOKUP("*CAS35CC1/R3-B*",[12]Лист_1!$A:$AG,COLUMN([12]Лист_1!$U$9),0) -> 0
A71: CAS50CC1/R3-B | D71: =A71 -> CAS50CC1/R3-B | E71: 131000 | F71: =VLOOKUP("*CAS50CC1/R3-B*",[12]Лист_1!$A:$AG,COLUMN([12]Лист_1!$U$9),0) -> 0
A72: Внутренние блоки. ELETTO WHITE белый
A73: CAS25CX1/R3-W | D73: =A73 -> CAS25CX1/R3-W | E73: 47000 | F73: =VLOOKUP("*CAS25CX1/R3-W*",[12]Лист_1!$A:$AG,COLUMN([12]Лист_1!$U$9),0) -> 0
A74: CAS35CX1/R3-W | D74: =A74 -> CAS35CX1/R3-W | E74: 62000 | F74: =VLOOKUP("*CAS35CX1/R3-W*",[12]Лист_1!$A:$AG,COLUMN([12]Лист_1!$U$9),0) -> 0
A75: CAS50CX1/R3-W | D75: =A75 -> CAS50CX1/R3-W | E75: 116000 | F75: =VLOOKUP("*CAS50CX1/R3-W*",[12]Лист_1!$A:$AG,COLUMN([12]Лист_1!$U$9),0) -> 0
A76: Внутренние блоки. ELETTO WHITE черный
A77: CAS25CX1/R3-B | D77: =A77 -> CAS25CX1/R3-B | E77: 50000 | F77: =VLOOKUP("*CAS25CX1/R3-B*",[12]Лист_1!$A:$AG,COLUMN([12]Лист_1!$U$9),0) -> 0
A78: CAS35CX1/R3-B | D78: =A78 -> CAS35CX1/R3-B | E78: 66000 | F78: =VLOOKUP("*CAS35CX1/R3-B*",[12]Лист_1!$A:$AG,COLUMN([12]Лист_1!$U$9),0) -> 0
A79: CAS50CX1/R3-B | D79: =A79 -> CAS50CX1/R3-B | E79: 120000 | F79: =VLOOKUP("*CAS50CX1/R3-B*",[12]Лист_1!$A:$AG,COLUMN([12]Лист_1!$U$9),0) -> 0
A80: Внутренние блоки. ELETTO WHITE бежевый
A81: CAS25CX1/R3-G | D81: =A81 -> CAS25CX1/R3-G | E81: 50000 | F81: =VLOOKUP("*CAS25CX1/R3-G*",[12]Лист_1!$A:$AG,COLUMN([12]Лист_1!$U$9),0) -> 0
A82: CAS35CX1/R3-G | D82: =A82 -> CAS35CX1/R3-G | E82: 66000 | F82: =VLOOKUP("*CAS35CX1/R3-G*",[12]Лист_1!$A:$AG,COLUMN([12]Лист_1!$U$9),0) -> 0
A83: CAS50CX1/R3-G | D83: =A83 -> CAS50CX1/R3-G | E83: 120000 | F83: =VLOOKUP("*CAS50CX1/R3-G*",[12]Лист_1!$A:$AG,COLUMN([12]Лист_1!$U$9),0) -> 0
A84: Однопоточные кассетные внутренние блоки
A85: CAS25ABO1/R3-W | D85: =A85 -> CAS25ABO1/R3-W | E85: 55000 | F85: =VLOOKUP("*CAS25ABO1/R3-W*",[12]Лист_1!$A:$AG,COLUMN([12]Лист_1!$U$9),0) -> #N/A
A86: CAS35ABO1/R3-W | D86: =A86 -> CAS35ABO1/R3-W | E86: 58000 | F86: =VLOOKUP("*CAS35ABO1/R3-W*",[12]Лист_1!$A:$AG,COLUMN([12]Лист_1!$U$9),0) -> 0
A87: CAS50ABO1/R3-W | D87: =A87 -> CAS50ABO1/R3-W | E87: 67000 | F87: =VLOOKUP("*CAS50ABO1/R3-W*",[12]Лист_1!$A:$AG,COLUMN([12]Лист_1!$U$9),0) -> #N/A
A88: CAS70ABO1/R3-W | D88: =A88 -> CAS70ABO1/R3-W | E88: 72000 | F88: =VLOOKUP("*CAS70ABO1/R3-W*",[12]Лист_1!$A:$AG,COLUMN([12]Лист_1!$U$9),0) -> #N/A
A89: CP1B-1028IB | B89: Декоративная панель для 25AB-35AB | C89: =_xlfn.CONCAT(A89," ",B89) -> CP1B-1028IB Декоративная панель для 25AB-35AB | E89: 14000 | F89: =VLOOKUP("*CP1B-1028IB*",[12]Лист_1!$A:$AG,COLUMN([12]Лист_1!$U$9),0) -> 0
A90: CP1B-1348IB | B90: Декоративная панель для 50AB-70AB | C90: =_xlfn.CONCAT(A90," ",B90) -> CP1B-1348IB Декоративная панель для 50AB-70AB | E90: 17000 | F90: =VLOOKUP("*CP1B-1348IB*",[12]Лист_1!$A:$AG,COLUMN([12]Лист_1!$U$9),0) -> 0
A91: Низконапорные канальные внутренние блоки
A92: CAS25ADS1/R3-W | D92: =A92 -> CAS25ADS1/R3-W | E92: 56000 | F92: =VLOOKUP("*CAS25ADS1/R3-W*",[12]Лист_1!$A:$AG,COLUMN([12]Лист_1!$U$9),0) -> 0
A93: CAS35ADS1/R3-W | D93: =A93 -> CAS35ADS1/R3-W | E93: 58000 | F93: =VLOOKUP("*CAS35ADS1/R3-W*",[12]Лист_1!$A:$AG,COLUMN([12]Лист_1!$U$9),0) -> #N/A
A94: CAS50ADS1/R3-W | D94: =A94 -> CAS50ADS1/R3-W | E94: 67000 | F94: =VLOOKUP("*CAS50ADS1/R3-W*",[12]Лист_1!$A:$AG,COLUMN([12]Лист_1!$U$9),0) -> #N/A
A95: CP1B-890IA/D | B95: Декоративная панель для 25AD-35AD | C95: =_xlfn.CONCAT(A95," ",B95) -> CP1B-890IA/D Декоративная панель для 25AD-35AD | E95: 11000 | F95: =VLOOKUP("*CP1B-890IA/D*",[12]Лист_1!$A:$AG,COLUMN([12]Лист_1!$U$9),0) -> #N/A
A96: CP1B-1210IA/D | B96: Декоративная панель для 50AD | C96: =_xlfn.CONCAT(A96," ",B96) -> CP1B-1210IA/D Декоративная панель для 50AD | E96: 14000 | F96: =VLOOKUP("*CP1B-1210IA/D *",[12]Лист_1!$A:$AG,COLUMN([12]Лист_1!$U$9),0) -> #N/A
A97: Средненапорные канальные внутренние блоки
A98: CAS35ADM1/R3-W | D98: =A98 -> CAS35ADM1/R3-W | E98: 75000 | F98: =VLOOKUP("*CAS35ADM1/R3-W*",[12]Лист_1!$A:$AG,COLUMN([12]Лист_1!$U$9),0) -> 0
A99: CAS50ADM1/R3-W | D99: =A99 -> CAS50ADM1/R3-W | E99: 81000 | F99: =VLOOKUP("*CAS50ADM1/R3-W*",[12]Лист_1!$A:$AG,COLUMN([12]Лист_1!$U$9),0) -> 0
A100: CAS70ADM1/R3-W | D100: =A100 -> CAS70ADM1/R3-W | E100: 87000 | F100: =VLOOKUP("*CAS70ADM1/R3-W*",[12]Лист_1!$A:$AG,COLUMN([12]Лист_1!$U$9),0) -> 0
...

Sheet Coolberg
A1: HC код комплекта | B1: HC код поблочно | C1: Модель поблочно | D1: Модель | E1: РИЦ | F1: Остаток
A2: ИНВЕРТОРНЫЕ МОДЕЛИ
A3: СЕРИЯ RUNA Silver INVERTER NEW
A4: CI-07UR1-IN | B4: СК00021501 | C4: CI-07UR1-IN | D4: =_xlfn.CONCAT(C4," / ",C5) -> CI-07UR1-IN / CI-07UR1-OUT | E4: 33100 | F4: =VLOOKUP("*CI-07UR1-IN*",[13]TDSheet!$A:$H,COLUMN([13]TDSheet!$E$10),0) -> 96
A5: CI-07UR1-OUT | B5: СК00021506 | C5: CI-07UR1-OUT | F5: =VLOOKUP("*CI-07UR1-OUT*",[13]TDSheet!$A:$H,COLUMN([13]TDSheet!$E$10),0) -> 96
A6: CI-09UR1-IN | B6: СК00021502 | C6: CI-09UR1-IN | D6: =_xlfn.CONCAT(C6," / ",C7) -> CI-09UR1-IN / CI-09UR1-OUT | E6: 35000 | F6: =VLOOKUP("*CI-09UR1-IN*",[13]TDSheet!$A:$H,COLUMN([13]TDSheet!$E$10),0) -> 157
A7: CI-09UR1-OUT | B7: СК00021507 | C7: CI-09UR1-OUT | F7: =VLOOKUP("*CI-09UR1-OUT*",[13]TDSheet!$A:$H,COLUMN([13]TDSheet!$E$10),0) -> 157
A8: CI-12UR1-IN | B8: СК00021503 | C8: CI-12UR1-IN | D8: =_xlfn.CONCAT(C8," / ",C9) -> CI-12UR1-IN / CI-12UR1-OUT | E8: 39800 | F8: =VLOOKUP("*CI-12UR1-IN*",[13]TDSheet!$A:$H,COLUMN([13]TDSheet!$E$10),0) -> 93
A9: CI-12UR1-OUT | B9: СК00021508 | C9: CI-12UR1-OUT | F9: =VLOOKUP("*CI-12UR1-OUT*",[13]TDSheet!$A:$H,COLUMN([13]TDSheet!$E$10),0) -> 93
A10: CI-18UR1-IN | B10: СК00021504 | C10: CI-18UR1-IN | D10: =_xlfn.CONCAT(C10," / ",C11) -> CI-18UR1-IN / CI-18UR1-OUT | E10: 65600 | F10: =VLOOKUP("*CI-18UR1-IN*",[13]TDSheet!$A:$H,COLUMN([13]TDSheet!$E$10),0) -> 11
A11: CI-18UR1-OUT | B11: СК00021509 | C11: CI-18UR1-OUT | F11: =VLOOKUP("*CI-18UR1-OUT*",[13]TDSheet!$A:$H,COLUMN([13]TDSheet!$E$10),0) -> 11
A12: CI-24UR1-IN | B12: СК00021505 | C12: CI-24UR1-IN | D12: =_xlfn.CONCAT(C12," / ",C13) -> CI-24UR1-IN / CI-24UR1-OUT | E12: 82100 | F12: =VLOOKUP("*CI-24UR1-IN*",[13]TDSheet!$A:$H,COLUMN([13]TDSheet!$E$10),0) -> 7
A13: CI-24UR1-OUT | B13: СК00021510 | C13: CI-24UR1-OUT | F13: =VLOOKUP("*CI-24UR1-OUT*",[13]TDSheet!$A:$H,COLUMN([13]TDSheet!$E$10),0) -> 7
A14: СЕРИЯ RUNA INVERTER
A15: CI-07R1-IN | B15: СК00018073 | C15: CI-07R1-IN | D15: =_xlfn.CONCAT(C15," / ",C16) -> CI-07R1-IN / CI-07R1-OUT | E15: 27200 | F15: =VLOOKUP("*CI-07R1-IN*",[13]TDSheet!$A:$H,COLUMN([13]TDSheet!$E$10),0) -> 278
A16: CI-07R1-OUT | B16: СК00018074 | C16: CI-07R1-OUT | F16: =VLOOKUP("*CI-07R1-OUT*",[13]TDSheet!$A:$H,COLUMN([13]TDSheet!$E$10),0) -> 278
A17: CI-09R1-IN | B17: СК00015559 | C17: CI-09R1-IN | D17: =_xlfn.CONCAT(C17," / ",C18) -> CI-09R1-IN / CI-09R1-OUT | E17: 29500 | F17: =VLOOKUP("*CI-09R1-IN*",[13]TDSheet!$A:$H,COLUMN([13]TDSheet!$E$10),0) -> 54
A18: CI-09R1-OUT | B18: СК00015560 | C18: CI-09R1-OUT | F18: =VLOOKUP("*CI-09R1-OUT*",[13]TDSheet!$A:$H,COLUMN([13]TDSheet!$E$10),0) -> 51
A19: CI-12R1-IN | B19: СК00015561 | C19: CI-12R1-IN | D19: =_xlfn.CONCAT(C19," / ",C20) -> CI-12R1-IN / CI-12R1-OUT | E19: 34500 | F19: =VLOOKUP("*CI-12R1-IN*",[13]TDSheet!$A:$H,COLUMN([13]TDSheet!$E$10),0) -> 38
A20: CI-12R1-OUT | B20: СК00015564 | C20: CI-12R1-OUT | F20: =VLOOKUP("*CI-12R1-OUT*",[13]TDSheet!$A:$H,COLUMN([13]TDSheet!$E$10),0) -> 38
A21: CI-18R1-IN | B21: СК00015562 | C21: CI-18R1-IN | D21: =_xlfn.CONCAT(C21," / ",C22) -> CI-18R1-IN / CI-18R1-OUT | E21: 54600 | F21: =VLOOKUP("*CI-18R1-IN*",[13]TDSheet!$A:$H,COLUMN([13]TDSheet!$E$10),0) -> 193
A22: CI-18R1-OUT | B22: СК00015565 | C22: CI-18R1-OUT | F22: =VLOOKUP("*CI-18R1-OUT*",[13]TDSheet!$A:$H,COLUMN([13]TDSheet!$E$10),0) -> 192
A23: CI-24R1-IN | B23: СК00015563 | C23: CI-24R1-IN | D23: =_xlfn.CONCAT(C23," / ",C24) -> CI-24R1-IN / CI-24R1-OUT | E23: 71400 | F23: =VLOOKUP("*CI-24R1-IN*",[13]TDSheet!$A:$H,COLUMN([13]TDSheet!$E$10),0) -> 75
A24: CI-24R1-OUT | B24: СК00015566 | C24: CI-24R1-OUT | F24: =VLOOKUP("*CI-24R1-OUT*",[13]TDSheet!$A:$H,COLUMN([13]TDSheet!$E$10),0) -> 75
A25: МОДЕЛИ БЕЗ ИНВЕРТОРА
A26: СЕРИЯ CITY ON-OFF
A27: CS-07SH1-IN | B27: СК00018063 | C27: CS-07SH1-IN | D27: =_xlfn.CONCAT(C27," / ",C28) -> CS-07SH1-IN / CS-07SH1-OUT | E27: 22300 | F27: =VLOOKUP("*CS-07SH1-IN*",[13]TDSheet!$A:$H,COLUMN([13]TDSheet!$E$10),0) -> 266
A28: CS-07SH1-OUT | B28: СК00018064 | C28: CS-07SH1-OUT | F28: =VLOOKUP("*CS-07SH1-OUT*",[13]TDSheet!$A:$H,COLUMN([13]TDSheet!$E$10),0) -> 266
A29: CS-09SH1-IN | B29: СК00018065 | C29: CS-09SH1-IN | D29: =_xlfn.CONCAT(C29," / ",C30) -> CS-09SH1-IN / CS-09SH1-OUT | E29: 25000 | F29: =VLOOKUP("*CS-09SH1-IN*",[13]TDSheet!$A:$H,COLUMN([13]TDSheet!$E$10),0) -> 216
A30: CS-09SH1-OUT | B30: СК00018066 | C30: CS-09SH1-OUT | F30: =VLOOKUP("*CS-09SH1-OUT*",[13]TDSheet!$A:$H,COLUMN([13]TDSheet!$E$10),0) -> 216
A31: CS-12SH1-IN | B31: СК00018067 | C31: CS-12SH1-IN | D31: =_xlfn.CONCAT(C31," / ",C32) -> CS-12SH1-IN / CS-12SH1-OUT | E31: 34000 | F31: =VLOOKUP("*CS-12SH1-IN*",[13]TDSheet!$A:$H,COLUMN([13]TDSheet!$E$10),0) -> 423
A32: CS-12SH1-OUT | B32: СК00018068 | C32: CS-12SH1-OUT | F32: =VLOOKUP("*CS-12SH1-OUT*",[13]TDSheet!$A:$H,COLUMN([13]TDSheet!$E$10),0) -> 423
A33: CS-18SH1-IN | B33: СК00018069 | C33: CS-18SH1-IN | D33: =_xlfn.CONCAT(C33," / ",C34) -> CS-18SH1-IN / CS-18SH1-OUT | E33: 54800 | F33: =VLOOKUP("*CS-18SH1-IN*",[13]TDSheet!$A:$H,COLUMN([13]TDSheet!$E$10),0) -> 119
A34: CS-18SH1-OUT | B34: СК00018070 | C34: CS-18SH1-OUT | F34: =VLOOKUP("*CS-18SH1-OUT*",[13]TDSheet!$A:$H,COLUMN([13]TDSheet!$E$10),0) -> 19
A35: CS-24SH2-IN | B35: СК00018840 | C35: CS-24SH2-IN | D35: =_xlfn.CONCAT(C35," / ",C36) -> CS-24SH2-IN / CS-24SH2-OUT | E35: 69200 | F35: =VLOOKUP("*CS-24SH2-IN*",[13]TDSheet!$A:$H,COLUMN([13]TDSheet!$E$10),0) -> 131
A36: CS-24SH2-OUT | B36: СК00018841 | C36: CS-24SH2-OUT | F36: =VLOOKUP("*CS-24SH2-OUT*",[13]TDSheet!$A:$H,COLUMN([13]TDSheet!$E$10),0) -> 131
A37: СЕРИЯ RUNA ON-OFF
A38: CS-07R1-IN | B38: СК00018075 | C38: CS-07R1-IN | D38: =_xlfn.CONCAT(C38," / ",C39) -> CS-07R1-IN / CS-07R1-OUT | E38: 19700 | F38: =VLOOKUP("*CS-07R1-IN*",[13]TDSheet!$A:$H,COLUMN([13]TDSheet!$E$10),0) -> 108
A39: CS-07R1-OUT | B39: СК00018076 | C39: CS-07R1-OUT | F39: =VLOOKUP("*CS-07R1-OUT*",[13]TDSheet!$A:$H,COLUMN([13]TDSheet!$E$10),0) -> 127
A40: CS-09R1-IN | B40: СК00015567 | C40: CS-09R1-IN | D40: =_xlfn.CONCAT(C40," / ",C41) -> CS-09R1-IN / CS-09R1-OUT | E40: 21800 | F40: =VLOOKUP("*CS-09R1-IN*",[13]TDSheet!$A:$H,COLUMN([13]TDSheet!$E$10),0) -> 125
A41: CS-09R1-OUT | B41: СК00015568 | C41: CS-09R1-OUT | F41: =VLOOKUP("*CS-09R1-OUT*",[13]TDSheet!$A:$H,COLUMN([13]TDSheet!$E$10),0) -> 124
A42: CS-12R1-IN | B42: СК00015569 | C42: CS-12R1-IN | D42: =_xlfn.CONCAT(C42," / ",C43) -> CS-12R1-IN / CS-12R1-OUT | E42: 30300 | F42: =VLOOKUP("*CS-12R1-IN*",[13]TDSheet!$A:$H,COLUMN([13]TDSheet!$E$10),0) -> 676
A43: CS-12R1-OUT | B43: СК00015572 | C43: CS-12R1-OUT | F43: =VLOOKUP("*CS-12R1-OUT*",[13]TDSheet!$A:$H,COLUMN([13]TDSheet!$E$10),0) -> 675
A44: CS-18R1-IN | B44: СК00015570 | C44: CS-18R1-IN | D44: =_xlfn.CONCAT(C44," / ",C45) -> CS-18R1-IN / CS-18R1-OUT | E44: 50400 | F44: =VLOOKUP("*CS-18R1-IN*",[13]TDSheet!$A:$H,COLUMN([13]TDSheet!$E$10),0) -> 69
A45: CS-18R1-OUT | B45: СК00015573 | C45: CS-18R1-OUT | F45: =VLOOKUP("*CS-18R1-OUT*",[13]TDSheet!$A:$H,COLUMN([13]TDSheet!$E$10),0) -> 67
A46: CS-24R1-IN | B46: СК00015571 | C46: CS-24R1-IN | D46: =_xlfn.CONCAT(C46," / ",C47) -> CS-24R1-IN / CS-24R1-OUT | E46: 64800 | F46: =VLOOKUP("*CS-24R1-IN*",[13]TDSheet!$A:$H,COLUMN([13]TDSheet!$E$10),0) -> 212
A47: CS-24R1-OUT | B47: СК00015574 | C47: CS-24R1-OUT | F47: =VLOOKUP("*CS-24R1-OUT*",[13]TDSheet!$A:$H,COLUMN([13]TDSheet!$E$10),0) -> 212
A48: Wi-Fi модули
A49: SIW01R1 | B49: СК00015694 | C49: SIW01R1 | D49: Wi-Fi модуль для Runa | E49: 3090 | F49: =VLOOKUP("*SIW01R1*",[13]TDSheet!$A:$H,COLUMN([13]TDSheet!$E$10),0) -> 798
A50: SIW01MB1 | B50: СК00015695 | C50: SIW01MB1 | D50: Wi-Fi модуль для City | E50: 3090 | F50: =VLOOKUP("*SIW01MB1*",[13]TDSheet!$A:$H,COLUMN([13]TDSheet!$E$10),0) -> #N/A

Sheet Daichi
A1: HC код комплекта | B1: HC код поблочно | C1: Модель поблочно | D1: Модель | E1: РИЦ | F1: Остаток1 | G1: В пути | H1: Остаток2 | I1: Остаток3
A2: ИНВЕРТОРНЫЕ МОДЕЛИ
A3: Тепловой насос серии EVOLUTION (обогрев до -30°C)
A4: EVO25AVQS1R | C4: EVO25AVQS1R | D4: =_xlfn.CONCAT(C4," / ",C5) -> EVO25AVQS1R / EVO25FVS1R | E4: =VLOOKUP(A4,[14]RAC!$A:$K,COLUMN([14]RAC!$K$11),0) -> 111290 | F4: =VLOOKUP(A4,[5]Лист1!$A:$E,COLUMN([5]Лист1!$C$4),0) -> 0 | G4: =VLOOKUP(A4,[5]Лист1!$A:$E,COLUMN([5]Лист1!$D$526),0) -> >50 | H4: =VLOOKUP(A4,[6]Лист1!$A:$E,COLUMN([6]Лист1!$C$4),0) -> >50 | I4: =VLOOKUP(A4,[7]Лист1!$A:$E,COLUMN([7]Лист1!$C$4),0) -> 0
A5: EVO25FVS1R | C5: EVO25FVS1R | F5: =VLOOKUP(A5,[5]Лист1!$A:$E,COLUMN([5]Лист1!$C$4),0) -> 2 | G5: =VLOOKUP(A5,[5]Лист1!$A:$E,COLUMN([5]Лист1!$D$526),0) -> >50 | H5: =VLOOKUP(A5,[6]Лист1!$A:$E,COLUMN([6]Лист1!$C$4),0) -> >50 | I5: =VLOOKUP(A5,[7]Лист1!$A:$E,COLUMN([7]Лист1!$C$4),0) -> 0
A6: EVO35AVQS1R | C6: EVO35AVQS1R | D6: =_xlfn.CONCAT(C6," / ",C7) -> EVO35AVQS1R / EVO35FVS1R | E6: =VLOOKUP(A6,[14]RAC!$A:$K,COLUMN([14]RAC!$K$11),0) -> 117890 | F6: =VLOOKUP(A6,[5]Лист1!$A:$E,COLUMN([5]Лист1!$C$4),0) -> 3 | G6: =VLOOKUP(A6,[5]Лист1!$A:$E,COLUMN([5]Лист1!$D$526),0) -> 33 | H6: =VLOOKUP(A6,[6]Лист1!$A:$E,COLUMN([6]Лист1!$C$4),0) -> 33 | I6: =VLOOKUP(A6,[7]Лист1!$A:$E,COLUMN([7]Лист1!$C$4),0) -> 0
A7: EVO35FVS1R | C7: EVO35FVS1R | F7: =VLOOKUP(A7,[5]Лист1!$A:$E,COLUMN([5]Лист1!$C$4),0) -> 3 | G7: =VLOOKUP(A7,[5]Лист1!$A:$E,COLUMN([5]Лист1!$D$526),0) -> 37 | H7: =VLOOKUP(A7,[6]Лист1!$A:$E,COLUMN([6]Лист1!$C$4),0) -> 37 | I7: =VLOOKUP(A7,[7]Лист1!$A:$E,COLUMN([7]Лист1!$C$4),0) -> 0
A8: EVO50AVQS1R | C8: EVO50AVQS1R | D8: =_xlfn.CONCAT(C8," / ",C9) -> EVO50AVQS1R / EVO50FVS1R | E8: =VLOOKUP(A8,[14]RAC!$A:$K,COLUMN([14]RAC!$K$11),0) -> 150290 | F8: =VLOOKUP(A8,[5]Лист1!$A:$E,COLUMN([5]Лист1!$C$4),0) -> 0 | G8: =VLOOKUP(A8,[5]Лист1!$A:$E,COLUMN([5]Лист1!$D$526),0) -> 21 | H8: =VLOOKUP(A8,[6]Лист1!$A:$E,COLUMN([6]Лист1!$C$4),0) -> 21 | I8: =VLOOKUP(A8,[7]Лист1!$A:$E,COLUMN([7]Лист1!$C$4),0) -> 0
A9: EVO50FVS1R | C9: EVO50FVS1R | F9: =VLOOKUP(A9,[5]Лист1!$A:$E,COLUMN([5]Лист1!$C$4),0) -> 0 | G9: =VLOOKUP(A9,[5]Лист1!$A:$E,COLUMN([5]Лист1!$D$526),0) -> 24 | H9: =VLOOKUP(A9,[6]Лист1!$A:$E,COLUMN([6]Лист1!$C$4),0) -> 24 | I9: =VLOOKUP(A9,[7]Лист1!$A:$E,COLUMN([7]Лист1!$C$4),0) -> 0
A10: Дизайнерский тепловой насос серии UNIQUE (обогрев до -25°C)
A11: UNI25AVQS1R | C11: UNI25AVQS1R | D11: =_xlfn.CONCAT(C11," / ",C12) -> UNI25AVQS1R / UNI25FVS1R | E11: =VLOOKUP(A11,[14]RAC!$A:$K,COLUMN([14]RAC!$K$11),0) -> 70790 | F11: =VLOOKUP(A11,[5]Лист1!$A:$E,COLUMN([5]Лист1!$C$4),0) -> 0 | G11: =VLOOKUP(A11,[5]Лист1!$A:$E,COLUMN([5]Лист1!$D$526),0) -> >50 | H11: =VLOOKUP(A11,[6]Лист1!$A:$E,COLUMN([6]Лист1!$C$4),0) -> >50 | I11: =VLOOKUP(A11,[7]Лист1!$A:$E,COLUMN([7]Лист1!$C$4),0) -> 0
A12: UNI25FVS1R | C12: UNI25FVS1R | F12: =VLOOKUP(A12,[5]Лист1!$A:$E,COLUMN([5]Лист1!$C$4),0) -> 0 | G12: =VLOOKUP(A12,[5]Лист1!$A:$E,COLUMN([5]Лист1!$D$526),0) -> >50 | H12: =VLOOKUP(A12,[6]Лист1!$A:$E,COLUMN([6]Лист1!$C$4),0) -> >50 | I12: =VLOOKUP(A12,[7]Лист1!$A:$E,COLUMN([7]Лист1!$C$4),0) -> 0
A13: UNI35AVQS1R | C13: UNI35AVQS1R | D13: =_xlfn.CONCAT(C13," / ",C14) -> UNI35AVQS1R / UNI35FVS1R | E13: =VLOOKUP(A13,[14]RAC!$A:$K,COLUMN([14]RAC!$K$11),0) -> 89590 | F13: =VLOOKUP(A13,[5]Лист1!$A:$E,COLUMN([5]Лист1!$C$4),0) -> 0 | G13: =VLOOKUP(A13,[5]Лист1!$A:$E,COLUMN([5]Лист1!$D$526),0) -> 0 | H13: =VLOOKUP(A13,[6]Лист1!$A:$E,COLUMN([6]Лист1!$C$4),0) -> 0 | I13: =VLOOKUP(A13,[7]Лист1!$A:$E,COLUMN([7]Лист1!$C$4),0) -> 0
A14: UNI35FVS1R | C14: UNI35FVS1R | F14: =VLOOKUP(A14,[5]Лист1!$A:$E,COLUMN([5]Лист1!$C$4),0) -> 3 | G14: =VLOOKUP(A14,[5]Лист1!$A:$E,COLUMN([5]Лист1!$D$526),0) -> 0 | H14: =VLOOKUP(A14,[6]Лист1!$A:$E,COLUMN([6]Лист1!$C$4),0) -> 0 | I14: =VLOOKUP(A14,[7]Лист1!$A:$E,COLUMN([7]Лист1!$C$4),0) -> 0
A15: Тепловой насос серии SIBERIA (обогрев при до -25°C)
A16: SIB25AVQS1R | C16: SIB25AVQS1R | D16: =_xlfn.CONCAT(C16," / ",C17) -> SIB25AVQS1R / SIB25FVS1R | E16: =VLOOKUP(A16,[14]RAC!$A:$K,COLUMN([14]RAC!$K$11),0) -> 65290 | F16: =VLOOKUP(A16,[5]Лист1!$A:$E,COLUMN([5]Лист1!$C$4),0) -> 0 | G16: =VLOOKUP(A16,[5]Лист1!$A:$E,COLUMN([5]Лист1!$D$526),0) -> 46 | H16: =VLOOKUP(A16,[6]Лист1!$A:$E,COLUMN([6]Лист1!$C$4),0) -> 0 | I16: =VLOOKUP(A16,[7]Лист1!$A:$E,COLUMN([7]Лист1!$C$4),0) -> 0
A17: SIB25FVS1R | C17: SIB25FVS1R | F17: =VLOOKUP(A17,[5]Лист1!$A:$E,COLUMN([5]Лист1!$C$4),0) -> 1 | G17: =VLOOKUP(A17,[5]Лист1!$A:$E,COLUMN([5]Лист1!$D$526),0) -> 46 | H17: =VLOOKUP(A17,[6]Лист1!$A:$E,COLUMN([6]Лист1!$C$4),0) -> 0 | I17: =VLOOKUP(A17,[7]Лист1!$A:$E,COLUMN([7]Лист1!$C$4),0) -> 0
A18: SIB35AVQS1R | C18: SIB35AVQS1R | D18: =_xlfn.CONCAT(C18," / ",C19) -> SIB35AVQS1R / SIB35FVS1R | E18: =VLOOKUP(A18,[14]RAC!$A:$K,COLUMN([14]RAC!$K$11),0) -> 71890 | F18: =VLOOKUP(A18,[5]Лист1!$A:$E,COLUMN([5]Лист1!$C$4),0) -> 0 | G18: =VLOOKUP(A18,[5]Лист1!$A:$E,COLUMN([5]Лист1!$D$526),0) -> 39 | H18: =VLOOKUP(A18,[6]Лист1!$A:$E,COLUMN([6]Лист1!$C$4),0) -> 0 | I18: =VLOOKUP(A18,[7]Лист1!$A:$E,COLUMN([7]Лист1!$C$4),0) -> 0
A19: SIB35FVS1R | C19: SIB35FVS1R | F19: =VLOOKUP(A19,[5]Лист1!$A:$E,COLUMN([5]Лист1!$C$4),0) -> 0 | G19: =VLOOKUP(A19,[5]Лист1!$A:$E,COLUMN([5]Лист1!$D$526),0) -> 36 | H19: =VLOOKUP(A19,[6]Лист1!$A:$E,COLUMN([6]Лист1!$C$4),0) -> 0 | I19: =VLOOKUP(A19,[7]Лист1!$A:$E,COLUMN([7]Лист1!$C$4),0) -> 0
A20: SIB50AVQS1R | C20: SIB50AVQS1R | D20: =_xlfn.CONCAT(C20," / ",C21) -> SIB50AVQS1R / SIB50FVS1R | E20: =VLOOKUP(A20,[14]RAC!$A:$K,COLUMN([14]RAC!$K$11),0) -> 108090 | F20: =VLOOKUP(A20,[5]Лист1!$A:$E,COLUMN([5]Лист1!$C$4),0) -> 0 | G20: =VLOOKUP(A20,[5]Лист1!$A:$E,COLUMN([5]Лист1!$D$526),0) -> 10 | H20: =VLOOKUP(A20,[6]Лист1!$A:$E,COLUMN([6]Лист1!$C$4),0) -> 0 | I20: =VLOOKUP(A20,[7]Лист1!$A:$E,COLUMN([7]Лист1!$C$4),0) -> 0
A21: SIB50FVS1R | C21: SIB50FVS1R | F21: =VLOOKUP(A21,[5]Лист1!$A:$E,COLUMN([5]Лист1!$C$4),0) -> 0 | G21: =VLOOKUP(A21,[5]Лист1!$A:$E,COLUMN([5]Лист1!$D$526),0) -> 7 | H21: =VLOOKUP(A21,[6]Лист1!$A:$E,COLUMN([6]Лист1!$C$4),0) -> 0 | I21: =VLOOKUP(A21,[7]Лист1!$A:$E,COLUMN([7]Лист1!$C$4),0) -> 0
A22: SIB70AVQS1R | C22: SIB70AVQS1R | D22: =_xlfn.CONCAT(C22," / ",C23) -> SIB70AVQS1R / SIB70FVS1R | E22: =VLOOKUP(A22,[14]RAC!$A:$K,COLUMN([14]RAC!$K$11),0) -> 142390 | F22: =VLOOKUP(A22,[5]Лист1!$A:$E,COLUMN([5]Лист1!$C$4),0) -> 1 | G22: =VLOOKUP(A22,[5]Лист1!$A:$E,COLUMN([5]Лист1!$D$526),0) -> 0 | H22: =VLOOKUP(A22,[6]Лист1!$A:$E,COLUMN([6]Лист1!$C$4),0) -> 0 | I22: =VLOOKUP(A22,[7]Лист1!$A:$E,COLUMN([7]Лист1!$C$4),0) -> 0
A23: SIB70FVS1R | C23: SIB70FVS1R | F23: =VLOOKUP(A23,[5]Лист1!$A:$E,COLUMN([5]Лист1!$C$4),0) -> 1 | G23: =VLOOKUP(A23,[5]Лист1!$A:$E,COLUMN([5]Лист1!$D$526),0) -> 0 | H23: =VLOOKUP(A23,[6]Лист1!$A:$E,COLUMN([6]Лист1!$C$4),0) -> 0 | I23: =VLOOKUP(A23,[7]Лист1!$A:$E,COLUMN([7]Лист1!$C$4),0) -> 0
A24: Инверторные сплит-системы серии AIR inverter
A25: AIR25AVQS1R-2 | C25: AIR25AVQS1R-2 | D25: =_xlfn.CONCAT(C25," / ",C26) -> AIR25AVQS1R-2 / AIR25FVS1R-2 | E25: =VLOOKUP(A25,[14]RAC!$A:$K,COLUMN([14]RAC!$K$11),0) -> 44390 | F25: =VLOOKUP(A25,[5]Лист1!$A:$E,COLUMN([5]Лист1!$C$4),0) -> 0 | G25: =VLOOKUP(A25,[5]Лист1!$A:$E,COLUMN([5]Лист1!$D$526),0) -> 0 | H25: =VLOOKUP(A25,[6]Лист1!$A:$E,COLUMN([6]Лист1!$C$4),0) -> 0 | I25: =VLOOKUP(A25,[7]Лист1!$A:$E,COLUMN([7]Лист1!$C$4),0) -> 0
A26: AIR25FVS1R-2 | C26: AIR25FVS1R-2 | F26: =VLOOKUP(A26,[5]Лист1!$A:$E,COLUMN([5]Лист1!$C$4),0) -> 0 | G26: =VLOOKUP(A26,[5]Лист1!$A:$E,COLUMN([5]Лист1!$D$526),0) -> 3 | H26: =VLOOKUP(A26,[6]Лист1!$A:$E,COLUMN([6]Лист1!$C$4),0) -> 0 | I26: =VLOOKUP(A26,[7]Лист1!$A:$E,COLUMN([7]Лист1!$C$4),0) -> 0
A27: AIR35AVQS1R-2 | C27: AIR35AVQS1R-2 | D27: =_xlfn.CONCAT(C27," / ",C28) -> AIR35AVQS1R-2 / AIR35FVS1R-2 | E27: =VLOOKUP(A27,[14]RAC!$A:$K,COLUMN([14]RAC!$K$11),0) -> 49390 | F27: =VLOOKUP(A27,[5]Лист1!$A:$E,COLUMN([5]Лист1!$C$4),0) -> 0 | G27: =VLOOKUP(A27,[5]Лист1!$A:$E,COLUMN([5]Лист1!$D$526),0) -> 0 | H27: =VLOOKUP(A27,[6]Лист1!$A:$E,COLUMN([6]Лист1!$C$4),0) -> 0 | I27: =VLOOKUP(A27,[7]Лист1!$A:$E,COLUMN([7]Лист1!$C$4),0) -> 0
A28: AIR35FVS1R-2 | C28: AIR35FVS1R-2 | F28: =VLOOKUP(A28,[5]Лист1!$A:$E,COLUMN([5]Лист1!$C$4),0) -> 0 | G28: =VLOOKUP(A28,[5]Лист1!$A:$E,COLUMN([5]Лист1!$D$526),0) -> 21 | H28: =VLOOKUP(A28,[6]Лист1!$A:$E,COLUMN([6]Лист1!$C$4),0) -> 19 | I28: =VLOOKUP(A28,[7]Лист1!$A:$E,COLUMN([7]Лист1!$C$4),0) -> 0
A29: AIR50AVQS1R-2 | C29: AIR50AVQS1R-2 | D29: =_xlfn.CONCAT(C29," / ",C30) -> AIR50AVQS1R-2 / AIR50FVS1R-2 | E29: =VLOOKUP(A29,[14]RAC!$A:$K,COLUMN([14]RAC!$K$11),0) -> 85290 | F29: =VLOOKUP(A29,[5]Лист1!$A:$E,COLUMN([5]Лист1!$C$4),0) -> 0 | G29: =VLOOKUP(A29,[5]Лист1!$A:$E,COLUMN([5]Лист1!$D$526),0) -> 1 | H29: =VLOOKUP(A29,[6]Лист1!$A:$E,COLUMN([6]Лист1!$C$4),0) -> 1 | I29: =VLOOKUP(A29,[7]Лист1!$A:$E,COLUMN([7]Лист1!$C$4),0) -> 0
A30: AIR50FVS1R-2 | C30: AIR50FVS1R-2 | F30: =VLOOKUP(A30,[5]Лист1!$A:$E,COLUMN([5]Лист1!$C$4),0) -> 0 | G30: =VLOOKUP(A30,[5]Лист1!$A:$E,COLUMN([5]Лист1!$D$526),0) -> 1 | H30: =VLOOKUP(A30,[6]Лист1!$A:$E,COLUMN([6]Лист1!$C$4),0) -> 1 | I30: =VLOOKUP(A30,[7]Лист1!$A:$E,COLUMN([7]Лист1!$C$4),0) -> 0
A31: AIR60AVQS1R-2 | C31: AIR60AVQS1R-2 | D31: =_xlfn.CONCAT(C31," / ",C32) -> AIR60AVQS1R-2 / AIR60FVS1R-2 | E31: =VLOOKUP(A31,[14]RAC!$A:$K,COLUMN([14]RAC!$K$11),0) -> 114590 | F31: =VLOOKUP(A31,[5]Лист1!$A:$E,COLUMN([5]Лист1!$C$4),0) -> 0 | G31: =VLOOKUP(A31,[5]Лист1!$A:$E,COLUMN([5]Лист1!$D$526),0) -> >50 | H31: =VLOOKUP(A31,[6]Лист1!$A:$E,COLUMN([6]Лист1!$C$4),0) -> >50 | I31: =VLOOKUP(A31,[7]Лист1!$A:$E,COLUMN([7]Лист1!$C$4),0) -> 0
A32: AIR60FVS1R-2 | C32: AIR60FVS1R-2 | F32: =VLOOKUP(A32,[5]Лист1!$A:$E,COLUMN([5]Лист1!$C$4),0) -> 0 | G32: =VLOOKUP(A32,[5]Лист1!$A:$E,COLUMN([5]Лист1!$D$526),0) -> >50 | H32: =VLOOKUP(A32,[6]Лист1!$A:$E,COLUMN([6]Лист1!$C$4),0) -> >50 | I32: =VLOOKUP(A32,[7]Лист1!$A:$E,COLUMN([7]Лист1!$C$4),0) -> 0
A33: Дизайнерская инверторная сплит-система MIRACLE inverter
A34: MIR25AVQS1R-1 | C34: MIR25AVQS1R-1 | D34: =_xlfn.CONCAT(C34," / ",C35) -> MIR25AVQS1R-1 / MIR25FVS1R-1 | E34: =VLOOKUP(A34,[14]RAC!$A:$K,COLUMN([14]RAC!$K$11),0) -> 53090 | F34: =VLOOKUP(A34,[5]Лист1!$A:$E,COLUMN([5]Лист1!$C$4),0) -> 0 | G34: =VLOOKUP(A34,[5]Лист1!$A:$E,COLUMN([5]Лист1!$D$526),0) -> 3 | H34: =VLOOKUP(A34,[6]Лист1!$A:$E,COLUMN([6]Лист1!$C$4),0) -> 3 | I34: =VLOOKUP(A34,[7]Лист1!$A:$E,COLUMN([7]Лист1!$C$4),0) -> 0
A35: MIR25FVS1R-1 | C35: MIR25FVS1R-1 | F35: =VLOOKUP(A35,[5]Лист1!$A:$E,COLUMN([5]Лист1!$C$4),0) -> 0 | G35: =VLOOKUP(A35,[5]Лист1!$A:$E,COLUMN([5]Лист1!$D$526),0) -> 0 | H35: =VLOOKUP(A35,[6]Лист1!$A:$E,COLUMN([6]Лист1!$C$4),0) -> 0 | I35: =VLOOKUP(A35,[7]Лист1!$A:$E,COLUMN([7]Лист1!$C$4),0) -> 0
A36: MIR35AVQS1R-1 | C36: MIR35AVQS1R-1 | D36: =_xlfn.CONCAT(C36," / ",C37) -> MIR35AVQS1R-1 / MIR35FVS1R-1 | E36: =VLOOKUP(A36,[14]RAC!$A:$K,COLUMN([14]RAC!$K$11),0) -> 57790 | F36: =VLOOKUP(A36,[5]Лист1!$A:$E,COLUMN([5]Лист1!$C$4),0) -> 0 | G36: =VLOOKUP(A36,[5]Лист1!$A:$E,COLUMN([5]Лист1!$D$526),0) -> 3 | H36: =VLOOKUP(A36,[6]Лист1!$A:$E,COLUMN([6]Лист1!$C$4),0) -> 3 | I36: =VLOOKUP(A36,[7]Лист1!$A:$E,COLUMN([7]Лист1!$C$4),0) -> 0
A37: MIR35FVS1R-1 | C37: MIR35FVS1R-1 | F37: =VLOOKUP(A37,[5]Лист1!$A:$E,COLUMN([5]Лист1!$C$4),0) -> 0 | G37: =VLOOKUP(A37,[5]Лист1!$A:$E,COLUMN([5]Лист1!$D$526),0) -> 0 | H37: =VLOOKUP(A37,[6]Лист1!$A:$E,COLUMN([6]Лист1!$C$4),0) -> 0 | I37: =VLOOKUP(A37,[7]Лист1!$A:$E,COLUMN([7]Лист1!$C$4),0) -> 0
A38: MIR50AVQS1R-1 | C38: MIR50AVQS1R-1 | D38: =_xlfn.CONCAT(C38," / ",C39) -> MIR50AVQS1R-1 / MIR50FVS1R-1 | E38: =VLOOKUP(A38,[14]RAC!$A:$K,COLUMN([14]RAC!$K$11),0) -> 95790 | F38: =VLOOKUP(A38,[5]Лист1!$A:$E,COLUMN([5]Лист1!$C$4),0) -> 0 | G38: =VLOOKUP(A38,[5]Лист1!$A:$E,COLUMN([5]Лист1!$D$526),0) -> >50 | H38: =VLOOKUP(A38,[6]Лист1!$A:$E,COLUMN([6]Лист1!$C$4),0) -> >50 | I38: =VLOOKUP(A38,[7]Лист1!$A:$E,COLUMN([7]Лист1!$C$4),0) -> 0
A39: MIR50FVS1R-1 | C39: MIR50FVS1R-1 | F39: =VLOOKUP(A39,[5]Лист1!$A:$E,COLUMN([5]Лист1!$C$4),0) -> 0 | G39: =VLOOKUP(A39,[5]Лист1!$A:$E,COLUMN([5]Лист1!$D$526),0) -> >50 | H39: =VLOOKUP(A39,[6]Лист1!$A:$E,COLUMN([6]Лист1!$C$4),0) -> >50 | I39: =VLOOKUP(A39,[7]Лист1!$A:$E,COLUMN([7]Лист1!$C$4),0) -> 0
A40: MIR70AVQS1R-1 | C40: MIR70AVQS1R-1 | D40: =_xlfn.CONCAT(C40," / ",C41) -> MIR70AVQS1R-1 / MIR70FVS1R-1 | E40: =VLOOKUP(A40,[14]RAC!$A:$K,COLUMN([14]RAC!$K$11),0) -> 126290 | F40: =VLOOKUP(A40,[5]Лист1!$A:$E,COLUMN([5]Лист1!$C$4),0) -> 0 | G40: =VLOOKUP(A40,[5]Лист1!$A:$E,COLUMN([5]Лист1!$D$526),0) -> >50 | H40: =VLOOKUP(A40,[6]Лист1!$A:$E,COLUMN([6]Лист1!$C$4),0) -> >50 | I40: =VLOOKUP(A40,[7]Лист1!$A:$E,COLUMN([7]Лист1!$C$4),0) -> 0
A41: MIR70FVS1R-1 | C41: MIR70FVS1R-1 | F41: =VLOOKUP(A41,[5]Лист1!$A:$E,COLUMN([5]Лист1!$C$4),0) -> 0 | G41: =VLOOKUP(A41,[5]Лист1!$A:$E,COLUMN([5]Лист1!$D$526),0) -> >50 | H41: =VLOOKUP(A41,[6]Лист1!$A:$E,COLUMN([6]Лист1!$C$4),0) -> >50 | I41: =VLOOKUP(A41,[7]Лист1!$A:$E,COLUMN([7]Лист1!$C$4),0) -> 0
A42: Инверторные сплит-системы серии ICE 2 inverter
A43: ICE20AVQS1R-2 | C43: ICE20AVQS1R-2 | D43: =_xlfn.CONCAT(C43," / ",C44) -> ICE20AVQS1R-2 / ICE20FVS1R-2 | E43: =VLOOKUP(A43,[14]RAC!$A:$K,COLUMN([14]RAC!$K$11),0) -> 41290 | F43: =VLOOKUP(A43,[5]Лист1!$A:$E,COLUMN([5]Лист1!$C$4),0) -> 0 | G43: =VLOOKUP(A43,[5]Лист1!$A:$E,COLUMN([5]Лист1!$D$526),0) -> >50 | H43: =VLOOKUP(A43,[6]Лист1!$A:$E,COLUMN([6]Лист1!$C$4),0) -> 0 | I43: =VLOOKUP(A43,[7]Лист1!$A:$E,COLUMN([7]Лист1!$C$4),0) -> >50
A44: ICE20FVS1R-2 | C44: ICE20FVS1R-2 | F44: =VLOOKUP(A44,[5]Лист1!$A:$E,COLUMN([5]Лист1!$C$4),0) -> 0 | G44: =VLOOKUP(A44,[5]Лист1!$A:$E,COLUMN([5]Лист1!$D$526),0) -> >50 | H44: =VLOOKUP(A44,[6]Лист1!$A:$E,COLUMN([6]Лист1!$C$4),0) -> 0 | I44: =VLOOKUP(A44,[7]Лист1!$A:$E,COLUMN([7]Лист1!$C$4),0) -> >50
A45: ICE25AVQS1R-2 | C45: ICE25AVQS1R-2 | D45: =_xlfn.CONCAT(C45," / ",C46) -> ICE25AVQS1R-2 / ICE25FVS1R-2 | E45: =VLOOKUP(A45,[14]RAC!$A:$K,COLUMN([14]RAC!$K$11),0) -> 45390 | F45: =VLOOKUP(A45,[5]Лист1!$A:$E,COLUMN([5]Лист1!$C$4),0) -> 0 | G45: =VLOOKUP(A45,[5]Лист1!$A:$E,COLUMN([5]Лист1!$D$526),0) -> 0 | H45: =VLOOKUP(A45,[6]Лист1!$A:$E,COLUMN([6]Лист1!$C$4),0) -> 0 | I45: =VLOOKUP(A45,[7]Лист1!$A:$E,COLUMN([7]Лист1!$C$4),0) -> 0
A46: ICE25FVS1R-2 | C46: ICE25FVS1R-2 | F46: =VLOOKUP(A46,[5]Лист1!$A:$E,COLUMN([5]Лист1!$C$4),0) -> 0 | G46: =VLOOKUP(A46,[5]Лист1!$A:$E,COLUMN([5]Лист1!$D$526),0) -> 0 | H46: =VLOOKUP(A46,[6]Лист1!$A:$E,COLUMN([6]Лист1!$C$4),0) -> 0 | I46: =VLOOKUP(A46,[7]Лист1!$A:$E,COLUMN([7]Лист1!$C$4),0) -> 0
A47: ICE35AVQS1R-2 | C47: ICE35AVQS1R-2 | D47: =_xlfn.CONCAT(C47," / ",C48) -> ICE35AVQS1R-2 / ICE35FVS1R-2 | E47: =VLOOKUP(A47,[14]RAC!$A:$K,COLUMN([14]RAC!$K$11),0) -> 50590 | F47: =VLOOKUP(A47,[5]Лист1!$A:$E,COLUMN([5]Лист1!$C$4),0) -> 0 | G47: =VLOOKUP(A47,[5]Лист1!$A:$E,COLUMN([5]Лист1!$D$526),0) -> 0 | H47: =VLOOKUP(A47,[6]Лист1!$A:$E,COLUMN([6]Лист1!$C$4),0) -> 0 | I47: =VLOOKUP(A47,[7]Лист1!$A:$E,COLUMN([7]Лист1!$C$4),0) -> 0
A48: ICE35FVS1R-2 | C48: ICE35FVS1R-2 | F48: =VLOOKUP(A48,[5]Лист1!$A:$E,COLUMN([5]Лист1!$C$4),0) -> 0 | G48: =VLOOKUP(A48,[5]Лист1!$A:$E,COLUMN([5]Лист1!$D$526),0) -> 0 | H48: =VLOOKUP(A48,[6]Лист1!$A:$E,COLUMN([6]Лист1!$C$4),0) -> 0 | I48: =VLOOKUP(A48,[7]Лист1!$A:$E,COLUMN([7]Лист1!$C$4),0) -> 0
A49: ICE50AVQS1R-2 | C49: ICE50AVQS1R-2 | D49: =_xlfn.CONCAT(C49," / ",C50) -> ICE50AVQS1R-2 / ICE50FVS1R-2 | E49: =VLOOKUP(A49,[14]RAC!$A:$K,COLUMN([14]RAC!$K$11),0) -> 88990 | F49: =VLOOKUP(A49,[5]Лист1!$A:$E,COLUMN([5]Лист1!$C$4),0) -> 0 | G49: =VLOOKUP(A49,[5]Лист1!$A:$E,COLUMN([5]Лист1!$D$526),0) -> 0 | H49: =VLOOKUP(A49,[6]Лист1!$A:$E,COLUMN([6]Лист1!$C$4),0) -> 0 | I49: =VLOOKUP(A49,[7]Лист1!$A:$E,COLUMN([7]Лист1!$C$4),0) -> 0
A50: ICE50FVS1R-2 | C50: ICE50FVS1R-2 | F50: =VLOOKUP(A50,[5]Лист1!$A:$E,COLUMN([5]Лист1!$C$4),0) -> 0 | G50: =VLOOKUP(A50,[5]Лист1!$A:$E,COLUMN([5]Лист1!$D$526),0) -> 0 | H50: =VLOOKUP(A50,[6]Лист1!$A:$E,COLUMN([6]Лист1!$C$4),0) -> 0 | I50: =VLOOKUP(A50,[7]Лист1!$A:$E,COLUMN([7]Лист1!$C$4),0) -> 0
A51: ICE70AVQS1R-2 | C51: ICE70AVQS1R-2 | D51: =_xlfn.CONCAT(C51," / ",C52) -> ICE70AVQS1R-2 / ICE70FVS1R-2 | E51: =VLOOKUP(A51,[14]RAC!$A:$K,COLUMN([14]RAC!$K$11),0) -> 109590 | F51: =VLOOKUP(A51,[5]Лист1!$A:$E,COLUMN([5]Лист1!$C$4),0) -> 3 | G51: =VLOOKUP(A51,[5]Лист1!$A:$E,COLUMN([5]Лист1!$D$526),0) -> 7 | H51: =VLOOKUP(A51,[6]Лист1!$A:$E,COLUMN([6]Лист1!$C$4),0) -> 1 | I51: =VLOOKUP(A51,[7]Лист1!$A:$E,COLUMN([7]Лист1!$C$4),0) -> 0
A52: ICE70FVS1R-2 | C52: ICE70FVS1R-2 | F52: =VLOOKUP(A52,[5]Лист1!$A:$E,COLUMN([5]Лист1!$C$4),0) -> 0 | G52: =VLOOKUP(A52,[5]Лист1!$A:$E,COLUMN([5]Лист1!$D$526),0) -> 0 | H52: =VLOOKUP(A52,[6]Лист1!$A:$E,COLUMN([6]Лист1!$C$4),0) -> 0 | I52: =VLOOKUP(A52,[7]Лист1!$A:$E,COLUMN([7]Лист1!$C$4),0) -> 0
A53: Настенные сплит-системы ICE 2 inverter с низкотемпературной доработкой °D-ARCTIC до -40°C
A54: ICE20AVQS1R-2 | C54: ICE20AVQS1R-2 | D54: =_xlfn.CONCAT(C54," / ",C55) -> ICE20AVQS1R-2 / ICE20FVS1R-2/-40 | E54: 56690 | F54: =VLOOKUP(A54,[5]Лист1!$A:$E,COLUMN([5]Лист1!$C$4),0) -> 0 | G54: =VLOOKUP(A54,[5]Лист1!$A:$E,COLUMN([5]Лист1!$D$526),0) -> >50 | H54: =VLOOKUP(A54,[6]Лист1!$A:$E,COLUMN([6]Лист1!$C$4),0) -> 0 | I54: =VLOOKUP(A54,[7]Лист1!$A:$E,COLUMN([7]Лист1!$C$4),0) -> >50
A55: ICE20FVS1R-2/-40 | C55: ICE20FVS1R-2/-40 | F55: =VLOOKUP(A55,[5]Лист1!$A:$E,COLUMN([5]Лист1!$C$4),0) -> #N/A | G55: =VLOOKUP(A55,[5]Лист1!$A:$E,COLUMN([5]Лист1!$D$526),0) -> #N/A | H55: =VLOOKUP(A55,[6]Лист1!$A:$E,COLUMN([6]Лист1!$C$4),0) -> #N/A | I55: =VLOOKUP(A55,[7]Лист1!$A:$E,COLUMN([7]Лист1!$C$4),0) -> #N/A
A56: ICE25AVQS1R-2 | C56: ICE25AVQS1R-2 | D56: =_xlfn.CONCAT(C56," / ",C57) -> ICE25AVQS1R-2 / ICE25FVS1R-2/-40 | E56: 60790 | F56: =VLOOKUP(A56,[5]Лист1!$A:$E,COLUMN([5]Лист1!$C$4),0) -> 0 | G56: =VLOOKUP(A56,[5]Лист1!$A:$E,COLUMN([5]Лист1!$D$526),0) -> 0 | H56: =VLOOKUP(A56,[6]Лист1!$A:$E,COLUMN([6]Лист1!$C$4),0) -> 0 | I56: =VLOOKUP(A56,[7]Лист1!$A:$E,COLUMN([7]Лист1!$C$4),0) -> 0
A57: ICE25FVS1R-2/-40 | C57: ICE25FVS1R-2/-40 | F57: =VLOOKUP(A57,[5]Лист1!$A:$E,COLUMN([5]Лист1!$C$4),0) -> #N/A | G57: =VLOOKUP(A57,[5]Лист1!$A:$E,COLUMN([5]Лист1!$D$526),0) -> #N/A | H57: =VLOOKUP(A57,[6]Лист1!$A:$E,COLUMN([6]Лист1!$C$4),0) -> #N/A | I57: =VLOOKUP(A57,[7]Лист1!$A:$E,COLUMN([7]Лист1!$C$4),0) -> #N/A
A58: ICE35AVQS1R-2 | C58: ICE35AVQS1R-2 | D58: =_xlfn.CONCAT(C58," / ",C59) -> ICE35AVQS1R-2 / ICE35FVS1R-2/-40 | E58: 65990 | F58: =VLOOKUP(A58,[5]Лист1!$A:$E,COLUMN([5]Лист1!$C$4),0) -> 0 | G58: =VLOOKUP(A58,[5]Лист1!$A:$E,COLUMN([5]Лист1!$D$526),0) -> 0 | H58: =VLOOKUP(A58,[6]Лист1!$A:$E,COLUMN([6]Лист1!$C$4),0) -> 0 | I58: =VLOOKUP(A58,[7]Лист1!$A:$E,COLUMN([7]Лист1!$C$4),0) -> 0
A59: ICE35FVS1R-2/-40 | C59: ICE35FVS1R-2/-40 | F59: =VLOOKUP(A59,[5]Лист1!$A:$E,COLUMN([5]Лист1!$C$4),0) -> #N/A | G59: =VLOOKUP(A59,[5]Лист1!$A:$E,COLUMN([5]Лист1!$D$526),0) -> #N/A | H59: =VLOOKUP(A59,[6]Лист1!$A:$E,COLUMN([6]Лист1!$C$4),0) -> #N/A | I59: =VLOOKUP(A59,[7]Лист1!$A:$E,COLUMN([7]Лист1!$C$4),0) -> #N/A
A60: ICE50AVQS1R-2 | C60: ICE50AVQS1R-2 | D60: =_xlfn.CONCAT(C60," / ",C61) -> ICE50AVQS1R-2 / ICE50FVS1R-2/-40 | E60: 104390 | F60: =VLOOKUP(A60,[5]Лист1!$A:$E,COLUMN([5]Лист1!$C$4),0) -> 0 | G60: =VLOOKUP(A60,[5]Лист1!$A:$E,COLUMN([5]Лист1!$D$526),0) -> 0 | H60: =VLOOKUP(A60,[6]Лист1!$A:$E,COLUMN([6]Лист1!$C$4),0) -> 0 | I60: =VLOOKUP(A60,[7]Лист1!$A:$E,COLUMN([7]Лист1!$C$4),0) -> 0
A61: ICE50FVS1R-2/-40 | C61: ICE50FVS1R-2/-40 | F61: =VLOOKUP(A61,[5]Лист1!$A:$E,COLUMN([5]Лист1!$C$4),0) -> #N/A | G61: =VLOOKUP(A61,[5]Лист1!$A:$E,COLUMN([5]Лист1!$D$526),0) -> #N/A | H61: =VLOOKUP(A61,[6]Лист1!$A:$E,COLUMN([6]Лист1!$C$4),0) -> #N/A | I61: =VLOOKUP(A61,[7]Лист1!$A:$E,COLUMN([7]Лист1!$C$4),0) -> #N/A
A62: ICE70AVQS1R-2 | C62: ICE70AVQS1R-2 | D62: =_xlfn.CONCAT(C62," / ",C63) -> ICE70AVQS1R-2 / ICE70FVS1R-2/-40 | E62: 124990 | F62: =VLOOKUP(A62,[5]Лист1!$A:$E,COLUMN([5]Лист1!$C$4),0) -> 3 | G62: =VLOOKUP(A62,[5]Лист1!$A:$E,COLUMN([5]Лист1!$D$526),0) -> 7 | H62: =VLOOKUP(A62,[6]Лист1!$A:$E,COLUMN([6]Лист1!$C$4),0) -> 1 | I62: =VLOOKUP(A62,[7]Лист1!$A:$E,COLUMN([7]Лист1!$C$4),0) -> 0
A63: ICE70FVS1R-2/-40 | C63: ICE70FVS1R-2/-40 | F63: =VLOOKUP(A63,[5]Лист1!$A:$E,COLUMN([5]Лист1!$C$4),0) -> #N/A | G63: =VLOOKUP(A63,[5]Лист1!$A:$E,COLUMN([5]Лист1!$D$526),0) -> #N/A | H63: =VLOOKUP(A63,[6]Лист1!$A:$E,COLUMN([6]Лист1!$C$4),0) -> #N/A | I63: =VLOOKUP(A63,[7]Лист1!$A:$E,COLUMN([7]Лист1!$C$4),0) -> #N/A
A64: Инверторные сплит-системы серии ALPINE
A65: ALP20AVQS1R | C65: ALP20AVQS1R | D65: =_xlfn.CONCAT(C65," / ",C66) -> ALP20AVQS1R / ALP20FVS1R | E65: =VLOOKUP(A65,[14]RAC!$A:$K,COLUMN([14]RAC!$K$11),0) -> 37790 | F65: =VLOOKUP(A65,[5]Лист1!$A:$E,COLUMN([5]Лист1!$C$4),0) -> 0 | G65: =VLOOKUP(A65,[5]Лист1!$A:$E,COLUMN([5]Лист1!$D$526),0) -> 0 | H65: =VLOOKUP(A65,[6]Лист1!$A:$E,COLUMN([6]Лист1!$C$4),0) -> 0 | I65: =VLOOKUP(A65,[7]Лист1!$A:$E,COLUMN([7]Лист1!$C$4),0) -> 0
A66: ALP20FVS1R | C66: ALP20FVS1R | F66: =VLOOKUP(A66,[5]Лист1!$A:$E,COLUMN([5]Лист1!$C$4),0) -> 0 | G66: =VLOOKUP(A66,[5]Лист1!$A:$E,COLUMN([5]Лист1!$D$526),0) -> 0 | H66: =VLOOKUP(A66,[6]Лист1!$A:$E,COLUMN([6]Лист1!$C$4),0) -> 0 | I66: =VLOOKUP(A66,[7]Лист1!$A:$E,COLUMN([7]Лист1!$C$4),0) -> 0
A67: ALP25AVQS1R | C67: ALP25AVQS1R | D67: =_xlfn.CONCAT(C67," / ",C68) -> ALP25AVQS1R / ALP25FVS1R | E67: =VLOOKUP(A67,[14]RAC!$A:$K,COLUMN([14]RAC!$K$11),0) -> 39990 | F67: =VLOOKUP(A67,[5]Лист1!$A:$E,COLUMN([5]Лист1!$C$4),0) -> 0 | G67: =VLOOKUP(A67,[5]Лист1!$A:$E,COLUMN([5]Лист1!$D$526),0) -> 0 | H67: =VLOOKUP(A67,[6]Лист1!$A:$E,COLUMN([6]Лист1!$C$4),0) -> 0 | I67: =VLOOKUP(A67,[7]Лист1!$A:$E,COLUMN([7]Лист1!$C$4),0) -> 0
A68: ALP25FVS1R | C68: ALP25FVS1R | F68: =VLOOKUP(A68,[5]Лист1!$A:$E,COLUMN([5]Лист1!$C$4),0) -> 0 | G68: =VLOOKUP(A68,[5]Лист1!$A:$E,COLUMN([5]Лист1!$D$526),0) -> 0 | H68: =VLOOKUP(A68,[6]Лист1!$A:$E,COLUMN([6]Лист1!$C$4),0) -> 0 | I68: =VLOOKUP(A68,[7]Лист1!$A:$E,COLUMN([7]Лист1!$C$4),0) -> 0
A69: ALP35AVQS1R | C69: ALP35AVQS1R | D69: =_xlfn.CONCAT(C69," / ",C70) -> ALP35AVQS1R / ALP35FVS1R | E69: =VLOOKUP(A69,[14]RAC!$A:$K,COLUMN([14]RAC!$K$11),0) -> 45890 | F69: =VLOOKUP(A69,[5]Лист1!$A:$E,COLUMN([5]Лист1!$C$4),0) -> 0 | G69: =VLOOKUP(A69,[5]Лист1!$A:$E,COLUMN([5]Лист1!$D$526),0) -> 0 | H69: =VLOOKUP(A69,[6]Лист1!$A:$E,COLUMN([6]Лист1!$C$4),0) -> 0 | I69: =VLOOKUP(A69,[7]Лист1!$A:$E,COLUMN([7]Лист1!$C$4),0) -> 0
A70: ALP35FVS1R | C70: ALP35FVS1R | F70: =VLOOKUP(A70,[5]Лист1!$A:$E,COLUMN([5]Лист1!$C$4),0) -> 0 | G70: =VLOOKUP(A70,[5]Лист1!$A:$E,COLUMN([5]Лист1!$D$526),0) -> 0 | H70: =VLOOKUP(A70,[6]Лист1!$A:$E,COLUMN([6]Лист1!$C$4),0) -> 0 | I70: =VLOOKUP(A70,[7]Лист1!$A:$E,COLUMN([7]Лист1!$C$4),0) -> 0
A71: ALP50AVQS1R | C71: ALP50AVQS1R | D71: =_xlfn.CONCAT(C71," / ",C72) -> ALP50AVQS1R / ALP50FVS1R | E71: =VLOOKUP(A71,[14]RAC!$A:$K,COLUMN([14]RAC!$K$11),0) -> 77390 | F71: =VLOOKUP(A71,[5]Лист1!$A:$E,COLUMN([5]Лист1!$C$4),0) -> 0 | G71: =VLOOKUP(A71,[5]Лист1!$A:$E,COLUMN([5]Лист1!$D$526),0) -> 0 | H71: =VLOOKUP(A71,[6]Лист1!$A:$E,COLUMN([6]Лист1!$C$4),0) -> 0 | I71: =VLOOKUP(A71,[7]Лист1!$A:$E,COLUMN([7]Лист1!$C$4),0) -> 0
A72: ALP50FVS1R | C72: ALP50FVS1R | F72: =VLOOKUP(A72,[5]Лист1!$A:$E,COLUMN([5]Лист1!$C$4),0) -> 0 | G72: =VLOOKUP(A72,[5]Лист1!$A:$E,COLUMN([5]Лист1!$D$526),0) -> 0 | H72: =VLOOKUP(A72,[6]Лист1!$A:$E,COLUMN([6]Лист1!$C$4),0) -> 0 | I72: =VLOOKUP(A72,[7]Лист1!$A:$E,COLUMN([7]Лист1!$C$4),0) -> 0
A73: ALP70AVQS1R | C73: ALP70AVQS1R | D73: =_xlfn.CONCAT(C73," / ",C74) -> ALP70AVQS1R / ALP70FVS1R | E73: =VLOOKUP(A73,[14]RAC!$A:$K,COLUMN([14]RAC!$K$11),0) -> 98890 | F73: =VLOOKUP(A73,[5]Лист1!$A:$E,COLUMN([5]Лист1!$C$4),0) -> 0 | G73: =VLOOKUP(A73,[5]Лист1!$A:$E,COLUMN([5]Лист1!$D$526),0) -> 0 | H73: =VLOOKUP(A73,[6]Лист1!$A:$E,COLUMN([6]Лист1!$C$4),0) -> 0 | I73: =VLOOKUP(A73,[7]Лист1!$A:$E,COLUMN([7]Лист1!$C$4),0) -> 0
A74: ALP70FVS1R | C74: ALP70FVS1R | F74: =VLOOKUP(A74,[5]Лист1!$A:$E,COLUMN([5]Лист1!$C$4),0) -> 0 | G74: =VLOOKUP(A74,[5]Лист1!$A:$E,COLUMN([5]Лист1!$D$526),0) -> 0 | H74: =VLOOKUP(A74,[6]Лист1!$A:$E,COLUMN([6]Лист1!$C$4),0) -> 0 | I74: =VLOOKUP(A74,[7]Лист1!$A:$E,COLUMN([7]Лист1!$C$4),0) -> 0
A75: МОДЕЛИ БЕЗ ИНВЕРТОРА
A76: AIR
A77: AIR20AVQ1R | C77: AIR20AVQ1R | D77: =_xlfn.CONCAT(C77," / ",C78) -> AIR20AVQ1R / AIR20FV1R | E77: =VLOOKUP(A77,[14]RAC!$A:$K,COLUMN([14]RAC!$K$11),0) -> 25190 | F77: =VLOOKUP(A77,[5]Лист1!$A:$E,COLUMN([5]Лист1!$C$4),0) -> 0 | G77: =VLOOKUP(A77,[5]Лист1!$A:$E,COLUMN([5]Лист1!$D$526),0) -> 0 | H77: =VLOOKUP(A77,[6]Лист1!$A:$E,COLUMN([6]Лист1!$C$4),0) -> 0 | I77: =VLOOKUP(A77,[7]Лист1!$A:$E,COLUMN([7]Лист1!$C$4),0) -> 0
A78: AIR20FV1R | C78: AIR20FV1R | F78: =VLOOKUP(A78,[5]Лист1!$A:$E,COLUMN([5]Лист1!$C$4),0) -> 0 | G78: =VLOOKUP(A78,[5]Лист1!$A:$E,COLUMN([5]Лист1!$D$526),0) -> 0 | H78: =VLOOKUP(A78,[6]Лист1!$A:$E,COLUMN([6]Лист1!$C$4),0) -> 0 | I78: =VLOOKUP(A78,[7]Лист1!$A:$E,COLUMN([7]Лист1!$C$4),0) -> 0
A79: AIR25AVQ1R | C79: AIR25AVQ1R | D79: =_xlfn.CONCAT(C79," / ",C80) -> AIR25AVQ1R / AIR25FV1R | E79: =VLOOKUP(A79,[14]RAC!$A:$K,COLUMN([14]RAC!$K$11),0) -> 27490 | F79: =VLOOKUP(A79,[5]Лист1!$A:$E,COLUMN([5]Лист1!$C$4),0) -> 1 | G79: =VLOOKUP(A79,[5]Лист1!$A:$E,COLUMN([5]Лист1!$D$526),0) -> 2 | H79: =VLOOKUP(A79,[6]Лист1!$A:$E,COLUMN([6]Лист1!$C$4),0) -> 0 | I79: =VLOOKUP(A79,[7]Лист1!$A:$E,COLUMN([7]Лист1!$C$4),0) -> 1
A80: AIR25FV1R | C80: AIR25FV1R | F80: =VLOOKUP(A80,[5]Лист1!$A:$E,COLUMN([5]Лист1!$C$4),0) -> 0 | G80: =VLOOKUP(A80,[5]Лист1!$A:$E,COLUMN([5]Лист1!$D$526),0) -> 0 | H80: =VLOOKUP(A80,[6]Лист1!$A:$E,COLUMN([6]Лист1!$C$4),0) -> 0 | I80: =VLOOKUP(A80,[7]Лист1!$A:$E,COLUMN([7]Лист1!$C$4),0) -> 0
A81: AIR35AVQ1R | C81: AIR35AVQ1R | D81: =_xlfn.CONCAT(C81," / ",C82) -> AIR35AVQ1R / AIR35FV1R | E81: =VLOOKUP(A81,[14]RAC!$A:$K,COLUMN([14]RAC!$K$11),0) -> 37790 | F81: =VLOOKUP(A81,[5]Лист1!$A:$E,COLUMN([5]Лист1!$C$4),0) -> 0 | G81: =VLOOKUP(A81,[5]Лист1!$A:$E,COLUMN([5]Лист1!$D$526),0) -> >50 | H81: =VLOOKUP(A81,[6]Лист1!$A:$E,COLUMN([6]Лист1!$C$4),0) -> 7 | I81: =VLOOKUP(A81,[7]Лист1!$A:$E,COLUMN([7]Лист1!$C$4),0) -> 11
A82: AIR35FV1R | C82: AIR35FV1R | F82: =VLOOKUP(A82,[5]Лист1!$A:$E,COLUMN([5]Лист1!$C$4),0) -> 0 | G82: =VLOOKUP(A82,[5]Лист1!$A:$E,COLUMN([5]Лист1!$D$526),0) -> 42 | H82: =VLOOKUP(A82,[6]Лист1!$A:$E,COLUMN([6]Лист1!$C$4),0) -> 2 | I82: =VLOOKUP(A82,[7]Лист1!$A:$E,COLUMN([7]Лист1!$C$4),0) -> 12
A83: AIR50AVQ1R | C83: AIR50AVQ1R | D83: =_xlfn.CONCAT(C83," / ",C84) -> AIR50AVQ1R / AIR50FV1R | E83: =VLOOKUP(A83,[14]RAC!$A:$K,COLUMN([14]RAC!$K$11),0) -> 63690 | F83: =VLOOKUP(A83,[5]Лист1!$A:$E,COLUMN([5]Лист1!$C$4),0) -> 0 | G83: =VLOOKUP(A83,[5]Лист1!$A:$E,COLUMN([5]Лист1!$D$526),0) -> >50 | H83: =VLOOKUP(A83,[6]Лист1!$A:$E,COLUMN([6]Лист1!$C$4),0) -> 1 | I83: =VLOOKUP(A83,[7]Лист1!$A:$E,COLUMN([7]Лист1!$C$4),0) -> 23
A84: AIR50FV1R | C84: AIR50FV1R | F84: =VLOOKUP(A84,[5]Лист1!$A:$E,COLUMN([5]Лист1!$C$4),0) -> 0 | G84: =VLOOKUP(A84,[5]Лист1!$A:$E,COLUMN([5]Лист1!$D$526),0) -> >50 | H84: =VLOOKUP(A84,[6]Лист1!$A:$E,COLUMN([6]Лист1!$C$4),0) -> 0 | I84: =VLOOKUP(A84,[7]Лист1!$A:$E,COLUMN([7]Лист1!$C$4),0) -> 17
A85: AIR70AVQ1R | C85: AIR70AVQ1R | D85: =_xlfn.CONCAT(C85," / ",C86) -> AIR70AVQ1R / AIR70FV1R | E85: =VLOOKUP(A85,[14]RAC!$A:$K,COLUMN([14]RAC!$K$11),0) -> 76690 | F85: =VLOOKUP(A85,[5]Лист1!$A:$E,COLUMN([5]Лист1!$C$4),0) -> 0 | G85: =VLOOKUP(A85,[5]Лист1!$A:$E,COLUMN([5]Лист1!$D$526),0) -> >50 | H85: =VLOOKUP(A85,[6]Лист1!$A:$E,COLUMN([6]Лист1!$C$4),0) -> 22 | I85: =VLOOKUP(A85,[7]Лист1!$A:$E,COLUMN([7]Лист1!$C$4),0) -> 0
A86: AIR70FV1R | C86: AIR70FV1R | F86: =VLOOKUP(A86,[5]Лист1!$A:$E,COLUMN([5]Лист1!$C$4),0) -> 0 | G86: =VLOOKUP(A86,[5]Лист1!$A:$E,COLUMN([5]Лист1!$D$526),0) -> >50 | H86: =VLOOKUP(A86,[6]Лист1!$A:$E,COLUMN([6]Лист1!$C$4),0) -> 22 | I86: =VLOOKUP(A86,[7]Лист1!$A:$E,COLUMN([7]Лист1!$C$4),0) -> 0
A87: MIRACLE
A88: MIR20AVQ1R | C88: MIR20AVQ1R | D88: =_xlfn.CONCAT(C88," / ",C89) -> MIR20AVQ1R / MIR20FV1R | E88: =VLOOKUP(A88,[14]RAC!$A:$K,COLUMN([14]RAC!$K$11),0) -> 34390 | F88: =VLOOKUP(A88,[5]Лист1!$A:$E,COLUMN([5]Лист1!$C$4),0) -> 0 | G88: =VLOOKUP(A88,[5]Лист1!$A:$E,COLUMN([5]Лист1!$D$526),0) -> 0 | H88: =VLOOKUP(A88,[6]Лист1!$A:$E,COLUMN([6]Лист1!$C$4),0) -> 0 | I88: =VLOOKUP(A88,[7]Лист1!$A:$E,COLUMN([7]Лист1!$C$4),0) -> 0
A89: MIR20FV1R | C89: MIR20FV1R | F89: =VLOOKUP(A89,[5]Лист1!$A:$E,COLUMN([5]Лист1!$C$4),0) -> 0 | G89: =VLOOKUP(A89,[5]Лист1!$A:$E,COLUMN([5]Лист1!$D$526),0) -> 24 | H89: =VLOOKUP(A89,[6]Лист1!$A:$E,COLUMN([6]Лист1!$C$4),0) -> 24 | I89: =VLOOKUP(A89,[7]Лист1!$A:$E,COLUMN([7]Лист1!$C$4),0) -> 0
A90: MIR25AVQ1R | C90: MIR25AVQ1R | D90: =_xlfn.CONCAT(C90," / ",C91) -> MIR25AVQ1R / MIR25FV1R | E90: =VLOOKUP(A90,[14]RAC!$A:$K,COLUMN([14]RAC!$K$11),0) -> 36990 | F90: =VLOOKUP(A90,[5]Лист1!$A:$E,COLUMN([5]Лист1!$C$4),0) -> 0 | G90: =VLOOKUP(A90,[5]Лист1!$A:$E,COLUMN([5]Лист1!$D$526),0) -> 45 | H90: =VLOOKUP(A90,[6]Лист1!$A:$E,COLUMN([6]Лист1!$C$4),0) -> 0 | I90: =VLOOKUP(A90,[7]Лист1!$A:$E,COLUMN([7]Лист1!$C$4),0) -> 0
A91: MIR25FV1R | C91: MIR25FV1R | F91: =VLOOKUP(A91,[5]Лист1!$A:$E,COLUMN([5]Лист1!$C$4),0) -> 0 | G91: =VLOOKUP(A91,[5]Лист1!$A:$E,COLUMN([5]Лист1!$D$526),0) -> 47 | H91: =VLOOKUP(A91,[6]Лист1!$A:$E,COLUMN([6]Лист1!$C$4),0) -> 2 | I91: =VLOOKUP(A91,[7]Лист1!$A:$E,COLUMN([7]Лист1!$C$4),0) -> 0
A92: MIR35AVQ1R | C92: MIR35AVQ1R | D92: =_xlfn.CONCAT(C92," / ",C93) -> MIR35AVQ1R / MIR35FV1R | E92: =VLOOKUP(A92,[14]RAC!$A:$K,COLUMN([14]RAC!$K$11),0) -> 47390 | F92: =VLOOKUP(A92,[5]Лист1!$A:$E,COLUMN([5]Лист1!$C$4),0) -> 0 | G92: =VLOOKUP(A92,[5]Лист1!$A:$E,COLUMN([5]Лист1!$D$526),0) -> >50 | H92: =VLOOKUP(A92,[6]Лист1!$A:$E,COLUMN([6]Лист1!$C$4),0) -> 34 | I92: =VLOOKUP(A92,[7]Лист1!$A:$E,COLUMN([7]Лист1!$C$4),0) -> 0
A93: MIR35FV1R | C93: MIR35FV1R | F93: =VLOOKUP(A93,[5]Лист1!$A:$E,COLUMN([5]Лист1!$C$4),0) -> 0 | G93: =VLOOKUP(A93,[5]Лист1!$A:$E,COLUMN([5]Лист1!$D$526),0) -> >50 | H93: =VLOOKUP(A93,[6]Лист1!$A:$E,COLUMN([6]Лист1!$C$4),0) -> 33 | I93: =VLOOKUP(A93,[7]Лист1!$A:$E,COLUMN([7]Лист1!$C$4),0) -> 0
A94: MIR50AVQ1R | C94: MIR50AVQ1R | D94: =_xlfn.CONCAT(C94," / ",C95) -> MIR50AVQ1R / MIR50FV1R | E94: =VLOOKUP(A94,[14]RAC!$A:$K,COLUMN([14]RAC!$K$11),0) -> 75490 | F94: =VLOOKUP(A94,[5]Лист1!$A:$E,COLUMN([5]Лист1!$C$4),0) -> 0 | G94: =VLOOKUP(A94,[5]Лист1!$A:$E,COLUMN([5]Лист1!$D$526),0) -> >50 | H94: =VLOOKUP(A94,[6]Лист1!$A:$E,COLUMN([6]Лист1!$C$4),0) -> >50 | I94: =VLOOKUP(A94,[7]Лист1!$A:$E,COLUMN([7]Лист1!$C$4),0) -> 0
A95: MIR50FV1R | C95: MIR50FV1R | F95: =VLOOKUP(A95,[5]Лист1!$A:$E,COLUMN([5]Лист1!$C$4),0) -> 0 | G95: =VLOOKUP(A95,[5]Лист1!$A:$E,COLUMN([5]Лист1!$D$526),0) -> >50 | H95: =VLOOKUP(A95,[6]Лист1!$A:$E,COLUMN([6]Лист1!$C$4),0) -> >50 | I95: =VLOOKUP(A95,[7]Лист1!$A:$E,COLUMN([7]Лист1!$C$4),0) -> 0
A96: MIR70AVQ1R | C96: MIR70AVQ1R | D96: =_xlfn.CONCAT(C96," / ",C97) -> MIR70AVQ1R / MIR70FV1R | E96: =VLOOKUP(A96,[14]RAC!$A:$K,COLUMN([14]RAC!$K$11),0) -> 92390 | F96: =VLOOKUP(A96,[5]Лист1!$A:$E,COLUMN([5]Лист1!$C$4),0) -> 0 | G96: =VLOOKUP(A96,[5]Лист1!$A:$E,COLUMN([5]Лист1!$D$526),0) -> >50 | H96: =VLOOKUP(A96,[6]Лист1!$A:$E,COLUMN([6]Лист1!$C$4),0) -> >50 | I96: =VLOOKUP(A96,[7]Лист1!$A:$E,COLUMN([7]Лист1!$C$4),0) -> 0
A97: MIR70FV1R | C97: MIR70FV1R | F97: =VLOOKUP(A97,[5]Лист1!$A:$E,COLUMN([5]Лист1!$C$4),0) -> 0 | G97: =VLOOKUP(A97,[5]Лист1!$A:$E,COLUMN([5]Лист1!$D$526),0) -> >50 | H97: =VLOOKUP(A97,[6]Лист1!$A:$E,COLUMN([6]Лист1!$C$4),0) -> >50 | I97: =VLOOKUP(A97,[7]Лист1!$A:$E,COLUMN([7]Лист1!$C$4),0) -> 0
A98: ICE
A99: ICE20AVQ1-1 | C99: ICE20AVQ1-1 | D99: =_xlfn.CONCAT(C99," / ",C100) -> ICE20AVQ1-1 / ICE20FV1-1 | E99: =VLOOKUP(A99,[14]RAC!$A:$K,COLUMN([14]RAC!$K$11),0) -> 29390 | F99: =VLOOKUP(A99,[5]Лист1!$A:$E,COLUMN([5]Лист1!$C$4),0) -> 2 | G99: =VLOOKUP(A99,[5]Лист1!$A:$E,COLUMN([5]Лист1!$D$526),0) -> 37 | H99: =VLOOKUP(A99,[6]Лист1!$A:$E,COLUMN([6]Лист1!$C$4),0) -> 1 | I99: =VLOOKUP(A99,[7]Лист1!$A:$E,COLUMN([7]Лист1!$C$4),0) -> 0
A100: ICE20FV1-1 | C100: ICE20FV1-1 | F100: =VLOOKUP(A100,[5]Лист1!$A:$E,COLUMN([5]Лист1!$C$4),0) -> 2 | G100: =VLOOKUP(A100,[5]Лист1!$A:$E,COLUMN([5]Лист1!$D$526),0) -> 41 | H100: =VLOOKUP(A100,[6]Лист1!$A:$E,COLUMN([6]Лист1!$C$4),0) -> 0 | I100: =VLOOKUP(A100,[7]Лист1!$A:$E,COLUMN([7]Лист1!$C$4),0) -> 0
...

Sheet Daikin
A1: HC код комплекта | B1: HC код поблочно | C1: Модель поблочно | D1: Модель | E1: РИЦ | F1: Остаток1 | G1: В пути | H1: Остаток2 | I1: Остаток3
A2: ИНВЕРТОРНЫЕ МОДЕЛИ
A3: СЕРИЯ URURA SARARA (FTXZ-N/RXZ-N) Технологический флагман
A4: FTXZ25N | D4: =_xlfn.CONCAT(A4," / ",A5) -> FTXZ25N / RXZ25N | E4: =VLOOKUP(A5,'[15]SPLIT & AIR'!$A:$N,COLUMN('[15]SPLIT & AIR'!$L$12),0) -> 624990 | F4: =VLOOKUP(A4,[5]Лист1!$A:$E,COLUMN([5]Лист1!$C$4),0) -> 0 | G4: =VLOOKUP(A4,[5]Лист1!$A:$E,COLUMN([5]Лист1!$D$526),0) -> 0 | H4: =VLOOKUP(A4,[6]Лист1!$A:$E,COLUMN([6]Лист1!$C$4),0) -> 0 | I4: =VLOOKUP(A4,[7]Лист1!$A:$E,COLUMN([7]Лист1!$C$4),0) -> 0
A5: RXZ25N | F5: =VLOOKUP(A5,[5]Лист1!$A:$E,COLUMN([5]Лист1!$C$4),0) -> 3 | G5: =VLOOKUP(A5,[5]Лист1!$A:$E,COLUMN([5]Лист1!$D$526),0) -> 0 | H5: =VLOOKUP(A5,[6]Лист1!$A:$E,COLUMN([6]Лист1!$C$4),0) -> 0 | I5: =VLOOKUP(A5,[7]Лист1!$A:$E,COLUMN([7]Лист1!$C$4),0) -> 0
A6: FTXZ35N | D6: =_xlfn.CONCAT(A6," / ",A7) -> FTXZ35N / RXZ35N | E6: =VLOOKUP(A7,'[15]SPLIT & AIR'!$A:$N,COLUMN('[15]SPLIT & AIR'!$L$12),0) -> 669990 | F6: =VLOOKUP(A6,[5]Лист1!$A:$E,COLUMN([5]Лист1!$C$4),0) -> 0 | G6: =VLOOKUP(A6,[5]Лист1!$A:$E,COLUMN([5]Лист1!$D$526),0) -> 0 | H6: =VLOOKUP(A6,[6]Лист1!$A:$E,COLUMN([6]Лист1!$C$4),0) -> 0 | I6: =VLOOKUP(A6,[7]Лист1!$A:$E,COLUMN([7]Лист1!$C$4),0) -> 0
A7: RXZ35N | F7: =VLOOKUP(A7,[5]Лист1!$A:$E,COLUMN([5]Лист1!$C$4),0) -> 0 | G7: =VLOOKUP(A7,[5]Лист1!$A:$E,COLUMN([5]Лист1!$D$526),0) -> 0 | H7: =VLOOKUP(A7,[6]Лист1!$A:$E,COLUMN([6]Лист1!$C$4),0) -> 0 | I7: =VLOOKUP(A7,[7]Лист1!$A:$E,COLUMN([7]Лист1!$C$4),0) -> 0
A8: FTXZ50N | D8: =_xlfn.CONCAT(A8," / ",A9) -> FTXZ50N / RXZ50N | E8: =VLOOKUP(A9,'[15]SPLIT & AIR'!$A:$N,COLUMN('[15]SPLIT & AIR'!$L$12),0) -> 743990 | F8: =VLOOKUP(A8,[5]Лист1!$A:$E,COLUMN([5]Лист1!$C$4),0) -> 0 | G8: =VLOOKUP(A8,[5]Лист1!$A:$E,COLUMN([5]Лист1!$D$526),0) -> 0 | H8: =VLOOKUP(A8,[6]Лист1!$A:$E,COLUMN([6]Лист1!$C$4),0) -> 0 | I8: =VLOOKUP(A8,[7]Лист1!$A:$E,COLUMN([7]Лист1!$C$4),0) -> 0
A9: RXZ50N | F9: =VLOOKUP(A9,[5]Лист1!$A:$E,COLUMN([5]Лист1!$C$4),0) -> 0 | G9: =VLOOKUP(A9,[5]Лист1!$A:$E,COLUMN([5]Лист1!$D$526),0) -> 0 | H9: =VLOOKUP(A9,[6]Лист1!$A:$E,COLUMN([6]Лист1!$C$4),0) -> 0 | I9: =VLOOKUP(A9,[7]Лист1!$A:$E,COLUMN([7]Лист1!$C$4),0) -> 0
A10: ПРЕМИАЛЬНАЯ СЕРИЯ EMURA с матово-белым внутренним блоком
A11: FTXJ20AW | D11: =_xlfn.CONCAT(A11," / ",A12) -> FTXJ20AW / RXJ20A | E11: =VLOOKUP(A12,'[15]SPLIT & AIR'!$A:$N,COLUMN('[15]SPLIT & AIR'!$L$12),0) -> 269990 | F11: =VLOOKUP(A11,[5]Лист1!$A:$E,COLUMN([5]Лист1!$C$4),0) -> 0 | G11: =VLOOKUP(A11,[5]Лист1!$A:$E,COLUMN([5]Лист1!$D$526),0) -> 0 | H11: =VLOOKUP(A11,[6]Лист1!$A:$E,COLUMN([6]Лист1!$C$4),0) -> 0 | I11: =VLOOKUP(A11,[7]Лист1!$A:$E,COLUMN([7]Лист1!$C$4),0) -> 0
A12: RXJ20A | F12: =VLOOKUP(A12,[5]Лист1!$A:$E,COLUMN([5]Лист1!$C$4),0) -> 0 | G12: =VLOOKUP(A12,[5]Лист1!$A:$E,COLUMN([5]Лист1!$D$526),0) -> 0 | H12: =VLOOKUP(A12,[6]Лист1!$A:$E,COLUMN([6]Лист1!$C$4),0) -> 0 | I12: =VLOOKUP(A12,[7]Лист1!$A:$E,COLUMN([7]Лист1!$C$4),0) -> 0
A13: FTXJ25AW | D13: =_xlfn.CONCAT(A13," / ",A14) -> FTXJ25AW / RXJ25A | E13: =VLOOKUP(A14,'[15]SPLIT & AIR'!$A:$N,COLUMN('[15]SPLIT & AIR'!$L$12),0) -> 291990 | F13: =VLOOKUP(A13,[5]Лист1!$A:$E,COLUMN([5]Лист1!$C$4),0) -> 0 | G13: =VLOOKUP(A13,[5]Лист1!$A:$E,COLUMN([5]Лист1!$D$526),0) -> 0 | H13: =VLOOKUP(A13,[6]Лист1!$A:$E,COLUMN([6]Лист1!$C$4),0) -> 0 | I13: =VLOOKUP(A13,[7]Лист1!$A:$E,COLUMN([7]Лист1!$C$4),0) -> 0
A14: RXJ25A | F14: =VLOOKUP(A14,[5]Лист1!$A:$E,COLUMN([5]Лист1!$C$4),0) -> 0 | G14: =VLOOKUP(A14,[5]Лист1!$A:$E,COLUMN([5]Лист1!$D$526),0) -> 0 | H14: =VLOOKUP(A14,[6]Лист1!$A:$E,COLUMN([6]Лист1!$C$4),0) -> 0 | I14: =VLOOKUP(A14,[7]Лист1!$A:$E,COLUMN([7]Лист1!$C$4),0) -> 0
A15: FTXJ35AW | D15: =_xlfn.CONCAT(A15," / ",A16) -> FTXJ35AW / RXJ35A | E15: =VLOOKUP(A16,'[15]SPLIT & AIR'!$A:$N,COLUMN('[15]SPLIT & AIR'!$L$12),0) -> 348990 | F15: =VLOOKUP(A15,[5]Лист1!$A:$E,COLUMN([5]Лист1!$C$4),0) -> 0 | G15: =VLOOKUP(A15,[5]Лист1!$A:$E,COLUMN([5]Лист1!$D$526),0) -> 0 | H15: =VLOOKUP(A15,[6]Лист1!$A:$E,COLUMN([6]Лист1!$C$4),0) -> 0 | I15: =VLOOKUP(A15,[7]Лист1!$A:$E,COLUMN([7]Лист1!$C$4),0) -> 0
A16: RXJ35A | F16: =VLOOKUP(A16,[5]Лист1!$A:$E,COLUMN([5]Лист1!$C$4),0) -> 8 | G16: =VLOOKUP(A16,[5]Лист1!$A:$E,COLUMN([5]Лист1!$D$526),0) -> 0 | H16: =VLOOKUP(A16,[6]Лист1!$A:$E,COLUMN([6]Лист1!$C$4),0) -> 0 | I16: =VLOOKUP(A16,[7]Лист1!$A:$E,COLUMN([7]Лист1!$C$4),0) -> 0
A17: FTXJ50AW | D17: =_xlfn.CONCAT(A17," / ",A18) -> FTXJ50AW / RXJ50A | E17: =VLOOKUP(A18,'[15]SPLIT & AIR'!$A:$N,COLUMN('[15]SPLIT & AIR'!$L$12),0) -> 420990 | F17: =VLOOKUP(A17,[5]Лист1!$A:$E,COLUMN([5]Лист1!$C$4),0) -> 0 | G17: =VLOOKUP(A17,[5]Лист1!$A:$E,COLUMN([5]Лист1!$D$526),0) -> 0 | H17: =VLOOKUP(A17,[6]Лист1!$A:$E,COLUMN([6]Лист1!$C$4),0) -> 0 | I17: =VLOOKUP(A17,[7]Лист1!$A:$E,COLUMN([7]Лист1!$C$4),0) -> 0
A18: RXJ50A | F18: =VLOOKUP(A18,[5]Лист1!$A:$E,COLUMN([5]Лист1!$C$4),0) -> 0 | G18: =VLOOKUP(A18,[5]Лист1!$A:$E,COLUMN([5]Лист1!$D$526),0) -> 0 | H18: =VLOOKUP(A18,[6]Лист1!$A:$E,COLUMN([6]Лист1!$C$4),0) -> 0 | I18: =VLOOKUP(A18,[7]Лист1!$A:$E,COLUMN([7]Лист1!$C$4),0) -> 0
A19: FTXJ20AW9 | D19: =_xlfn.CONCAT(A19," / ",A20) -> FTXJ20AW9 / RXJ20A9 | E19: =VLOOKUP(A20,'[15]SPLIT & AIR'!$A:$N,COLUMN('[15]SPLIT & AIR'!$L$12),0) -> 278990 | F19: =VLOOKUP(A19,[5]Лист1!$A:$E,COLUMN([5]Лист1!$C$4),0) -> 0 | G19: =VLOOKUP(A19,[5]Лист1!$A:$E,COLUMN([5]Лист1!$D$526),0) -> 0 | H19: =VLOOKUP(A19,[6]Лист1!$A:$E,COLUMN([6]Лист1!$C$4),0) -> 0 | I19: =VLOOKUP(A19,[7]Лист1!$A:$E,COLUMN([7]Лист1!$C$4),0) -> 0
A20: RXJ20A9 | F20: =VLOOKUP(A20,[5]Лист1!$A:$E,COLUMN([5]Лист1!$C$4),0) -> 5 | G20: =VLOOKUP(A20,[5]Лист1!$A:$E,COLUMN([5]Лист1!$D$526),0) -> 0 | H20: =VLOOKUP(A20,[6]Лист1!$A:$E,COLUMN([6]Лист1!$C$4),0) -> 0 | I20: =VLOOKUP(A20,[7]Лист1!$A:$E,COLUMN([7]Лист1!$C$4),0) -> 0
A21: FTXJ25AW9 | D21: =_xlfn.CONCAT(A21," / ",A22) -> FTXJ25AW9 / RXJ25A9 | E21: =VLOOKUP(A22,'[15]SPLIT & AIR'!$A:$N,COLUMN('[15]SPLIT & AIR'!$L$12),0) -> 308990 | F21: =VLOOKUP(A21,[5]Лист1!$A:$E,COLUMN([5]Лист1!$C$4),0) -> 0 | G21: =VLOOKUP(A21,[5]Лист1!$A:$E,COLUMN([5]Лист1!$D$526),0) -> 0 | H21: =VLOOKUP(A21,[6]Лист1!$A:$E,COLUMN([6]Лист1!$C$4),0) -> 0 | I21: =VLOOKUP(A21,[7]Лист1!$A:$E,COLUMN([7]Лист1!$C$4),0) -> 0
A22: RXJ25A9 | F22: =VLOOKUP(A22,[5]Лист1!$A:$E,COLUMN([5]Лист1!$C$4),0) -> 17 | G22: =VLOOKUP(A22,[5]Лист1!$A:$E,COLUMN([5]Лист1!$D$526),0) -> 0 | H22: =VLOOKUP(A22,[6]Лист1!$A:$E,COLUMN([6]Лист1!$C$4),0) -> 0 | I22: =VLOOKUP(A22,[7]Лист1!$A:$E,COLUMN([7]Лист1!$C$4),0) -> 0
A23: FTXJ35AW9 | D23: =_xlfn.CONCAT(A23," / ",A24) -> FTXJ35AW9 / RXJ35A9 | E23: =VLOOKUP(A24,'[15]SPLIT & AIR'!$A:$N,COLUMN('[15]SPLIT & AIR'!$L$12),0) -> 374990 | F23: =VLOOKUP(A23,[5]Лист1!$A:$E,COLUMN([5]Лист1!$C$4),0) -> 0 | G23: =VLOOKUP(A23,[5]Лист1!$A:$E,COLUMN([5]Лист1!$D$526),0) -> 0 | H23: =VLOOKUP(A23,[6]Лист1!$A:$E,COLUMN([6]Лист1!$C$4),0) -> 0 | I23: =VLOOKUP(A23,[7]Лист1!$A:$E,COLUMN([7]Лист1!$C$4),0) -> 0
A24: RXJ35A9 | F24: =VLOOKUP(A24,[5]Лист1!$A:$E,COLUMN([5]Лист1!$C$4),0) -> 0 | G24: =VLOOKUP(A24,[5]Лист1!$A:$E,COLUMN([5]Лист1!$D$526),0) -> 0 | H24: =VLOOKUP(A24,[6]Лист1!$A:$E,COLUMN([6]Лист1!$C$4),0) -> 0 | I24: =VLOOKUP(A24,[7]Лист1!$A:$E,COLUMN([7]Лист1!$C$4),0) -> 0
A25: FTXJ50AW9 | D25: =_xlfn.CONCAT(A25," / ",A26) -> FTXJ50AW9 / RXJ50A9 | E25: =VLOOKUP(A26,'[15]SPLIT & AIR'!$A:$N,COLUMN('[15]SPLIT & AIR'!$L$12),0) -> 474990 | F25: =VLOOKUP(A25,[5]Лист1!$A:$E,COLUMN([5]Лист1!$C$4),0) -> 0 | G25: =VLOOKUP(A25,[5]Лист1!$A:$E,COLUMN([5]Лист1!$D$526),0) -> 0 | H25: =VLOOKUP(A25,[6]Лист1!$A:$E,COLUMN([6]Лист1!$C$4),0) -> 0 | I25: =VLOOKUP(A25,[7]Лист1!$A:$E,COLUMN([7]Лист1!$C$4),0) -> 0
A26: RXJ50A9 | F26: =VLOOKUP(A26,[5]Лист1!$A:$E,COLUMN([5]Лист1!$C$4),0) -> 25 | G26: =VLOOKUP(A26,[5]Лист1!$A:$E,COLUMN([5]Лист1!$D$526),0) -> 0 | H26: =VLOOKUP(A26,[6]Лист1!$A:$E,COLUMN([6]Лист1!$C$4),0) -> 0 | I26: =VLOOKUP(A26,[7]Лист1!$A:$E,COLUMN([7]Лист1!$C$4),0) -> 0
A27: ПРЕМИАЛЬНАЯ СЕРИЯ EMURA с матово-серебристым внутренним блоком
A28: FTXJ20AS | D28: =_xlfn.CONCAT(A28," / ",A29) -> FTXJ20AS / RXJ20A | E28: =VLOOKUP(A29,'[15]SPLIT & AIR'!$A:$N,COLUMN('[15]SPLIT & AIR'!$L$12),0) -> 269990 | F28: =VLOOKUP(A28,[5]Лист1!$A:$E,COLUMN([5]Лист1!$C$4),0) -> 29 | G28: =VLOOKUP(A28,[5]Лист1!$A:$E,COLUMN([5]Лист1!$D$526),0) -> 0 | H28: =VLOOKUP(A28,[6]Лист1!$A:$E,COLUMN([6]Лист1!$C$4),0) -> 0 | I28: =VLOOKUP(A28,[7]Лист1!$A:$E,COLUMN([7]Лист1!$C$4),0) -> 0
A29: RXJ20A | F29: =VLOOKUP(A29,[5]Лист1!$A:$E,COLUMN([5]Лист1!$C$4),0) -> 0 | G29: =VLOOKUP(A29,[5]Лист1!$A:$E,COLUMN([5]Лист1!$D$526),0) -> 0 | H29: =VLOOKUP(A29,[6]Лист1!$A:$E,COLUMN([6]Лист1!$C$4),0) -> 0 | I29: =VLOOKUP(A29,[7]Лист1!$A:$E,COLUMN([7]Лист1!$C$4),0) -> 0
A30: FTXJ25AS | D30: =_xlfn.CONCAT(A30," / ",A31) -> FTXJ25AS / RXJ25A | E30: =VLOOKUP(A31,'[15]SPLIT & AIR'!$A:$N,COLUMN('[15]SPLIT & AIR'!$L$12),0) -> 291990 | F30: =VLOOKUP(A30,[5]Лист1!$A:$E,COLUMN([5]Лист1!$C$4),0) -> 0 | G30: =VLOOKUP(A30,[5]Лист1!$A:$E,COLUMN([5]Лист1!$D$526),0) -> 0 | H30: =VLOOKUP(A30,[6]Лист1!$A:$E,COLUMN([6]Лист1!$C$4),0) -> 0 | I30: =VLOOKUP(A30,[7]Лист1!$A:$E,COLUMN([7]Лист1!$C$4),0) -> 0
A31: RXJ25A | F31: =VLOOKUP(A31,[5]Лист1!$A:$E,COLUMN([5]Лист1!$C$4),0) -> 0 | G31: =VLOOKUP(A31,[5]Лист1!$A:$E,COLUMN([5]Лист1!$D$526),0) -> 0 | H31: =VLOOKUP(A31,[6]Лист1!$A:$E,COLUMN([6]Лист1!$C$4),0) -> 0 | I31: =VLOOKUP(A31,[7]Лист1!$A:$E,COLUMN([7]Лист1!$C$4),0) -> 0
A32: FTXJ35AS | D32: =_xlfn.CONCAT(A32," / ",A33) -> FTXJ35AS / RXJ35A | E32: =VLOOKUP(A33,'[15]SPLIT & AIR'!$A:$N,COLUMN('[15]SPLIT & AIR'!$L$12),0) -> 348990 | F32: =VLOOKUP(A32,[5]Лист1!$A:$E,COLUMN([5]Лист1!$C$4),0) -> 0 | G32: =VLOOKUP(A32,[5]Лист1!$A:$E,COLUMN([5]Лист1!$D$526),0) -> 0 | H32: =VLOOKUP(A32,[6]Лист1!$A:$E,COLUMN([6]Лист1!$C$4),0) -> 0 | I32: =VLOOKUP(A32,[7]Лист1!$A:$E,COLUMN([7]Лист1!$C$4),0) -> 0
A33: RXJ35A | F33: =VLOOKUP(A33,[5]Лист1!$A:$E,COLUMN([5]Лист1!$C$4),0) -> 8 | G33: =VLOOKUP(A33,[5]Лист1!$A:$E,COLUMN([5]Лист1!$D$526),0) -> 0 | H33: =VLOOKUP(A33,[6]Лист1!$A:$E,COLUMN([6]Лист1!$C$4),0) -> 0 | I33: =VLOOKUP(A33,[7]Лист1!$A:$E,COLUMN([7]Лист1!$C$4),0) -> 0
A34: FTXJ50AS | D34: =_xlfn.CONCAT(A34," / ",A35) -> FTXJ50AS / RXJ50A | E34: =VLOOKUP(A35,'[15]SPLIT & AIR'!$A:$N,COLUMN('[15]SPLIT & AIR'!$L$12),0) -> 420990 | F34: =VLOOKUP(A34,[5]Лист1!$A:$E,COLUMN([5]Лист1!$C$4),0) -> 0 | G34: =VLOOKUP(A34,[5]Лист1!$A:$E,COLUMN([5]Лист1!$D$526),0) -> 0 | H34: =VLOOKUP(A34,[6]Лист1!$A:$E,COLUMN([6]Лист1!$C$4),0) -> 0 | I34: =VLOOKUP(A34,[7]Лист1!$A:$E,COLUMN([7]Лист1!$C$4),0) -> 0
A35: RXJ50A | F35: =VLOOKUP(A35,[5]Лист1!$A:$E,COLUMN([5]Лист1!$C$4),0) -> 0 | G35: =VLOOKUP(A35,[5]Лист1!$A:$E,COLUMN([5]Лист1!$D$526),0) -> 0 | H35: =VLOOKUP(A35,[6]Лист1!$A:$E,COLUMN([6]Лист1!$C$4),0) -> 0 | I35: =VLOOKUP(A35,[7]Лист1!$A:$E,COLUMN([7]Лист1!$C$4),0) -> 0
A36: FTXJ20AS9 | D36: =_xlfn.CONCAT(A36," / ",A37) -> FTXJ20AS9 / RXJ20A9 | E36: =VLOOKUP(A37,'[15]SPLIT & AIR'!$A:$N,COLUMN('[15]SPLIT & AIR'!$L$12),0) -> 278990 | F36: =VLOOKUP(A36,[5]Лист1!$A:$E,COLUMN([5]Лист1!$C$4),0) -> 1 | G36: =VLOOKUP(A36,[5]Лист1!$A:$E,COLUMN([5]Лист1!$D$526),0) -> 0 | H36: =VLOOKUP(A36,[6]Лист1!$A:$E,COLUMN([6]Лист1!$C$4),0) -> 0 | I36: =VLOOKUP(A36,[7]Лист1!$A:$E,COLUMN([7]Лист1!$C$4),0) -> 0
A37: RXJ20A9 | F37: =VLOOKUP(A37,[5]Лист1!$A:$E,COLUMN([5]Лист1!$C$4),0) -> 5 | G37: =VLOOKUP(A37,[5]Лист1!$A:$E,COLUMN([5]Лист1!$D$526),0) -> 0 | H37: =VLOOKUP(A37,[6]Лист1!$A:$E,COLUMN([6]Лист1!$C$4),0) -> 0 | I37: =VLOOKUP(A37,[7]Лист1!$A:$E,COLUMN([7]Лист1!$C$4),0) -> 0
A38: FTXJ25AS9 | D38: =_xlfn.CONCAT(A38," / ",A39) -> FTXJ25AS9 / RXJ25A9 | E38: =VLOOKUP(A39,'[15]SPLIT & AIR'!$A:$N,COLUMN('[15]SPLIT & AIR'!$L$12),0) -> 308990 | F38: =VLOOKUP(A38,[5]Лист1!$A:$E,COLUMN([5]Лист1!$C$4),0) -> 0 | G38: =VLOOKUP(A38,[5]Лист1!$A:$E,COLUMN([5]Лист1!$D$526),0) -> 0 | H38: =VLOOKUP(A38,[6]Лист1!$A:$E,COLUMN([6]Лист1!$C$4),0) -> 0 | I38: =VLOOKUP(A38,[7]Лист1!$A:$E,COLUMN([7]Лист1!$C$4),0) -> 0
A39: RXJ25A9 | F39: =VLOOKUP(A39,[5]Лист1!$A:$E,COLUMN([5]Лист1!$C$4),0) -> 17 | G39: =VLOOKUP(A39,[5]Лист1!$A:$E,COLUMN([5]Лист1!$D$526),0) -> 0 | H39: =VLOOKUP(A39,[6]Лист1!$A:$E,COLUMN([6]Лист1!$C$4),0) -> 0 | I39: =VLOOKUP(A39,[7]Лист1!$A:$E,COLUMN([7]Лист1!$C$4),0) -> 0
A40: FTXJ35AS9 | D40: =_xlfn.CONCAT(A40," / ",A41) -> FTXJ35AS9 / RXJ35A9 | E40: =VLOOKUP(A41,'[15]SPLIT & AIR'!$A:$N,COLUMN('[15]SPLIT & AIR'!$L$12),0) -> 374990 | F40: =VLOOKUP(A40,[5]Лист1!$A:$E,COLUMN([5]Лист1!$C$4),0) -> 1 | G40: =VLOOKUP(A40,[5]Лист1!$A:$E,COLUMN([5]Лист1!$D$526),0) -> 0 | H40: =VLOOKUP(A40,[6]Лист1!$A:$E,COLUMN([6]Лист1!$C$4),0) -> 0 | I40: =VLOOKUP(A40,[7]Лист1!$A:$E,COLUMN([7]Лист1!$C$4),0) -> 0
A41: RXJ35A9 | F41: =VLOOKUP(A41,[5]Лист1!$A:$E,COLUMN([5]Лист1!$C$4),0) -> 0 | G41: =VLOOKUP(A41,[5]Лист1!$A:$E,COLUMN([5]Лист1!$D$526),0) -> 0 | H41: =VLOOKUP(A41,[6]Лист1!$A:$E,COLUMN([6]Лист1!$C$4),0) -> 0 | I41: =VLOOKUP(A41,[7]Лист1!$A:$E,COLUMN([7]Лист1!$C$4),0) -> 0
A42: FTXJ50AS9 | D42: =_xlfn.CONCAT(A42," / ",A43) -> FTXJ50AS9 / RXJ50A9 | E42: =VLOOKUP(A43,'[15]SPLIT & AIR'!$A:$N,COLUMN('[15]SPLIT & AIR'!$L$12),0) -> 474990 | F42: =VLOOKUP(A42,[5]Лист1!$A:$E,COLUMN([5]Лист1!$C$4),0) -> 4 | G42: =VLOOKUP(A42,[5]Лист1!$A:$E,COLUMN([5]Лист1!$D$526),0) -> 0 | H42: =VLOOKUP(A42,[6]Лист1!$A:$E,COLUMN([6]Лист1!$C$4),0) -> 0 | I42: =VLOOKUP(A42,[7]Лист1!$A:$E,COLUMN([7]Лист1!$C$4),0) -> 0
A43: RXJ50A9 | F43: =VLOOKUP(A43,[5]Лист1!$A:$E,COLUMN([5]Лист1!$C$4),0) -> 25 | G43: =VLOOKUP(A43,[5]Лист1!$A:$E,COLUMN([5]Лист1!$D$526),0) -> 0 | H43: =VLOOKUP(A43,[6]Лист1!$A:$E,COLUMN([6]Лист1!$C$4),0) -> 0 | I43: =VLOOKUP(A43,[7]Лист1!$A:$E,COLUMN([7]Лист1!$C$4),0) -> 0
A44: ПРЕМИАЛЬНАЯ СЕРИЯ EMURA с матово-черным внутренним блоком
A45: FTXJ20AB | D45: =_xlfn.CONCAT(A45," / ",A46) -> FTXJ20AB / RXJ20A | E45: =VLOOKUP(A46,'[15]SPLIT & AIR'!$A:$N,COLUMN('[15]SPLIT & AIR'!$L$12),0) -> 269990 | F45: =VLOOKUP(A45,[5]Лист1!$A:$E,COLUMN([5]Лист1!$C$4),0) -> 10 | G45: =VLOOKUP(A45,[5]Лист1!$A:$E,COLUMN([5]Лист1!$D$526),0) -> 0 | H45: =VLOOKUP(A45,[6]Лист1!$A:$E,COLUMN([6]Лист1!$C$4),0) -> 0 | I45: =VLOOKUP(A45,[7]Лист1!$A:$E,COLUMN([7]Лист1!$C$4),0) -> 0
A46: RXJ20A | F46: =VLOOKUP(A46,[5]Лист1!$A:$E,COLUMN([5]Лист1!$C$4),0) -> 0 | G46: =VLOOKUP(A46,[5]Лист1!$A:$E,COLUMN([5]Лист1!$D$526),0) -> 0 | H46: =VLOOKUP(A46,[6]Лист1!$A:$E,COLUMN([6]Лист1!$C$4),0) -> 0 | I46: =VLOOKUP(A46,[7]Лист1!$A:$E,COLUMN([7]Лист1!$C$4),0) -> 0
A47: FTXJ25AB | D47: =_xlfn.CONCAT(A47," / ",A48) -> FTXJ25AB / RXJ25A | E47: =VLOOKUP(A48,'[15]SPLIT & AIR'!$A:$N,COLUMN('[15]SPLIT & AIR'!$L$12),0) -> 291990 | F47: =VLOOKUP(A47,[5]Лист1!$A:$E,COLUMN([5]Лист1!$C$4),0) -> 0 | G47: =VLOOKUP(A47,[5]Лист1!$A:$E,COLUMN([5]Лист1!$D$526),0) -> 0 | H47: =VLOOKUP(A47,[6]Лист1!$A:$E,COLUMN([6]Лист1!$C$4),0) -> 0 | I47: =VLOOKUP(A47,[7]Лист1!$A:$E,COLUMN([7]Лист1!$C$4),0) -> 0
A48: RXJ25A | F48: =VLOOKUP(A48,[5]Лист1!$A:$E,COLUMN([5]Лист1!$C$4),0) -> 0 | G48: =VLOOKUP(A48,[5]Лист1!$A:$E,COLUMN([5]Лист1!$D$526),0) -> 0 | H48: =VLOOKUP(A48,[6]Лист1!$A:$E,COLUMN([6]Лист1!$C$4),0) -> 0 | I48: =VLOOKUP(A48,[7]Лист1!$A:$E,COLUMN([7]Лист1!$C$4),0) -> 0
A49: FTXJ35AB | D49: =_xlfn.CONCAT(A49," / ",A50) -> FTXJ35AB / RXJ35A | E49: =VLOOKUP(A50,'[15]SPLIT & AIR'!$A:$N,COLUMN('[15]SPLIT & AIR'!$L$12),0) -> 348990 | F49: =VLOOKUP(A49,[5]Лист1!$A:$E,COLUMN([5]Лист1!$C$4),0) -> 6 | G49: =VLOOKUP(A49,[5]Лист1!$A:$E,COLUMN([5]Лист1!$D$526),0) -> 0 | H49: =VLOOKUP(A49,[6]Лист1!$A:$E,COLUMN([6]Лист1!$C$4),0) -> 0 | I49: =VLOOKUP(A49,[7]Лист1!$A:$E,COLUMN([7]Лист1!$C$4),0) -> 0
A50: RXJ35A | F50: =VLOOKUP(A50,[5]Лист1!$A:$E,COLUMN([5]Лист1!$C$4),0) -> 8 | G50: =VLOOKUP(A50,[5]Лист1!$A:$E,COLUMN([5]Лист1!$D$526),0) -> 0 | H50: =VLOOKUP(A50,[6]Лист1!$A:$E,COLUMN([6]Лист1!$C$4),0) -> 0 | I50: =VLOOKUP(A50,[7]Лист1!$A:$E,COLUMN([7]Лист1!$C$4),0) -> 0
A51: FTXJ20AB9 | D51: =_xlfn.CONCAT(A51," / ",A52) -> FTXJ20AB9 / RXJ20A9 | E51: =VLOOKUP(A52,'[15]SPLIT & AIR'!$A:$N,COLUMN('[15]SPLIT & AIR'!$L$12),0) -> 278990 | F51: =VLOOKUP(A51,[5]Лист1!$A:$E,COLUMN([5]Лист1!$C$4),0) -> 4 | G51: =VLOOKUP(A51,[5]Лист1!$A:$E,COLUMN([5]Лист1!$D$526),0) -> 0 | H51: =VLOOKUP(A51,[6]Лист1!$A:$E,COLUMN([6]Лист1!$C$4),0) -> 0 | I51: =VLOOKUP(A51,[7]Лист1!$A:$E,COLUMN([7]Лист1!$C$4),0) -> 0
A52: RXJ20A9 | F52: =VLOOKUP(A52,[5]Лист1!$A:$E,COLUMN([5]Лист1!$C$4),0) -> 5 | G52: =VLOOKUP(A52,[5]Лист1!$A:$E,COLUMN([5]Лист1!$D$526),0) -> 0 | H52: =VLOOKUP(A52,[6]Лист1!$A:$E,COLUMN([6]Лист1!$C$4),0) -> 0 | I52: =VLOOKUP(A52,[7]Лист1!$A:$E,COLUMN([7]Лист1!$C$4),0) -> 0
A53: FTXJ25AB9 | D53: =_xlfn.CONCAT(A53," / ",A54) -> FTXJ25AB9 / RXJ25A9 | E53: =VLOOKUP(A54,'[15]SPLIT & AIR'!$A:$N,COLUMN('[15]SPLIT & AIR'!$L$12),0) -> 308990 | F53: =VLOOKUP(A53,[5]Лист1!$A:$E,COLUMN([5]Лист1!$C$4),0) -> 0 | G53: =VLOOKUP(A53,[5]Лист1!$A:$E,COLUMN([5]Лист1!$D$526),0) -> 0 | H53: =VLOOKUP(A53,[6]Лист1!$A:$E,COLUMN([6]Лист1!$C$4),0) -> 0 | I53: =VLOOKUP(A53,[7]Лист1!$A:$E,COLUMN([7]Лист1!$C$4),0) -> 0
A54: RXJ25A9 | F54: =VLOOKUP(A54,[5]Лист1!$A:$E,COLUMN([5]Лист1!$C$4),0) -> 17 | G54: =VLOOKUP(A54,[5]Лист1!$A:$E,COLUMN([5]Лист1!$D$526),0) -> 0 | H54: =VLOOKUP(A54,[6]Лист1!$A:$E,COLUMN([6]Лист1!$C$4),0) -> 0 | I54: =VLOOKUP(A54,[7]Лист1!$A:$E,COLUMN([7]Лист1!$C$4),0) -> 0
A55: FTXJ35AB9 | D55: =_xlfn.CONCAT(A55," / ",A56) -> FTXJ35AB9 / RXJ35A9 | E55: =VLOOKUP(A56,'[15]SPLIT & AIR'!$A:$N,COLUMN('[15]SPLIT & AIR'!$L$12),0) -> 374990 | F55: =VLOOKUP(A55,[5]Лист1!$A:$E,COLUMN([5]Лист1!$C$4),0) -> 15 | G55: =VLOOKUP(A55,[5]Лист1!$A:$E,COLUMN([5]Лист1!$D$526),0) -> 0 | H55: =VLOOKUP(A55,[6]Лист1!$A:$E,COLUMN([6]Лист1!$C$4),0) -> 0 | I55: =VLOOKUP(A55,[7]Лист1!$A:$E,COLUMN([7]Лист1!$C$4),0) -> 0
A56: RXJ35A9 | F56: =VLOOKUP(A56,[5]Лист1!$A:$E,COLUMN([5]Лист1!$C$4),0) -> 0 | G56: =VLOOKUP(A56,[5]Лист1!$A:$E,COLUMN([5]Лист1!$D$526),0) -> 0 | H56: =VLOOKUP(A56,[6]Лист1!$A:$E,COLUMN([6]Лист1!$C$4),0) -> 0 | I56: =VLOOKUP(A56,[7]Лист1!$A:$E,COLUMN([7]Лист1!$C$4),0) -> 0
A57: FTXJ50AB9 | D57: =_xlfn.CONCAT(A57," / ",A58) -> FTXJ50AB9 / RXJ50A9 | E57: =VLOOKUP(A58,'[15]SPLIT & AIR'!$A:$N,COLUMN('[15]SPLIT & AIR'!$L$12),0) -> 474990 | F57: =VLOOKUP(A57,[5]Лист1!$A:$E,COLUMN([5]Лист1!$C$4),0) -> 0 | G57: =VLOOKUP(A57,[5]Лист1!$A:$E,COLUMN([5]Лист1!$D$526),0) -> 0 | H57: =VLOOKUP(A57,[6]Лист1!$A:$E,COLUMN([6]Лист1!$C$4),0) -> 0 | I57: =VLOOKUP(A57,[7]Лист1!$A:$E,COLUMN([7]Лист1!$C$4),0) -> 0
A58: RXJ50A9 | F58: =VLOOKUP(A58,[5]Лист1!$A:$E,COLUMN([5]Лист1!$C$4),0) -> 25 | G58: =VLOOKUP(A58,[5]Лист1!$A:$E,COLUMN([5]Лист1!$D$526),0) -> 0 | H58: =VLOOKUP(A58,[6]Лист1!$A:$E,COLUMN([6]Лист1!$C$4),0) -> 0 | I58: =VLOOKUP(A58,[7]Лист1!$A:$E,COLUMN([7]Лист1!$C$4),0) -> 0
A59: СЕРИЯ PERFERA (FTXM/RXM)
A60: FTXM20R | D60: =_xlfn.CONCAT(A60," / ",A61) -> FTXM20R / RXM20R9 | E60: =VLOOKUP(A61,'[15]SPLIT & AIR'!$A:$N,COLUMN('[15]SPLIT & AIR'!$L$12),0) -> 217990 | F60: =VLOOKUP(A60,[5]Лист1!$A:$E,COLUMN([5]Лист1!$C$4),0) -> 0 | G60: =VLOOKUP(A60,[5]Лист1!$A:$E,COLUMN([5]Лист1!$D$526),0) -> 0 | H60: =VLOOKUP(A60,[6]Лист1!$A:$E,COLUMN([6]Лист1!$C$4),0) -> 0 | I60: =VLOOKUP(A60,[7]Лист1!$A:$E,COLUMN([7]Лист1!$C$4),0) -> 0
A61: RXM20R9 | F61: =VLOOKUP(A61,[5]Лист1!$A:$E,COLUMN([5]Лист1!$C$4),0) -> >50 | G61: =VLOOKUP(A61,[5]Лист1!$A:$E,COLUMN([5]Лист1!$D$526),0) -> 0 | H61: =VLOOKUP(A61,[6]Лист1!$A:$E,COLUMN([6]Лист1!$C$4),0) -> 0 | I61: =VLOOKUP(A61,[7]Лист1!$A:$E,COLUMN([7]Лист1!$C$4),0) -> 0
A62: FTXM25R | D62: =_xlfn.CONCAT(A62," / ",A63) -> FTXM25R / RXM25R9 | E62: =VLOOKUP(A63,'[15]SPLIT & AIR'!$A:$N,COLUMN('[15]SPLIT & AIR'!$L$12),0) -> 241990 | F62: =VLOOKUP(A62,[5]Лист1!$A:$E,COLUMN([5]Лист1!$C$4),0) -> 0 | G62: =VLOOKUP(A62,[5]Лист1!$A:$E,COLUMN([5]Лист1!$D$526),0) -> 0 | H62: =VLOOKUP(A62,[6]Лист1!$A:$E,COLUMN([6]Лист1!$C$4),0) -> 0 | I62: =VLOOKUP(A62,[7]Лист1!$A:$E,COLUMN([7]Лист1!$C$4),0) -> 0
A63: RXM25R9 | F63: =VLOOKUP(A63,[5]Лист1!$A:$E,COLUMN([5]Лист1!$C$4),0) -> 0 | G63: =VLOOKUP(A63,[5]Лист1!$A:$E,COLUMN([5]Лист1!$D$526),0) -> 0 | H63: =VLOOKUP(A63,[6]Лист1!$A:$E,COLUMN([6]Лист1!$C$4),0) -> 0 | I63: =VLOOKUP(A63,[7]Лист1!$A:$E,COLUMN([7]Лист1!$C$4),0) -> 0
A64: FTXM25R | D64: =_xlfn.CONCAT(A64," / ",A65) -> FTXM25R / RXM25R | E64: =VLOOKUP(A65,'[15]SPLIT & AIR'!$A:$N,COLUMN('[15]SPLIT & AIR'!$L$12),0) -> 241990 | F64: =VLOOKUP(A64,[5]Лист1!$A:$E,COLUMN([5]Лист1!$C$4),0) -> 0 | G64: =VLOOKUP(A64,[5]Лист1!$A:$E,COLUMN([5]Лист1!$D$526),0) -> 0 | H64: =VLOOKUP(A64,[6]Лист1!$A:$E,COLUMN([6]Лист1!$C$4),0) -> 0 | I64: =VLOOKUP(A64,[7]Лист1!$A:$E,COLUMN([7]Лист1!$C$4),0) -> 0
A65: RXM25R | F65: =VLOOKUP(A65,[5]Лист1!$A:$E,COLUMN([5]Лист1!$C$4),0) -> #N/A | G65: =VLOOKUP(A65,[5]Лист1!$A:$E,COLUMN([5]Лист1!$D$526),0) -> #N/A | H65: =VLOOKUP(A65,[6]Лист1!$A:$E,COLUMN([6]Лист1!$C$4),0) -> #N/A | I65: =VLOOKUP(A65,[7]Лист1!$A:$E,COLUMN([7]Лист1!$C$4),0) -> #N/A
A66: FTXM35R | D66: =_xlfn.CONCAT(A66," / ",A67) -> FTXM35R / RXM35R9 | E66: =VLOOKUP(A67,'[15]SPLIT & AIR'!$A:$N,COLUMN('[15]SPLIT & AIR'!$L$12),0) -> 282990 | F66: =VLOOKUP(A66,[5]Лист1!$A:$E,COLUMN([5]Лист1!$C$4),0) -> >50 | G66: =VLOOKUP(A66,[5]Лист1!$A:$E,COLUMN([5]Лист1!$D$526),0) -> 0 | H66: =VLOOKUP(A66,[6]Лист1!$A:$E,COLUMN([6]Лист1!$C$4),0) -> 0 | I66: =VLOOKUP(A66,[7]Лист1!$A:$E,COLUMN([7]Лист1!$C$4),0) -> 0
A67: RXM35R9 | F67: =VLOOKUP(A67,[5]Лист1!$A:$E,COLUMN([5]Лист1!$C$4),0) -> 0 | G67: =VLOOKUP(A67,[5]Лист1!$A:$E,COLUMN([5]Лист1!$D$526),0) -> 0 | H67: =VLOOKUP(A67,[6]Лист1!$A:$E,COLUMN([6]Лист1!$C$4),0) -> 0 | I67: =VLOOKUP(A67,[7]Лист1!$A:$E,COLUMN([7]Лист1!$C$4),0) -> 0
A68: FTXM50R | D68: =_xlfn.CONCAT(A68," / ",A69) -> FTXM50R / RXM50R | E68: =VLOOKUP(A69,'[15]SPLIT & AIR'!$A:$N,COLUMN('[15]SPLIT & AIR'!$L$12),0) -> 386990 | F68: =VLOOKUP(A68,[5]Лист1!$A:$E,COLUMN([5]Лист1!$C$4),0) -> >50 | G68: =VLOOKUP(A68,[5]Лист1!$A:$E,COLUMN([5]Лист1!$D$526),0) -> 0 | H68: =VLOOKUP(A68,[6]Лист1!$A:$E,COLUMN([6]Лист1!$C$4),0) -> 0 | I68: =VLOOKUP(A68,[7]Лист1!$A:$E,COLUMN([7]Лист1!$C$4),0) -> 0
A69: RXM50R | F69: =VLOOKUP(A69,[5]Лист1!$A:$E,COLUMN([5]Лист1!$C$4),0) -> 0 | G69: =VLOOKUP(A69,[5]Лист1!$A:$E,COLUMN([5]Лист1!$D$526),0) -> 0 | H69: =VLOOKUP(A69,[6]Лист1!$A:$E,COLUMN([6]Лист1!$C$4),0) -> 0 | I69: =VLOOKUP(A69,[7]Лист1!$A:$E,COLUMN([7]Лист1!$C$4),0) -> 0
A70: FTXM60R | D70: =_xlfn.CONCAT(A70," / ",A71) -> FTXM60R / RXM60R | E70: =VLOOKUP(A71,'[15]SPLIT & AIR'!$A:$N,COLUMN('[15]SPLIT & AIR'!$L$12),0) -> 408990 | F70: =VLOOKUP(A70,[5]Лист1!$A:$E,COLUMN([5]Лист1!$C$4),0) -> >50 | G70: =VLOOKUP(A70,[5]Лист1!$A:$E,COLUMN([5]Лист1!$D$526),0) -> 0 | H70: =VLOOKUP(A70,[6]Лист1!$A:$E,COLUMN([6]Лист1!$C$4),0) -> 0 | I70: =VLOOKUP(A70,[7]Лист1!$A:$E,COLUMN([7]Лист1!$C$4),0) -> 0
A71: RXM60R | F71: =VLOOKUP(A71,[5]Лист1!$A:$E,COLUMN([5]Лист1!$C$4),0) -> 0 | G71: =VLOOKUP(A71,[5]Лист1!$A:$E,COLUMN([5]Лист1!$D$526),0) -> 0 | H71: =VLOOKUP(A71,[6]Лист1!$A:$E,COLUMN([6]Лист1!$C$4),0) -> 0 | I71: =VLOOKUP(A71,[7]Лист1!$A:$E,COLUMN([7]Лист1!$C$4),0) -> 0
A72: FTXM71R | D72: =_xlfn.CONCAT(A72," / ",A73) -> FTXM71R / RXM71R | E72: =VLOOKUP(A73,'[15]SPLIT & AIR'!$A:$N,COLUMN('[15]SPLIT & AIR'!$L$12),0) -> 426990 | F72: =VLOOKUP(A72,[5]Лист1!$A:$E,COLUMN([5]Лист1!$C$4),0) -> 15 | G72: =VLOOKUP(A72,[5]Лист1!$A:$E,COLUMN([5]Лист1!$D$526),0) -> 0 | H72: =VLOOKUP(A72,[6]Лист1!$A:$E,COLUMN([6]Лист1!$C$4),0) -> 0 | I72: =VLOOKUP(A72,[7]Лист1!$A:$E,COLUMN([7]Лист1!$C$4),0) -> 0
A73: RXM71R | F73: =VLOOKUP(A73,[5]Лист1!$A:$E,COLUMN([5]Лист1!$C$4),0) -> 0 | G73: =VLOOKUP(A73,[5]Лист1!$A:$E,COLUMN([5]Лист1!$D$526),0) -> 0 | H73: =VLOOKUP(A73,[6]Лист1!$A:$E,COLUMN([6]Лист1!$C$4),0) -> 0 | I73: =VLOOKUP(A73,[7]Лист1!$A:$E,COLUMN([7]Лист1!$C$4),0) -> 0
A74: СЕРИЯ PERFERA (FTXM/RXM)
A75: FTXM20A | D75: =_xlfn.CONCAT(A75," / ",A76) -> FTXM20A / RXM20A | E75: =VLOOKUP(A76,'[15]SPLIT & AIR'!$A:$N,COLUMN('[15]SPLIT & AIR'!$L$12),0) -> 217990 | F75: =VLOOKUP(A75,[5]Лист1!$A:$E,COLUMN([5]Лист1!$C$4),0) -> 0 | G75: =VLOOKUP(A75,[5]Лист1!$A:$E,COLUMN([5]Лист1!$D$526),0) -> 0 | H75: =VLOOKUP(A75,[6]Лист1!$A:$E,COLUMN([6]Лист1!$C$4),0) -> 0 | I75: =VLOOKUP(A75,[7]Лист1!$A:$E,COLUMN([7]Лист1!$C$4),0) -> 0
A76: RXM20A | F76: =VLOOKUP(A76,[5]Лист1!$A:$E,COLUMN([5]Лист1!$C$4),0) -> 15 | G76: =VLOOKUP(A76,[5]Лист1!$A:$E,COLUMN([5]Лист1!$D$526),0) -> 0 | H76: =VLOOKUP(A76,[6]Лист1!$A:$E,COLUMN([6]Лист1!$C$4),0) -> 0 | I76: =VLOOKUP(A76,[7]Лист1!$A:$E,COLUMN([7]Лист1!$C$4),0) -> 0
A77: FTXM25A | D77: =_xlfn.CONCAT(A77," / ",A78) -> FTXM25A / RXM25A | E77: =VLOOKUP(A78,'[15]SPLIT & AIR'!$A:$N,COLUMN('[15]SPLIT & AIR'!$L$12),0) -> 244990 | F77: =VLOOKUP(A77,[5]Лист1!$A:$E,COLUMN([5]Лист1!$C$4),0) -> 0 | G77: =VLOOKUP(A77,[5]Лист1!$A:$E,COLUMN([5]Лист1!$D$526),0) -> 0 | H77: =VLOOKUP(A77,[6]Лист1!$A:$E,COLUMN([6]Лист1!$C$4),0) -> 0 | I77: =VLOOKUP(A77,[7]Лист1!$A:$E,COLUMN([7]Лист1!$C$4),0) -> 0
A78: RXM25A | F78: =VLOOKUP(A78,[5]Лист1!$A:$E,COLUMN([5]Лист1!$C$4),0) -> 4 | G78: =VLOOKUP(A78,[5]Лист1!$A:$E,COLUMN([5]Лист1!$D$526),0) -> 0 | H78: =VLOOKUP(A78,[6]Лист1!$A:$E,COLUMN([6]Лист1!$C$4),0) -> 0 | I78: =VLOOKUP(A78,[7]Лист1!$A:$E,COLUMN([7]Лист1!$C$4),0) -> 0
A79: FTXM25A | D79: =_xlfn.CONCAT(A79," / ",A80) -> FTXM25A / RXM25A9 | E79: =VLOOKUP(A80,'[15]SPLIT & AIR'!$A:$N,COLUMN('[15]SPLIT & AIR'!$L$12),0) -> 244990 | F79: =VLOOKUP(A79,[5]Лист1!$A:$E,COLUMN([5]Лист1!$C$4),0) -> 0 | G79: =VLOOKUP(A79,[5]Лист1!$A:$E,COLUMN([5]Лист1!$D$526),0) -> 0 | H79: =VLOOKUP(A79,[6]Лист1!$A:$E,COLUMN([6]Лист1!$C$4),0) -> 0 | I79: =VLOOKUP(A79,[7]Лист1!$A:$E,COLUMN([7]Лист1!$C$4),0) -> 0
A80: RXM25A9 | F80: =VLOOKUP(A80,[5]Лист1!$A:$E,COLUMN([5]Лист1!$C$4),0) -> 0 | G80: =VLOOKUP(A80,[5]Лист1!$A:$E,COLUMN([5]Лист1!$D$526),0) -> 0 | H80: =VLOOKUP(A80,[6]Лист1!$A:$E,COLUMN([6]Лист1!$C$4),0) -> 0 | I80: =VLOOKUP(A80,[7]Лист1!$A:$E,COLUMN([7]Лист1!$C$4),0) -> 0
A81: FTXM35A | D81: =_xlfn.CONCAT(A81," / ",A82) -> FTXM35A / RXM35A | E81: =VLOOKUP(A82,'[15]SPLIT & AIR'!$A:$N,COLUMN('[15]SPLIT & AIR'!$L$12),0) -> 287990 | F81: =VLOOKUP(A81,[5]Лист1!$A:$E,COLUMN([5]Лист1!$C$4),0) -> 0 | G81: =VLOOKUP(A81,[5]Лист1!$A:$E,COLUMN([5]Лист1!$D$526),0) -> 0 | H81: =VLOOKUP(A81,[6]Лист1!$A:$E,COLUMN([6]Лист1!$C$4),0) -> 0 | I81: =VLOOKUP(A81,[7]Лист1!$A:$E,COLUMN([7]Лист1!$C$4),0) -> 0
A82: RXM35A | F82: =VLOOKUP(A82,[5]Лист1!$A:$E,COLUMN([5]Лист1!$C$4),0) -> >50 | G82: =VLOOKUP(A82,[5]Лист1!$A:$E,COLUMN([5]Лист1!$D$526),0) -> 2 | H82: =VLOOKUP(A82,[6]Лист1!$A:$E,COLUMN([6]Лист1!$C$4),0) -> 2 | I82: =VLOOKUP(A82,[7]Лист1!$A:$E,COLUMN([7]Лист1!$C$4),0) -> 0
A83: FTXM35A | D83: =_xlfn.CONCAT(A83," / ",A84) -> FTXM35A / RXM35A9 | E83: =VLOOKUP(A84,'[15]SPLIT & AIR'!$A:$N,COLUMN('[15]SPLIT & AIR'!$L$12),0) -> 302389 | F83: =VLOOKUP(A83,[5]Лист1!$A:$E,COLUMN([5]Лист1!$C$4),0) -> 0 | G83: =VLOOKUP(A83,[5]Лист1!$A:$E,COLUMN([5]Лист1!$D$526),0) -> 0 | H83: =VLOOKUP(A83,[6]Лист1!$A:$E,COLUMN([6]Лист1!$C$4),0) -> 0 | I83: =VLOOKUP(A83,[7]Лист1!$A:$E,COLUMN([7]Лист1!$C$4),0) -> 0
A84: RXM35A9 | F84: =VLOOKUP(A84,[5]Лист1!$A:$E,COLUMN([5]Лист1!$C$4),0) -> 0 | G84: =VLOOKUP(A84,[5]Лист1!$A:$E,COLUMN([5]Лист1!$D$526),0) -> 0 | H84: =VLOOKUP(A84,[6]Лист1!$A:$E,COLUMN([6]Лист1!$C$4),0) -> 0 | I84: =VLOOKUP(A84,[7]Лист1!$A:$E,COLUMN([7]Лист1!$C$4),0) -> 0
A85: FTXM50A | D85: =_xlfn.CONCAT(A85," / ",A86) -> FTXM50A / RXM50A | E85: =VLOOKUP(A86,'[15]SPLIT & AIR'!$A:$N,COLUMN('[15]SPLIT & AIR'!$L$12),0) -> 386990 | F85: =VLOOKUP(A85,[5]Лист1!$A:$E,COLUMN([5]Лист1!$C$4),0) -> 22 | G85: =VLOOKUP(A85,[5]Лист1!$A:$E,COLUMN([5]Лист1!$D$526),0) -> 0 | H85: =VLOOKUP(A85,[6]Лист1!$A:$E,COLUMN([6]Лист1!$C$4),0) -> 0 | I85: =VLOOKUP(A85,[7]Лист1!$A:$E,COLUMN([7]Лист1!$C$4),0) -> 0
A86: RXM50A | F86: =VLOOKUP(A86,[5]Лист1!$A:$E,COLUMN([5]Лист1!$C$4),0) -> 0 | G86: =VLOOKUP(A86,[5]Лист1!$A:$E,COLUMN([5]Лист1!$D$526),0) -> 0 | H86: =VLOOKUP(A86,[6]Лист1!$A:$E,COLUMN([6]Лист1!$C$4),0) -> 0 | I86: =VLOOKUP(A86,[7]Лист1!$A:$E,COLUMN([7]Лист1!$C$4),0) -> 0
A87: FTXM50A | D87: =_xlfn.CONCAT(A87," / ",A88) -> FTXM50A / RXM50A8 | E87: =VLOOKUP(A88,'[15]SPLIT & AIR'!$A:$N,COLUMN('[15]SPLIT & AIR'!$L$12),0) -> 386990 | F87: =VLOOKUP(A87,[5]Лист1!$A:$E,COLUMN([5]Лист1!$C$4),0) -> 22 | G87: =VLOOKUP(A87,[5]Лист1!$A:$E,COLUMN([5]Лист1!$D$526),0) -> 0 | H87: =VLOOKUP(A87,[6]Лист1!$A:$E,COLUMN([6]Лист1!$C$4),0) -> 0 | I87: =VLOOKUP(A87,[7]Лист1!$A:$E,COLUMN([7]Лист1!$C$4),0) -> 0
A88: RXM50A8 | F88: =VLOOKUP(A88,[5]Лист1!$A:$E,COLUMN([5]Лист1!$C$4),0) -> 0 | G88: =VLOOKUP(A88,[5]Лист1!$A:$E,COLUMN([5]Лист1!$D$526),0) -> 0 | H88: =VLOOKUP(A88,[6]Лист1!$A:$E,COLUMN([6]Лист1!$C$4),0) -> 0 | I88: =VLOOKUP(A88,[7]Лист1!$A:$E,COLUMN([7]Лист1!$C$4),0) -> 0
A89: FTXM60A | D89: =_xlfn.CONCAT(A89," / ",A90) -> FTXM60A / RXM60A | E89: =VLOOKUP(A90,'[15]SPLIT & AIR'!$A:$N,COLUMN('[15]SPLIT & AIR'!$L$12),0) -> 408990 | F89: =VLOOKUP(A89,[5]Лист1!$A:$E,COLUMN([5]Лист1!$C$4),0) -> 0 | G89: =VLOOKUP(A89,[5]Лист1!$A:$E,COLUMN([5]Лист1!$D$526),0) -> 0 | H89: =VLOOKUP(A89,[6]Лист1!$A:$E,COLUMN([6]Лист1!$C$4),0) -> 0 | I89: =VLOOKUP(A89,[7]Лист1!$A:$E,COLUMN([7]Лист1!$C$4),0) -> 0
A90: RXM60A | F90: =VLOOKUP(A90,[5]Лист1!$A:$E,COLUMN([5]Лист1!$C$4),0) -> 7 | G90: =VLOOKUP(A90,[5]Лист1!$A:$E,COLUMN([5]Лист1!$D$526),0) -> 0 | H90: =VLOOKUP(A90,[6]Лист1!$A:$E,COLUMN([6]Лист1!$C$4),0) -> 0 | I90: =VLOOKUP(A90,[7]Лист1!$A:$E,COLUMN([7]Лист1!$C$4),0) -> 0
A91: FTXM60R | D91: =_xlfn.CONCAT(A91," / ",A92) -> FTXM60R / RXM60A | E91: =VLOOKUP(A92,'[15]SPLIT & AIR'!$A:$N,COLUMN('[15]SPLIT & AIR'!$L$12),0) -> 408990 | F91: =VLOOKUP(A91,[5]Лист1!$A:$E,COLUMN([5]Лист1!$C$4),0) -> >50 | G91: =VLOOKUP(A91,[5]Лист1!$A:$E,COLUMN([5]Лист1!$D$526),0) -> 0 | H91: =VLOOKUP(A91,[6]Лист1!$A:$E,COLUMN([6]Лист1!$C$4),0) -> 0 | I91: =VLOOKUP(A91,[7]Лист1!$A:$E,COLUMN([7]Лист1!$C$4),0) -> 0
A92: RXM60A | F92: =VLOOKUP(A92,[5]Лист1!$A:$E,COLUMN([5]Лист1!$C$4),0) -> 7 | G92: =VLOOKUP(A92,[5]Лист1!$A:$E,COLUMN([5]Лист1!$D$526),0) -> 0 | H92: =VLOOKUP(A92,[6]Лист1!$A:$E,COLUMN([6]Лист1!$C$4),0) -> 0 | I92: =VLOOKUP(A92,[7]Лист1!$A:$E,COLUMN([7]Лист1!$C$4),0) -> 0
A93: FTXM71A | D93: =_xlfn.CONCAT(A93," / ",A94) -> FTXM71A / RXM71A | E93: =VLOOKUP(A94,'[15]SPLIT & AIR'!$A:$N,COLUMN('[15]SPLIT & AIR'!$L$12),0) -> 458990 | F93: =VLOOKUP(A93,[5]Лист1!$A:$E,COLUMN([5]Лист1!$C$4),0) -> 0 | G93: =VLOOKUP(A93,[5]Лист1!$A:$E,COLUMN([5]Лист1!$D$526),0) -> 0 | H93: =VLOOKUP(A93,[6]Лист1!$A:$E,COLUMN([6]Лист1!$C$4),0) -> 0 | I93: =VLOOKUP(A93,[7]Лист1!$A:$E,COLUMN([7]Лист1!$C$4),0) -> 0
A94: RXM71A | F94: =VLOOKUP(A94,[5]Лист1!$A:$E,COLUMN([5]Лист1!$C$4),0) -> 32 | G94: =VLOOKUP(A94,[5]Лист1!$A:$E,COLUMN([5]Лист1!$D$526),0) -> 0 | H94: =VLOOKUP(A94,[6]Лист1!$A:$E,COLUMN([6]Лист1!$C$4),0) -> 0 | I94: =VLOOKUP(A94,[7]Лист1!$A:$E,COLUMN([7]Лист1!$C$4),0) -> 0
A95: FTXM71R | D95: =_xlfn.CONCAT(A95," / ",A96) -> FTXM71R / RXM71A | E95: =VLOOKUP(A96,'[15]SPLIT & AIR'!$A:$N,COLUMN('[15]SPLIT & AIR'!$L$12),0) -> 458990 | F95: =VLOOKUP(A95,[5]Лист1!$A:$E,COLUMN([5]Лист1!$C$4),0) -> 15 | G95: =VLOOKUP(A95,[5]Лист1!$A:$E,COLUMN([5]Лист1!$D$526),0) -> 0 | H95: =VLOOKUP(A95,[6]Лист1!$A:$E,COLUMN([6]Лист1!$C$4),0) -> 0 | I95: =VLOOKUP(A95,[7]Лист1!$A:$E,COLUMN([7]Лист1!$C$4),0) -> 0
A96: RXM71A | F96: =VLOOKUP(A96,[5]Лист1!$A:$E,COLUMN([5]Лист1!$C$4),0) -> 32 | G96: =VLOOKUP(A96,[5]Лист1!$A:$E,COLUMN([5]Лист1!$D$526),0) -> 0 | H96: =VLOOKUP(A96,[6]Лист1!$A:$E,COLUMN([6]Лист1!$C$4),0) -> 0 | I96: =VLOOKUP(A96,[7]Лист1!$A:$E,COLUMN([7]Лист1!$C$4),0) -> 0
A97: СЕРИЯ PERFERA (FTXM/RXM) с наружным блоком, доработанным зимним комплектом /-40
A98: FTXM50R | D98: =_xlfn.CONCAT(A98," / ",A99) -> FTXM50R / RXM50R/-40 | E98: =VLOOKUP(A99,'[15]SPLIT & AIR'!$A:$N,COLUMN('[15]SPLIT & AIR'!$L$12),0) -> 391427 | F98: =VLOOKUP(A98,[5]Лист1!$A:$E,COLUMN([5]Лист1!$C$4),0) -> >50 | G98: =VLOOKUP(A98,[5]Лист1!$A:$E,COLUMN([5]Лист1!$D$526),0) -> 0 | H98: =VLOOKUP(A98,[6]Лист1!$A:$E,COLUMN([6]Лист1!$C$4),0) -> 0 | I98: =VLOOKUP(A98,[7]Лист1!$A:$E,COLUMN([7]Лист1!$C$4),0) -> 0
A99: RXM50R/-40 | F99: =VLOOKUP(A99,[5]Лист1!$A:$E,COLUMN([5]Лист1!$C$4),0) -> #N/A | G99: =VLOOKUP(A99,[5]Лист1!$A:$E,COLUMN([5]Лист1!$D$526),0) -> #N/A | H99: =VLOOKUP(A99,[6]Лист1!$A:$E,COLUMN([6]Лист1!$C$4),0) -> #N/A | I99: =VLOOKUP(A99,[7]Лист1!$A:$E,COLUMN([7]Лист1!$C$4),0) -> #N/A
A100: FTXM60R | D100: =_xlfn.CONCAT(A100," / ",A101) -> FTXM60R / RXM60R/-40 | E100: =VLOOKUP(A101,'[15]SPLIT & AIR'!$A:$N,COLUMN('[15]SPLIT & AIR'!$L$12),0) -> 418127 | F100: =VLOOKUP(A100,[5]Лист1!$A:$E,COLUMN([5]Лист1!$C$4),0) -> >50 | G100: =VLOOKUP(A100,[5]Лист1!$A:$E,COLUMN([5]Лист1!$D$526),0) -> 0 | H100: =VLOOKUP(A100,[6]Лист1!$A:$E,COLUMN([6]Лист1!$C$4),0) -> 0 | I100: =VLOOKUP(A100,[7]Лист1!$A:$E,COLUMN([7]Лист1!$C$4),0) -> 0
...

Sheet Dahatsu
A1: HC код комплекта | B1: HC код поблочно | C1: Модель поблочно | D1: Модель | E1: РИЦ | F1: Внутр/наруж
A2: ИНВЕРТОРНЫЕ МОДЕЛИ
A3: Серия "ONYX DC INVERTER" 2025 завод TCL
A4: DH-07 I | B4: Кондиционер Dahatsu DH-07 I | C4: DH-07 I | D4: =C4 -> DH-07 I | E4: =VLOOKUP(A4,'[16]Бытовые Dahatsu'!$A:$K,COLUMN('[16]Бытовые Dahatsu'!$H$8),0) -> 27490 | F4: =VLOOKUP(B4,[17]Лист1!$A:$H,COLUMN([17]Лист1!$C$24),0) -> 14
A5: DH-09 I | B5: Кондиционер Dahatsu DH-09 I | C5: DH-09 I | D5: =C5 -> DH-09 I | E5: =VLOOKUP(A5,'[16]Бытовые Dahatsu'!$A:$K,COLUMN('[16]Бытовые Dahatsu'!$H$8),0) -> 32490 | F5: =VLOOKUP(B5,[17]Лист1!$A:$H,COLUMN([17]Лист1!$C$24),0) -> 0
A6: DH-12 I | B6: Кондиционер Dahatsu DH-12 I | C6: DH-12 I | D6: =C6 -> DH-12 I | E6: =VLOOKUP(A6,'[16]Бытовые Dahatsu'!$A:$K,COLUMN('[16]Бытовые Dahatsu'!$H$8),0) -> 34490 | F6: =VLOOKUP(B6,[17]Лист1!$A:$H,COLUMN([17]Лист1!$C$24),0) -> 0
A7: DH-18 I | B7: Кондиционер Dahatsu DH-18 I | C7: DH-18 I | D7: =C7 -> DH-18 I | E7: =VLOOKUP(A7,'[16]Бытовые Dahatsu'!$A:$K,COLUMN('[16]Бытовые Dahatsu'!$H$8),0) -> 55490 | F7: =VLOOKUP(B7,[17]Лист1!$A:$H,COLUMN([17]Лист1!$C$24),0) -> 11
A8: DH-24 I | B8: Кондиционер Dahatsu DH-24 I | C8: DH-24 I | D8: =C8 -> DH-24 I | E8: =VLOOKUP(A8,'[16]Бытовые Dahatsu'!$A:$K,COLUMN('[16]Бытовые Dahatsu'!$H$8),0) -> 72490 | F8: =VLOOKUP(B8,[17]Лист1!$A:$H,COLUMN([17]Лист1!$C$24),0) -> 65
A9: Серия "ONYX DC INVERTER" 2026 NEW завод TCL
A10: DH-07 I 2026 | B10: Кондиционер Dahatsu DH-07 I NEW | C10: DH-07 I | D10: =C10 -> DH-07 I | E10: =VLOOKUP(A10,'[16]Бытовые Dahatsu'!$A:$K,COLUMN('[16]Бытовые Dahatsu'!$H$8),0) -> 27490 | F10: =VLOOKUP(B10,[17]Лист1!$A:$H,COLUMN([17]Лист1!$C$24),0) -> 243
A11: DH-09 I 2026 | B11: Кондиционер Dahatsu DH-09 I NEW | C11: DH-09 I | D11: =C11 -> DH-09 I | E11: =VLOOKUP(A11,'[16]Бытовые Dahatsu'!$A:$K,COLUMN('[16]Бытовые Dahatsu'!$H$8),0) -> 32490 | F11: =VLOOKUP(B11,[17]Лист1!$A:$H,COLUMN([17]Лист1!$C$24),0) -> 137
A12: DH-12 I 2026 | B12: Кондиционер Dahatsu DH-12 I NEW | C12: DH-12 I | D12: =C12 -> DH-12 I | E12: =VLOOKUP(A12,'[16]Бытовые Dahatsu'!$A:$K,COLUMN('[16]Бытовые Dahatsu'!$H$8),0) -> 34490 | F12: =VLOOKUP(B12,[17]Лист1!$A:$H,COLUMN([17]Лист1!$C$24),0) -> 0
A13: DH-18 I 2026 | B13: Кондиционер Dahatsu DH-18 I NEW | C13: DH-18 I | D13: =C13 -> DH-18 I | E13: =VLOOKUP(A13,'[16]Бытовые Dahatsu'!$A:$K,COLUMN('[16]Бытовые Dahatsu'!$H$8),0) -> 55490 | F13: =VLOOKUP(B13,[17]Лист1!$A:$H,COLUMN([17]Лист1!$C$24),0) -> 83
A14: DH-24 I 2026 | B14: Кондиционер Dahatsu DH-24 I NEW | C14: DH-24 I | D14: =C14 -> DH-24 I | E14: =VLOOKUP(A14,'[16]Бытовые Dahatsu'!$A:$K,COLUMN('[16]Бытовые Dahatsu'!$H$8),0) -> 72490 | F14: =VLOOKUP(B14,[17]Лист1!$A:$H,COLUMN([17]Лист1!$C$24),0) -> 95
A15: WI-FI модуль | C15: WI-FI модуль | D15: =C15 -> WI-FI модуль | E15: уточняйте
A16: Серия "BRILLIANT" 2025-2026 Завод Midea
A17: DS-07I | B17: Кондиционер Dahatsu DS-07I | C17: DS-07I | D17: =C17 -> DS-07I | E17: =VLOOKUP(A17,'[16]Бытовые Dahatsu'!$A:$K,COLUMN('[16]Бытовые Dahatsu'!$H$8),0) -> 32490 | F17: =VLOOKUP(B17,[17]Лист1!$A:$H,COLUMN([17]Лист1!$C$24),0) -> 0
A18: DS-09I | B18: Кондиционер Dahatsu DS-09I | C18: DS-09I | D18: =C18 -> DS-09I | E18: =VLOOKUP(A18,'[16]Бытовые Dahatsu'!$A:$K,COLUMN('[16]Бытовые Dahatsu'!$H$8),0) -> 37490 | F18: =VLOOKUP(B18,[17]Лист1!$A:$H,COLUMN([17]Лист1!$C$24),0) -> 0
A19: DS-12I | B19: Кондиционер Dahatsu DS-12I | C19: DS-12I | D19: =C19 -> DS-12I | E19: =VLOOKUP(A19,'[16]Бытовые Dahatsu'!$A:$K,COLUMN('[16]Бытовые Dahatsu'!$H$8),0) -> 39490 | F19: =VLOOKUP(B19,[17]Лист1!$A:$H,COLUMN([17]Лист1!$C$24),0) -> 0
A20: DS-18I | B20: Кондиционер Dahatsu DS-18I | C20: DS-18I | D20: =C20 -> DS-18I | E20: =VLOOKUP(A20,'[16]Бытовые Dahatsu'!$A:$K,COLUMN('[16]Бытовые Dahatsu'!$H$8),0) -> 60490 | F20: =VLOOKUP(B20,[17]Лист1!$A:$H,COLUMN([17]Лист1!$C$24),0) -> 0
A21: DS-24I | B21: Кондиционер Dahatsu DS-24I | C21: DS-24I | D21: =C21 -> DS-24I | E21: =VLOOKUP(A21,'[16]Бытовые Dahatsu'!$A:$K,COLUMN('[16]Бытовые Dahatsu'!$H$8),0) -> 77490 | F21: =VLOOKUP(B21,[17]Лист1!$A:$H,COLUMN([17]Лист1!$C$24),0) -> 0
A22: Серия "LEGEND" DC INVERTER 2025 Завод AUX
A23: DA-18I | B23: Кондиционер Dahatsu DA-18 I | C23: DA-18I | D23: =C23 -> DA-18I | E23: =VLOOKUP(A23,'[16]Бытовые Dahatsu'!$A:$K,COLUMN('[16]Бытовые Dahatsu'!$H$8),0) -> 58490 | F23: =VLOOKUP(B23,[17]Лист1!$A:$H,COLUMN([17]Лист1!$C$24),0) -> 16
A24: DA-24I | B24: Кондиционер Dahatsu DA-24 I | C24: DA-24I | D24: =C24 -> DA-24I | E24: =VLOOKUP(A24,'[16]Бытовые Dahatsu'!$A:$K,COLUMN('[16]Бытовые Dahatsu'!$H$8),0) -> 75490 | F24: =VLOOKUP(B24,[17]Лист1!$A:$H,COLUMN([17]Лист1!$C$24),0) -> 151
A25: Серия "MIRROR" 2024 Завод Changhong
A26: BCH-07I | B26: Кондиционер Dahatsu BCH-07I | C26: BCH-07I | D26: =C26 -> BCH-07I | E26: =VLOOKUP(A26,'[16]Бытовые Dahatsu'!$A:$K,COLUMN('[16]Бытовые Dahatsu'!$H$8),0) -> 30490 | F26: =VLOOKUP(B26,[17]Лист1!$A:$H,COLUMN([17]Лист1!$C$24),0) -> 61
A27: МОДЕЛИ БЕЗ ИНВЕРТОРА
A28: Серия "ONYX" 2025 завод TCL
A29: DH-07 T | B29: Кондиционер Dahatsu DH-07 Т | C29: DH-07 T | D29: =C29 -> DH-07 T | E29: =VLOOKUP(A29,'[16]Бытовые Dahatsu'!$A:$K,COLUMN('[16]Бытовые Dahatsu'!$H$8),0) -> 19490 | F29: =VLOOKUP(B29,[17]Лист1!$A:$H,COLUMN([17]Лист1!$C$24),0) -> 1 276,000
A30: DH-09 T | B30: Кондиционер Dahatsu DH-09 Т | C30: DH-09 T | D30: =C30 -> DH-09 T | E30: =VLOOKUP(A30,'[16]Бытовые Dahatsu'!$A:$K,COLUMN('[16]Бытовые Dahatsu'!$H$8),0) -> 21490 | F30: =VLOOKUP(B30,[17]Лист1!$A:$H,COLUMN([17]Лист1!$C$24),0) -> 143
A31: DH-12 T | B31: Кондиционер Dahatsu DH-12 Т | C31: DH-12 T | D31: =C31 -> DH-12 T | E31: =VLOOKUP(A31,'[16]Бытовые Dahatsu'!$A:$K,COLUMN('[16]Бытовые Dahatsu'!$H$8),0) -> 29490 | F31: =VLOOKUP(B31,[17]Лист1!$A:$H,COLUMN([17]Лист1!$C$24),0) -> 1 869,000
A32: DH-18 T | B32: Кондиционер Dahatsu DH-18 Т | C32: DH-18 T | D32: =C32 -> DH-18 T | E32: =VLOOKUP(A32,'[16]Бытовые Dahatsu'!$A:$K,COLUMN('[16]Бытовые Dahatsu'!$H$8),0) -> 47490 | F32: =VLOOKUP(B32,[17]Лист1!$A:$H,COLUMN([17]Лист1!$C$24),0) -> 559
A33: DH-24 T | B33: Кондиционер Dahatsu DH-24 Т | C33: DH-24 T | D33: =C33 -> DH-24 T | E33: =VLOOKUP(A33,'[16]Бытовые Dahatsu'!$A:$K,COLUMN('[16]Бытовые Dahatsu'!$H$8),0) -> 58490 | F33: =VLOOKUP(B33,[17]Лист1!$A:$H,COLUMN([17]Лист1!$C$24),0) -> 719
A34: Серия "ONYX" 2026 NEW завод TCL
A35: DH-07 T 2026 | B35: Кондиционер Dahatsu DH-07 Т NEW | C35: DH-07 T | D35: =C35 -> DH-07 T | E35: =VLOOKUP(A35,'[16]Бытовые Dahatsu'!$A:$K,COLUMN('[16]Бытовые Dahatsu'!$H$8),0) -> 19490 | F35: =VLOOKUP(B35,[17]Лист1!$A:$H,COLUMN([17]Лист1!$C$24),0) -> 1 369,000
A36: DH-09 T 2026 | B36: Кондиционер Dahatsu DH-09 Т NEW | C36: DH-09 T | D36: =C36 -> DH-09 T | E36: =VLOOKUP(A36,'[16]Бытовые Dahatsu'!$A:$K,COLUMN('[16]Бытовые Dahatsu'!$H$8),0) -> 21490 | F36: =VLOOKUP(B36,[17]Лист1!$A:$H,COLUMN([17]Лист1!$C$24),0) -> 2 246,000
A37: DH-12 T 2026 | B37: Кондиционер Dahatsu DH-12 Т NEW | C37: DH-12 T | D37: =C37 -> DH-12 T | E37: =VLOOKUP(A37,'[16]Бытовые Dahatsu'!$A:$K,COLUMN('[16]Бытовые Dahatsu'!$H$8),0) -> 29490 | F37: =VLOOKUP(B37,[17]Лист1!$A:$H,COLUMN([17]Лист1!$C$24),0) -> 1 187,000
A38: DH-18 T 2026 | B38: Кондиционер Dahatsu DH-18 Т NEW | C38: DH-18 T | D38: =C38 -> DH-18 T | E38: =VLOOKUP(A38,'[16]Бытовые Dahatsu'!$A:$K,COLUMN('[16]Бытовые Dahatsu'!$H$8),0) -> 47490 | F38: =VLOOKUP(B38,[17]Лист1!$A:$H,COLUMN([17]Лист1!$C$24),0) -> 91
A39: DH-24 T 2026 | B39: Кондиционер Dahatsu DH-24 Т NEW | C39: DH-24 T | D39: =C39 -> DH-24 T | E39: =VLOOKUP(A39,'[16]Бытовые Dahatsu'!$A:$K,COLUMN('[16]Бытовые Dahatsu'!$H$8),0) -> 58490 | F39: =VLOOKUP(B39,[17]Лист1!$A:$H,COLUMN([17]Лист1!$C$24),0) -> 80
A40: WI-FI модуль | C40: WI-FI модуль | D40: =C40 -> WI-FI модуль | E40: уточняйте
A41: Серия "DRAGON" 2025-2026 Завод Midea
A42: DHP-07 | B42: Кондиционер Dahatsu DHP-07 | C42: DHP-07 | D42: =C42 -> DHP-07 | E42: =VLOOKUP(A42,'[16]Бытовые Dahatsu'!$A:$K,COLUMN('[16]Бытовые Dahatsu'!$H$8),0) -> 24490 | F42: =VLOOKUP(B42,[17]Лист1!$A:$H,COLUMN([17]Лист1!$C$24),0) -> 678
A43: DHP-09 | B43: Кондиционер Dahatsu DHP-09 | C43: DHP-09 | D43: =C43 -> DHP-09 | E43: =VLOOKUP(A43,'[16]Бытовые Dahatsu'!$A:$K,COLUMN('[16]Бытовые Dahatsu'!$H$8),0) -> 26490 | F43: =VLOOKUP(B43,[17]Лист1!$A:$H,COLUMN([17]Лист1!$C$24),0) -> 0
A44: DHP-12 | B44: Кондиционер Dahatsu DHP-12 | C44: DHP-12 | D44: =C44 -> DHP-12 | E44: =VLOOKUP(A44,'[16]Бытовые Dahatsu'!$A:$K,COLUMN('[16]Бытовые Dahatsu'!$H$8),0) -> 34490 | F44: =VLOOKUP(B44,[17]Лист1!$A:$H,COLUMN([17]Лист1!$C$24),0) -> 0
A45: DHP-18 | B45: Кондиционер Dahatsu DHP-18 | C45: DHP-18 | D45: =C45 -> DHP-18 | E45: =VLOOKUP(A45,'[16]Бытовые Dahatsu'!$A:$K,COLUMN('[16]Бытовые Dahatsu'!$H$8),0) -> 52490 | F45: =VLOOKUP(B45,[17]Лист1!$A:$H,COLUMN([17]Лист1!$C$24),0) -> 0
A46: DHP-24 | B46: Кондиционер Dahatsu DHP-24 | C46: DHP-24 | D46: =C46 -> DHP-24 | E46: =VLOOKUP(A46,'[16]Бытовые Dahatsu'!$A:$K,COLUMN('[16]Бытовые Dahatsu'!$H$8),0) -> 63490 | F46: =VLOOKUP(B46,[17]Лист1!$A:$H,COLUMN([17]Лист1!$C$24),0) -> 68
A47: Серия "LEGEND" 2025 Завод AUX
A48: DA-12H | B48: Кондиционер Dahatsu DA-12 H | C48: DA-12H | D48: =C48 -> DA-12H | E48: =VLOOKUP(A48,'[16]Бытовые Dahatsu'!$A:$K,COLUMN('[16]Бытовые Dahatsu'!$H$8),0) -> 32490 | F48: =VLOOKUP(B48,[17]Лист1!$A:$H,COLUMN([17]Лист1!$C$24),0) -> 475
A49: DA-24H | B49: Кондиционер Dahatsu DA-24 H | C49: DA-24H | D49: =C49 -> DA-24H | E49: =VLOOKUP(A49,'[16]Бытовые Dahatsu'!$A:$K,COLUMN('[16]Бытовые Dahatsu'!$H$8),0) -> 50490 | F49: =VLOOKUP(B49,[17]Лист1!$A:$H,COLUMN([17]Лист1!$C$24),0) -> 141

Sheet Denko
A1: HC код комплекта | B1: HC код поблочно | C1: Модель поблочно | D1: Модель | E1: РИЦ | F1: Внутр/наруж
A2: ИНВЕРТОРНЫЕ МОДЕЛИ
A3: Серия "WHITE LOTUS DC INVERTER" 2026 NEW Завод Chigo
A4: DECH-07inv | B4: Инверторный внутренний блок Denko DECH-07inv/IN | C4: =A4 -> DECH-07inv | D4: =C4 -> DECH-07inv | E4: =VLOOKUP(A4,'[16]Бытовые Denko'!$A:$K,COLUMN('[16]Бытовые Denko'!$H$8),0) -> 26990 | F4: =VLOOKUP(B4,[17]Лист1!$A:$H,COLUMN([17]Лист1!$C$175),0) -> 0
B5: Инверторный внешний блок Denko DECH-07inv/OUT | F5: =VLOOKUP(B5,[17]Лист1!$A:$H,COLUMN([17]Лист1!$C$175),0) -> 0
A6: DECH-09inv | B6: Инверторный внутренний блок Denko DECH-09inv/IN | C6: =A6 -> DECH-09inv | D6: =C6 -> DECH-09inv | E6: =VLOOKUP(A6,'[16]Бытовые Denko'!$A:$K,COLUMN('[16]Бытовые Denko'!$H$8),0) -> 29990 | F6: =VLOOKUP(B6,[17]Лист1!$A:$H,COLUMN([17]Лист1!$C$175),0) -> 0
B7: Инверторный внешний блок Denko DECH-09inv/OUT | F7: =VLOOKUP(B7,[17]Лист1!$A:$H,COLUMN([17]Лист1!$C$175),0) -> 0
A8: DECH-12inv | B8: Инверторный внутренний блок Denko DECH-12inv/IN | C8: =A8 -> DECH-12inv | D8: =C8 -> DECH-12inv | E8: =VLOOKUP(A8,'[16]Бытовые Denko'!$A:$K,COLUMN('[16]Бытовые Denko'!$H$8),0) -> 32990 | F8: =VLOOKUP(B8,[17]Лист1!$A:$H,COLUMN([17]Лист1!$C$175),0) -> 0
B9: Инверторный внешний блок Denko DECH-12inv/OUT | F9: =VLOOKUP(B9,[17]Лист1!$A:$H,COLUMN([17]Лист1!$C$175),0) -> 0
A10: DECH-18inv | B10: Инверторный внутренний блок Denko DECH-18inv/IN | C10: =A10 -> DECH-18inv | D10: =C10 -> DECH-18inv | E10: =VLOOKUP(A10,'[16]Бытовые Denko'!$A:$K,COLUMN('[16]Бытовые Denko'!$H$8),0) -> 53990 | F10: =VLOOKUP(B10,[17]Лист1!$A:$H,COLUMN([17]Лист1!$C$175),0) -> 0
B11: Инверторный внешний блок Denko DECH-18inv/OUT | F11: =VLOOKUP(B11,[17]Лист1!$A:$H,COLUMN([17]Лист1!$C$175),0) -> 0
A12: DECH-24inv | B12: Инверторный внутренний блок Denko DECH-24inv/IN | C12: =A12 -> DECH-24inv | D12: =C12 -> DECH-24inv | E12: =VLOOKUP(A12,'[16]Бытовые Denko'!$A:$K,COLUMN('[16]Бытовые Denko'!$H$8),0) -> 70990 | F12: =VLOOKUP(B12,[17]Лист1!$A:$H,COLUMN([17]Лист1!$C$175),0) -> 0
B13: Инверторный внешний блок Denko DECH-24inv/OUT | F13: =VLOOKUP(B13,[17]Лист1!$A:$H,COLUMN([17]Лист1!$C$175),0) -> 0
A14: Серия "PHOENIX SPIRIT DC INVERTER" 2026 NEW Завод Midea
A15: DEMD-07i | B15: Инверторный внутренний блок кондиционера Denko DEMD-07i/IN | C15: =A15 -> DEMD-07i | D15: =C15 -> DEMD-07i | E15: =VLOOKUP(A15,'[16]Бытовые Denko'!$A:$K,COLUMN('[16]Бытовые Denko'!$H$8),0) -> 29490 | F15: =VLOOKUP(B15,[17]Лист1!$A:$H,COLUMN([17]Лист1!$C$175),0) -> 0
B16: Инверторный внешний блок кондиционера Denko DEMD-07i/OUT | F16: =VLOOKUP(B16,[17]Лист1!$A:$H,COLUMN([17]Лист1!$C$175),0) -> 0
A17: DEMD-09i | B17: Инверторный внутренний блок кондиционера Denko DEMD-09i/IN | C17: =A17 -> DEMD-09i | D17: =C17 -> DEMD-09i | E17: =VLOOKUP(A17,'[16]Бытовые Denko'!$A:$K,COLUMN('[16]Бытовые Denko'!$H$8),0) -> 34490 | F17: =VLOOKUP(B17,[17]Лист1!$A:$H,COLUMN([17]Лист1!$C$175),0) -> 0
B18: Инверторный внешний блок кондиционера Denko DEMD-09i/OUT | F18: =VLOOKUP(B18,[17]Лист1!$A:$H,COLUMN([17]Лист1!$C$175),0) -> 0
A19: DEMD-12i | B19: Инверторный внутренний блок кондиционера Denko DEMD-12i/IN | C19: =A19 -> DEMD-12i | D19: =C19 -> DEMD-12i | E19: =VLOOKUP(A19,'[16]Бытовые Denko'!$A:$K,COLUMN('[16]Бытовые Denko'!$H$8),0) -> 36490 | F19: =VLOOKUP(B19,[17]Лист1!$A:$H,COLUMN([17]Лист1!$C$175),0) -> 0
B20: Инверторный внешний блок кондиционера Denko DEMD-12i/OUT | F20: =VLOOKUP(B20,[17]Лист1!$A:$H,COLUMN([17]Лист1!$C$175),0) -> 0
A21: DEMD-18i | B21: Инверторный внутренний блок кондиционера Denko DEMD-18i/IN | C21: =A21 -> DEMD-18i | D21: =C21 -> DEMD-18i | E21: =VLOOKUP(A21,'[16]Бытовые Denko'!$A:$K,COLUMN('[16]Бытовые Denko'!$H$8),0) -> 57490 | F21: =VLOOKUP(B21,[17]Лист1!$A:$H,COLUMN([17]Лист1!$C$175),0) -> 0
B22: Инверторный внешний блок кондиционера Denko DEMD-18i/OUT | F22: =VLOOKUP(B22,[17]Лист1!$A:$H,COLUMN([17]Лист1!$C$175),0) -> 0
A23: DEMD-24i | B23: Инверторный внутренний блок кондиционера Denko DEMD-24i/IN | C23: =A23 -> DEMD-24i | D23: =C23 -> DEMD-24i | E23: =VLOOKUP(A23,'[16]Бытовые Denko'!$A:$K,COLUMN('[16]Бытовые Denko'!$H$8),0) -> 74490 | F23: =VLOOKUP(B23,[17]Лист1!$A:$H,COLUMN([17]Лист1!$C$175),0) -> 0
B24: Инверторный внешний блок кондиционера Denko DEMD-24i/OUT | F24: =VLOOKUP(B24,[17]Лист1!$A:$H,COLUMN([17]Лист1!$C$175),0) -> 0
A25: Серия "LEGEND" 2025 завод TCL
A26: DU-07I | B26: Кондиционер Denko DU-07I TCL | C26: =A26 -> DU-07I | D26: =C26 -> DU-07I | E26: =VLOOKUP(A26,'[16]Бытовые Denko'!$A:$K,COLUMN('[16]Бытовые Denko'!$H$8),0) -> 26990 | F26: =VLOOKUP(B26,[17]Лист1!$A:$H,COLUMN([17]Лист1!$C$175),0) -> 0
A27: DU-09I | B27: Кондиционер Denko DU-09I TCL | C27: =A27 -> DU-09I | D27: =C27 -> DU-09I | E27: =VLOOKUP(A27,'[16]Бытовые Denko'!$A:$K,COLUMN('[16]Бытовые Denko'!$H$8),0) -> 31990 | F27: =VLOOKUP(B27,[17]Лист1!$A:$H,COLUMN([17]Лист1!$C$175),0) -> 0
A28: DU-12I | B28: Кондиционер Denko DU-12I TCL | C28: =A28 -> DU-12I | D28: =C28 -> DU-12I | E28: =VLOOKUP(A28,'[16]Бытовые Denko'!$A:$K,COLUMN('[16]Бытовые Denko'!$H$8),0) -> 33990 | F28: =VLOOKUP(B28,[17]Лист1!$A:$H,COLUMN([17]Лист1!$C$175),0) -> 3
A29: DU-18I | B29: Кондиционер Denko DU-18I TCL | C29: =A29 -> DU-18I | D29: =C29 -> DU-18I | E29: =VLOOKUP(A29,'[16]Бытовые Denko'!$A:$K,COLUMN('[16]Бытовые Denko'!$H$8),0) -> 54990 | F29: =VLOOKUP(B29,[17]Лист1!$A:$H,COLUMN([17]Лист1!$C$175),0) -> 10
A30: DU-24I | B30: Кондиционер Denko DU-24I TCL | C30: =A30 -> DU-24I | D30: =C30 -> DU-24I | E30: =VLOOKUP(A30,'[16]Бытовые Denko'!$A:$K,COLUMN('[16]Бытовые Denko'!$H$8),0) -> 71990 | F30: =VLOOKUP(B30,[17]Лист1!$A:$H,COLUMN([17]Лист1!$C$175),0) -> 77
A31: Серия "DRAGON DC INVERTER" 2025 Завод Changhong
A32: DB-12i | B32: Кондиционер Denko DB-12i | C32: =A32 -> DB-12i | D32: =C32 -> DB-12i | E32: =VLOOKUP(A32,'[16]Бытовые Denko'!$A:$K,COLUMN('[16]Бытовые Denko'!$H$8),0) -> 0 | F32: =VLOOKUP(B32,[17]Лист1!$A:$H,COLUMN([17]Лист1!$C$175),0) -> 0
A33: Серия "LEGEND" 2023 Завод AUX
A34: DU-07I | B34: Кондиционер Denko DU-07I | C34: =A34 -> DU-07I | D34: =C34 -> DU-07I | E34: =VLOOKUP(A34,'[16]Бытовые Denko'!$A:$K,COLUMN('[16]Бытовые Denko'!$H$8),0) -> 26990 | F34: =VLOOKUP(B34,[17]Лист1!$A:$H,COLUMN([17]Лист1!$C$175),0) -> 334
A35: DU-24I | B35: Кондиционер Denko DU-24I | C35: =A35 -> DU-24I | D35: =C35 -> DU-24I | E35: =VLOOKUP(A35,'[16]Бытовые Denko'!$A:$K,COLUMN('[16]Бытовые Denko'!$H$8),0) -> 71990 | F35: =VLOOKUP(B35,[17]Лист1!$A:$H,COLUMN([17]Лист1!$C$175),0) -> 10
A36: Серия "DRAGON" 2023 Завод Changhong
A37: QW-07I | B37: Кондиционер Denko QW-07I | C37: =A37 -> QW-07I | D37: =C37 -> QW-07I | E37: =VLOOKUP(A37,'[16]Бытовые Denko'!$A:$K,COLUMN('[16]Бытовые Denko'!$H$8),0) -> 0 | F37: =VLOOKUP(B37,[17]Лист1!$A:$H,COLUMN([17]Лист1!$C$175),0) -> 4
A38: QW-24I | B38: Кондиционер Denko QW-24I | C38: =A38 -> QW-24I | D38: =C38 -> QW-24I | E38: =VLOOKUP(A38,'[16]Бытовые Denko'!$A:$K,COLUMN('[16]Бытовые Denko'!$H$8),0) -> 0 | F38: =VLOOKUP(B38,[17]Лист1!$A:$H,COLUMN([17]Лист1!$C$175),0) -> 17
A39: МОДЕЛИ БЕЗ ИНВЕРТОРА
A40: Серия "WHITE LOTUS" 2026 NEW Завод Chigo
A41: DECH-07 | C41: =A41 -> DECH-07 | D41: =C41 -> DECH-07 | E41: =VLOOKUP(A41,'[16]Бытовые Denko'!$A:$K,COLUMN('[16]Бытовые Denko'!$H$8),0) -> 18990 | F41: =VLOOKUP(B41,[17]Лист1!$A:$H,COLUMN([17]Лист1!$C$175),0) -> #N/A
A42: DECH-09 | C42: =A42 -> DECH-09 | D42: =C42 -> DECH-09 | E42: =VLOOKUP(A42,'[16]Бытовые Denko'!$A:$K,COLUMN('[16]Бытовые Denko'!$H$8),0) -> 20990 | F42: =VLOOKUP(B42,[17]Лист1!$A:$H,COLUMN([17]Лист1!$C$175),0) -> #N/A
A43: DECH-12 | C43: =A43 -> DECH-12 | D43: =C43 -> DECH-12 | E43: =VLOOKUP(A43,'[16]Бытовые Denko'!$A:$K,COLUMN('[16]Бытовые Denko'!$H$8),0) -> 28990 | F43: =VLOOKUP(B43,[17]Лист1!$A:$H,COLUMN([17]Лист1!$C$175),0) -> #N/A
A44: DECH-18 | C44: =A44 -> DECH-18 | D44: =C44 -> DECH-18 | E44: =VLOOKUP(A44,'[16]Бытовые Denko'!$A:$K,COLUMN('[16]Бытовые Denko'!$H$8),0) -> 44990 | F44: =VLOOKUP(B44,[17]Лист1!$A:$H,COLUMN([17]Лист1!$C$175),0) -> #N/A
A45: DECH-24 | C45: =A45 -> DECH-24 | D45: =C45 -> DECH-24 | E45: =VLOOKUP(A45,'[16]Бытовые Denko'!$A:$K,COLUMN('[16]Бытовые Denko'!$H$8),0) -> 58990 | F45: =VLOOKUP(B45,[17]Лист1!$A:$H,COLUMN([17]Лист1!$C$175),0) -> #N/A
A46: DECH-36 | C46: =A46 -> DECH-36 | D46: =C46 -> DECH-36 | E46: =VLOOKUP(A46,'[16]Бытовые Denko'!$A:$K,COLUMN('[16]Бытовые Denko'!$H$8),0) -> 75990 | F46: =VLOOKUP(B46,[17]Лист1!$A:$H,COLUMN([17]Лист1!$C$175),0) -> #N/A
A47: Серия "PHOENIX SPIRIT" 2026 NEW Завод Midea
A48: DEMD-07 | C48: =A48 -> DEMD-07 | D48: =C48 -> DEMD-07 | E48: =VLOOKUP(A48,'[16]Бытовые Denko'!$A:$K,COLUMN('[16]Бытовые Denko'!$H$8),0) -> 21490 | F48: =VLOOKUP(B48,[17]Лист1!$A:$H,COLUMN([17]Лист1!$C$175),0) -> #N/A
A49: DEMD-09 | C49: =A49 -> DEMD-09 | D49: =C49 -> DEMD-09 | E49: =VLOOKUP(A49,'[16]Бытовые Denko'!$A:$K,COLUMN('[16]Бытовые Denko'!$H$8),0) -> 23490 | F49: =VLOOKUP(B49,[17]Лист1!$A:$H,COLUMN([17]Лист1!$C$175),0) -> #N/A
A50: DEMD-12 | C50: =A50 -> DEMD-12 | D50: =C50 -> DEMD-12 | E50: =VLOOKUP(A50,'[16]Бытовые Denko'!$A:$K,COLUMN('[16]Бытовые Denko'!$H$8),0) -> 31490 | F50: =VLOOKUP(B50,[17]Лист1!$A:$H,COLUMN([17]Лист1!$C$175),0) -> #N/A
A51: DEMD-18 | C51: =A51 -> DEMD-18 | D51: =C51 -> DEMD-18 | E51: =VLOOKUP(A51,'[16]Бытовые Denko'!$A:$K,COLUMN('[16]Бытовые Denko'!$H$8),0) -> 49490 | F51: =VLOOKUP(B51,[17]Лист1!$A:$H,COLUMN([17]Лист1!$C$175),0) -> #N/A
A52: DEMD-24 | C52: =A52 -> DEMD-24 | D52: =C52 -> DEMD-24 | E52: =VLOOKUP(A52,'[16]Бытовые Denko'!$A:$K,COLUMN('[16]Бытовые Denko'!$H$8),0) -> 60490 | F52: =VLOOKUP(B52,[17]Лист1!$A:$H,COLUMN([17]Лист1!$C$175),0) -> #N/A
A53: Серия "LEGEND" 2025 завод TCL
A54: DU-07 | B54: Кондиционер Denko DU-07 TCL | C54: =A54 -> DU-07 | D54: =C54 -> DU-07 | E54: =VLOOKUP(A54,'[16]Бытовые Denko'!$A:$K,COLUMN('[16]Бытовые Denko'!$H$8),0) -> 18990 | F54: =VLOOKUP(B54,[17]Лист1!$A:$H,COLUMN([17]Лист1!$C$175),0) -> 124
A55: DU-09 | B55: Кондиционер Denko DU-09 TCL | C55: =A55 -> DU-09 | D55: =C55 -> DU-09 | E55: =VLOOKUP(A55,'[16]Бытовые Denko'!$A:$K,COLUMN('[16]Бытовые Denko'!$H$8),0) -> 20990 | F55: =VLOOKUP(B55,[17]Лист1!$A:$H,COLUMN([17]Лист1!$C$175),0) -> 0
A56: DU-12 | B56: Кондиционер Denko DU-12 TCL | C56: =A56 -> DU-12 | D56: =C56 -> DU-12 | E56: =VLOOKUP(A56,'[16]Бытовые Denko'!$A:$K,COLUMN('[16]Бытовые Denko'!$H$8),0) -> 28990 | F56: =VLOOKUP(B56,[17]Лист1!$A:$H,COLUMN([17]Лист1!$C$175),0) -> 658
A57: DU-18 | B57: Кондиционер Denko DU-18 TCL | C57: =A57 -> DU-18 | D57: =C57 -> DU-18 | E57: =VLOOKUP(A57,'[16]Бытовые Denko'!$A:$K,COLUMN('[16]Бытовые Denko'!$H$8),0) -> 46990 | F57: =VLOOKUP(B57,[17]Лист1!$A:$H,COLUMN([17]Лист1!$C$175),0) -> 0
A58: DU-24 | B58: Кондиционер Denko DU-24 TCL | C58: =A58 -> DU-24 | D58: =C58 -> DU-24 | E58: =VLOOKUP(A58,'[16]Бытовые Denko'!$A:$K,COLUMN('[16]Бытовые Denko'!$H$8),0) -> 57990 | F58: =VLOOKUP(B58,[17]Лист1!$A:$H,COLUMN([17]Лист1!$C$175),0) -> 7
A59: Серия "DRAGON" 2025 Завод Changhong
A60: DE-12B | B60: Кондиционер Denko DE-12B | C60: =A60 -> DE-12B | D60: =C60 -> DE-12B | E60: =VLOOKUP(A60,'[16]Бытовые Denko'!$A:$K,COLUMN('[16]Бытовые Denko'!$H$8),0) -> 0 | F60: =VLOOKUP(B60,[17]Лист1!$A:$H,COLUMN([17]Лист1!$C$175),0) -> 19
A61: DE-18B | B61: Кондиционер Denko DE-18B | C61: =A61 -> DE-18B | D61: =C61 -> DE-18B | E61: =VLOOKUP(A61,'[16]Бытовые Denko'!$A:$K,COLUMN('[16]Бытовые Denko'!$H$8),0) -> 0 | F61: =VLOOKUP(B61,[17]Лист1!$A:$H,COLUMN([17]Лист1!$C$175),0) -> 5

Sheet Ecoclima
A1: HC код комплекта | B1: HC код поблочно | C1: Модель поблочно | D1: Модель | E1: РИЦ | F1: Остаток
A2: ИНВЕРТОРНЫЕ МОДЕЛИ
A3: Elegant line Inverter
A4: X-00013148 | C4: ECW/I-HE07/AA-4R2 | D4: ECW/I-HE07/AA-4R2 | E4: 27900 | F4: =VLOOKUP(A4,'[2]Все товары'!$A:$E,COLUMN('[2]Все товары'!$E$2),0) -> 201
A5: X-00013149 | C5: ECW/I-HE09/AA-4R2 | D5: ECW/I-HE09/AA-4R2 | E5: 30500 | F5: =VLOOKUP(A5,'[2]Все товары'!$A:$E,COLUMN('[2]Все товары'!$E$2),0) -> 2
A6: X-00013150 | C6: ECW/I-HE12/AA-4R2 | D6: ECW/I-HE12/AA-4R2 | E6: 44200 | F6: =VLOOKUP(A6,'[2]Все товары'!$A:$E,COLUMN('[2]Все товары'!$E$2),0) -> 0
A7: Frost line Inverter
A8: X-00013136 | C8: ECW/I-AX07/FB-4R1 | D8: ECW/I-AX07/FB-4R1 | E8: 24200 | F8: =VLOOKUP(A8,'[2]Все товары'!$A:$E,COLUMN('[2]Все товары'!$E$2),0) -> 209
A9: X-00013137 | C9: ECW/I-AX09/FB-4R1 | D9: ECW/I-AX09/FB-4R1 | E9: 26600 | F9: =VLOOKUP(A9,'[2]Все товары'!$A:$E,COLUMN('[2]Все товары'!$E$2),0) -> 23
A10: X-00013138 | C10: ECW/I-AX12/FB-4R1 | D10: ECW/I-AX12/FB-4R1 | E10: 29400 | F10: =VLOOKUP(A10,'[2]Все товары'!$A:$E,COLUMN('[2]Все товары'!$E$2),0) -> 160
A11: X-00013139 | C11: ECW/I-AX18/FB-4R1 | D11: ECW/I-AX18/FB-4R1 | E11: 65700 | F11: =VLOOKUP(A11,'[2]Все товары'!$A:$E,COLUMN('[2]Все товары'!$E$2),0) -> 0
A12: X-00013140 | C12: ECW/I-AX24/FB-4R1 | D12: ECW/I-AX24/FB-4R1 | E12: 61600 | F12: =VLOOKUP(A12,'[2]Все товары'!$A:$E,COLUMN('[2]Все товары'!$E$2),0) -> 32
A13: Grand line Inverter
A14: X-00013174 | C14: ECW/I-TC09/AA-4R2 | D14: ECW/I-TC09/AA-4R2 | E14: 41900 | F14: =VLOOKUP(A14,'[2]Все товары'!$A:$E,COLUMN('[2]Все товары'!$E$2),0) -> 150
A15: X-00013175 | C15: ECW/I-TC12/AA-4R2 | D15: ECW/I-TC12/AA-4R2 | E15: 45900 | F15: =VLOOKUP(A15,'[2]Все товары'!$A:$E,COLUMN('[2]Все товары'!$E$2),0) -> 250+
A16: X-00013176 | C16: ECW/I-TC18/AA-4R2 | D16: ECW/I-TC18/AA-4R2 | E16: 74900 | F16: =VLOOKUP(A16,'[2]Все товары'!$A:$E,COLUMN('[2]Все товары'!$E$2),0) -> 20
A17: X-00013177 | C17: ECW/I-TC24/AA-4R2 | D17: ECW/I-TC24/AA-4R2 | E17: 89000 | F17: =VLOOKUP(A17,'[2]Все товары'!$A:$E,COLUMN('[2]Все товары'!$E$2),0) -> 84
A18: Green line Inverter
A19: X-00012303 | C19: ECW/I-07GC | D19: ECW/I-07GC | E19: 24200 | F19: =VLOOKUP(A19,'[2]Все товары'!$A:$E,COLUMN('[2]Все товары'!$E$2),0) -> 3
A20: X-00012305 | C20: ECW/I-09GC | D20: ECW/I-09GC | E20: 26600 | F20: =VLOOKUP(A20,'[2]Все товары'!$A:$E,COLUMN('[2]Все товары'!$E$2),0) -> 0
A21: Nova line Inverter
A22: X-00014065 | C22: ECW/I-CH07/AA-4R1 (White) | D22: ECW/I-CH07/AA-4R1 (White) | E22: 29900 | F22: =VLOOKUP(A22,'[2]Все товары'!$A:$E,COLUMN('[2]Все товары'!$E$2),0) -> 220
A23: X-00014067 | C23: ECW/I-CH09/AA-4R1 (White) | D23: ECW/I-CH09/AA-4R1 (White) | E23: 31900 | F23: =VLOOKUP(A23,'[2]Все товары'!$A:$E,COLUMN('[2]Все товары'!$E$2),0) -> 250+
A24: X-00014069 | C24: ECW/I-CH12/AA-4R1 (White) | D24: ECW/I-CH12/AA-4R1 (White) | E24: 37900 | F24: =VLOOKUP(A24,'[2]Все товары'!$A:$E,COLUMN('[2]Все товары'!$E$2),0) -> 232
A25: X-00014071 | C25: ECW/I-CH18/AA-4R1 (White) | D25: ECW/I-CH18/AA-4R1 (White) | E25: 58900 | F25: =VLOOKUP(A25,'[2]Все товары'!$A:$E,COLUMN('[2]Все товары'!$E$2),0) -> 24
A26: X-00014073 | C26: ECW/I-CH09/AAS-4R1 (Silver) | D26: ECW/I-CH09/AAS-4R1 (Silver) | E26: 35900 | F26: =VLOOKUP(A26,'[2]Все товары'!$A:$E,COLUMN('[2]Все товары'!$E$2),0) -> 250+
A27: X-00014075 | C27: ECW/I-CH12/AAS-4R1 (Silver) | D27: ECW/I-CH12/AAS-4R1 (Silver) | E27: 39900 | F27: =VLOOKUP(A27,'[2]Все товары'!$A:$E,COLUMN('[2]Все товары'!$E$2),0) -> 190
A28: Prestige line On-Off
A29: X-00013903 | C29: ECW-HE07/BB-4R2 | D29: ECW-HE07/BB-4R2 | E29: 23900 | F29: =VLOOKUP(A29,'[2]Все товары'!$A:$E,COLUMN('[2]Все товары'!$E$2),0) -> 250+
A30: X-00013905 | C30: ECW-HE09/BB-4R2 | D30: ECW-HE09/BB-4R2 | E30: 25900 | F30: =VLOOKUP(A30,'[2]Все товары'!$A:$E,COLUMN('[2]Все товары'!$E$2),0) -> 250+
A31: X-00013906 | C31: ECW-HE12/BB-4R2 | D31: ECW-HE12/BB-4R2 | E31: 33500 | F31: =VLOOKUP(A31,'[2]Все товары'!$A:$E,COLUMN('[2]Все товары'!$E$2),0) -> 250+
A32: X-00013907 | C32: ECW-HE18/BB-4R2 | D32: ECW-HE18/BB-4R2 | E32: 55900 | F32: =VLOOKUP(A32,'[2]Все товары'!$A:$E,COLUMN('[2]Все товары'!$E$2),0) -> 250+
A33: X-00013908 | C33: ECW-HE24/BB-4R2 | D33: ECW-HE24/BB-4R2 | E33: 71500 | F33: =VLOOKUP(A33,'[2]Все товары'!$A:$E,COLUMN('[2]Все товары'!$E$2),0) -> 250+
A34: Prestige line Inverter
A35: X-00013909 | C35: ECW/I-HE07/BB-4R2 | D35: ECW/I-HE07/BB-4R2 | E35: 34100 | F35: =VLOOKUP(A35,'[2]Все товары'!$A:$E,COLUMN('[2]Все товары'!$E$2),0) -> 230
A36: X-00013910 | C36: ECW/I-HE09/BB-4R2 | D36: ECW/I-HE09/BB-4R2 | E36: 37100 | F36: =VLOOKUP(A36,'[2]Все товары'!$A:$E,COLUMN('[2]Все товары'!$E$2),0) -> 250+
A37: X-00013911 | C37: ECW/I-HE12/BB-4R2 | D37: ECW/I-HE12/BB-4R2 | E37: 42900 | F37: =VLOOKUP(A37,'[2]Все товары'!$A:$E,COLUMN('[2]Все товары'!$E$2),0) -> 250+
A38: X-00013912 | C38: ECW/I-HE18/BB-4R2 | D38: ECW/I-HE18/BB-4R2 | E38: 69500 | F38: =VLOOKUP(A38,'[2]Все товары'!$A:$E,COLUMN('[2]Все товары'!$E$2),0) -> 115
A39: МОДЕЛИ БЕЗ ИНВЕРТОРА
A40: Elegant line On-Off
A41: X-00013158 | C41: ECW-HE07/AA-4R2 | D41: ECW-HE07/AA-4R2 | E41: 27500 | F41: =VLOOKUP(A41,'[2]Все товары'!$A:$E,COLUMN('[2]Все товары'!$E$2),0) -> 0
A42: X-00013160 | C42: ECW-HE12/AA-4R2 | D42: ECW-HE12/AA-4R2 | E42: 28200 | F42: =VLOOKUP(A42,'[2]Все товары'!$A:$E,COLUMN('[2]Все товары'!$E$2),0) -> 190
A43: X-00013161 | C43: ECW-HE18/AA-4R2 | D43: ECW-HE18/AA-4R2 | E43: 45600 | F43: =VLOOKUP(A43,'[2]Все товары'!$A:$E,COLUMN('[2]Все товары'!$E$2),0) -> 98
A44: X-00013162 | C44: ECW-HE24/AA-4R2 | D44: ECW-HE24/AA-4R2 | E44: 56500 | F44: =VLOOKUP(A44,'[2]Все товары'!$A:$E,COLUMN('[2]Все товары'!$E$2),0) -> 22
A45: Frost line On-Off
A46: X-00013123 | C46: ECW-AX12/FB-4R1 | D46: ECW-AX12/FB-4R1 | E46: 24500 | F46: =VLOOKUP(A46,'[2]Все товары'!$A:$E,COLUMN('[2]Все товары'!$E$2),0) -> 60
A47: X-00013124 | C47: ECW-AX18/FB-4R1 | D47: ECW-AX18/FB-4R1 | E47: 42500 | F47: =VLOOKUP(A47,'[2]Все товары'!$A:$E,COLUMN('[2]Все товары'!$E$2),0) -> 1
A48: X-00013125 | C48: ECW-AX24/FB-4R1 | D48: ECW-AX24/FB-4R1 | E48: 72300 | F48: =VLOOKUP(A48,'[2]Все товары'!$A:$E,COLUMN('[2]Все товары'!$E$2),0) -> 2
A49: Grand line On-Off
A50: X-00013183 | C50: ECW-TC07/AA-4R1 | D50: ECW-TC07/AA-4R1 | E50: 24900 | F50: =VLOOKUP(A50,'[2]Все товары'!$A:$E,COLUMN('[2]Все товары'!$E$2),0) -> 2
A51: X-00013184 | C51: ECW-TC09/AA-4R1 | D51: ECW-TC09/AA-4R1 | E51: 26900 | F51: =VLOOKUP(A51,'[2]Все товары'!$A:$E,COLUMN('[2]Все товары'!$E$2),0) -> 8
A52: X-00013185 | C52: ECW-TC12/AA-4R1 | D52: ECW-TC12/AA-4R1 | E52: 33500 | F52: =VLOOKUP(A52,'[2]Все товары'!$A:$E,COLUMN('[2]Все товары'!$E$2),0) -> 250+
A53: X-00013186 | C53: ECW-TC18/AA-4R1 | D53: ECW-TC18/AA-4R1 | E53: 56000 | F53: =VLOOKUP(A53,'[2]Все товары'!$A:$E,COLUMN('[2]Все товары'!$E$2),0) -> 54
A54: X-00013187 | C54: ECW-TC24/AA-4R1 | D54: ECW-TC24/AA-4R1 | E54: 73900 | F54: =VLOOKUP(A54,'[2]Все товары'!$A:$E,COLUMN('[2]Все товары'!$E$2),0) -> 74
A55: Nova line On-Off
A56: X-00014054 | C56: ECW-CH07/AA-4R1 | D56: ECW-CH07/AA-4R1 | E56: 21900 | F56: =VLOOKUP(A56,'[2]Все товары'!$A:$E,COLUMN('[2]Все товары'!$E$2),0) -> 6
A57: X-00014056 | C57: ECW-CH09/AA-4R1 | D57: ECW-CH09/AA-4R1 | E57: 23900 | F57: =VLOOKUP(A57,'[2]Все товары'!$A:$E,COLUMN('[2]Все товары'!$E$2),0) -> 250+
A58: X-00014058 | C58: ECW-CH12/AA-4R1 | D58: ECW-CH12/AA-4R1 | E58: 31900 | F58: =VLOOKUP(A58,'[2]Все товары'!$A:$E,COLUMN('[2]Все товары'!$E$2),0) -> 250+
A59: X-00014060 | C59: ECW-CH18/AA-4R1 | D59: ECW-CH18/AA-4R1 | E59: 52900 | F59: =VLOOKUP(A59,'[2]Все товары'!$A:$E,COLUMN('[2]Все товары'!$E$2),0) -> 217
A60: X-00014062 | C60: ECW-CH24/AA-4R1 | D60: ECW-CH24/AA-4R1 | E60: 66900 | F60: =VLOOKUP(A60,'[2]Все товары'!$A:$E,COLUMN('[2]Все товары'!$E$2),0) -> 50

Sheet Ecostar
A1: HC код комплекта | B1: HCкодпоблочно | C1: Модель поблочно | D1: Модель | E1: РИЦ | F1: Внутр/наруж
A2: ИНВЕРТОРНЫЕ МОДЕЛИ
A3: RADIUM INVERTER Wi-Fi ready NEW
B4: НС-1760316 | C4: KVS-IRAM07CH/IN | D4: KVS-IRAM07CH | E4: 23490 | F4: =VLOOKUP(B4,[18]Лист_1!$A$1:$J$65536,COLUMN([18]Лист_1!$H$9),0) -> 46
A5: НС-1761092 | B5: НС-1760320 | C5: KVS-IRAM07CH/OUT | F5: =VLOOKUP(B5,[18]Лист_1!$A$1:$J$65536,COLUMN([18]Лист_1!$H$9),0) -> 46
B6: НС-1760318 | C6: KVS-IRAM09CH/IN | D6: KVS-IRAM09CH | E6: 25290 | F6: =VLOOKUP(B6,[18]Лист_1!$A$1:$J$65536,COLUMN([18]Лист_1!$H$9),0) -> больше 50
A7: НС-1761093 | B7: НС-1760321 | C7: KVS-IRAM09CH/OUT | F7: =VLOOKUP(B7,[18]Лист_1!$A$1:$J$65536,COLUMN([18]Лист_1!$H$9),0) -> больше 50
B8: НС-1760319 | C8: KVS-IRAM12CH/IN | D8: KVS-IRAM12CH | E8: 29790 | F8: =VLOOKUP(B8,[18]Лист_1!$A$1:$J$65536,COLUMN([18]Лист_1!$H$9),0) -> 35
A9: НС-1761094 | B9: НС-1760322 | C9: KVS-IRAM12CH/OUT | F9: =VLOOKUP(B9,[18]Лист_1!$A$1:$J$65536,COLUMN([18]Лист_1!$H$9),0) -> 35
A10: RADIUM INVERTER 2025 Wi-Fi ready
B11: НС-1595931 | C11: KVS-IRAD07CH/IN | D11: KVS-IRAD07CH | E11: 23190 | F11: =VLOOKUP(B11,[18]Лист_1!$A$1:$J$65536,COLUMN([18]Лист_1!$H$9),0) -> больше 50
A12: НС-1596356 | B12: НС-1595932 | C12: KVS-IRAD07CH/OUT | F12: =VLOOKUP(B12,[18]Лист_1!$A$1:$J$65536,COLUMN([18]Лист_1!$H$9),0) -> больше 50
B13: НС-1595935 | C13: KVS-IRAD09CH/IN | D13: KVS-IRAD09CH | E13: 24990 | F13: =VLOOKUP(B13,[18]Лист_1!$A$1:$J$65536,COLUMN([18]Лист_1!$H$9),0) -> больше 50
A14: НС-1596357 | B14: НС-1595936 | C14: KVS-IRAD09CH/OUT | F14: =VLOOKUP(B14,[18]Лист_1!$A$1:$J$65536,COLUMN([18]Лист_1!$H$9),0) -> больше 50
B15: НС-1595938 | C15: KVS-IRAD12CH/IN | D15: KVS-IRAD12CH | E15: 29490 | F15: =VLOOKUP(B15,[18]Лист_1!$A$1:$J$65536,COLUMN([18]Лист_1!$H$9),0) -> больше 50
A16: НС-1596359 | B16: НС-1595939 | C16: KVS-IRAD12CH/OUT | F16: =VLOOKUP(B16,[18]Лист_1!$A$1:$J$65536,COLUMN([18]Лист_1!$H$9),0) -> больше 50
A17: WI-FI модуль
A18: НС-1626492 | B18: НС-1626492 | C18: LA-WF-TL10 | D18: LA-WF-TL10 | E18: 2480 | F18: =VLOOKUP(B18,[18]Лист_1!$A$1:$J$65536,COLUMN([18]Лист_1!$H$9),0) -> #N/A
A19: МОДЕЛИ БЕЗ ИНВЕРТОРА
A20: RADIUM Wi-Fi ready NEW
A21: НС-1761086 | B21: НС-1760167 | C21: KVS-RAM07CH/IN | D21: KVS-RAM07CH | E21: 17490 | F21: =VLOOKUP(B21,[18]Лист_1!$A$1:$J$65536,COLUMN([18]Лист_1!$H$9),0) -> #N/A
B22: НС-1760181 | C22: KVS-RAM07CH/OUT | F22: =VLOOKUP(B22,[18]Лист_1!$A$1:$J$65536,COLUMN([18]Лист_1!$H$9),0) -> #N/A
A23: НС-1761088 | B23: НС-1760170 | C23: KVS-RAM09CH/IN | D23: KVS-RAM09CH | E23: 18890 | F23: =VLOOKUP(B23,[18]Лист_1!$A$1:$J$65536,COLUMN([18]Лист_1!$H$9),0) -> больше 50
B24: НС-1760183 | C24: KVS-RAM09CH/OUT | F24: =VLOOKUP(B24,[18]Лист_1!$A$1:$J$65536,COLUMN([18]Лист_1!$H$9),0) -> больше 50
A25: НС-1761089 | B25: НС-1760172 | C25: KVS-RAM12CH/IN | D25: KVS-RAM12CH | E25: 26190 | F25: =VLOOKUP(B25,[18]Лист_1!$A$1:$J$65536,COLUMN([18]Лист_1!$H$9),0) -> больше 50
B26: НС-1760184 | C26: KVS-RAM12CH/OUT | F26: =VLOOKUP(B26,[18]Лист_1!$A$1:$J$65536,COLUMN([18]Лист_1!$H$9),0) -> больше 50
A27: НС-1761090 | B27: НС-1760174 | C27: KVS-RAM18CH/IN | D27: KVS-RAM18CH | E27: 43390 | F27: =VLOOKUP(B27,[18]Лист_1!$A$1:$J$65536,COLUMN([18]Лист_1!$H$9),0) -> #N/A
B28: НС-1760186 | C28: KVS-RAM18CH/OUT | F28: =VLOOKUP(B28,[18]Лист_1!$A$1:$J$65536,COLUMN([18]Лист_1!$H$9),0) -> #N/A
A29: НС-1761091 | B29: НС-1760175 | C29: KVS-RAM24CH/IN | D29: KVS-RAM24CH | E29: 55790 | F29: =VLOOKUP(B29,[18]Лист_1!$A$1:$J$65536,COLUMN([18]Лист_1!$H$9),0) -> #N/A
B30: НС-1760187 | C30: KVS-RAM24CH/OUT | F30: =VLOOKUP(B30,[18]Лист_1!$A$1:$J$65536,COLUMN([18]Лист_1!$H$9),0) -> #N/A
A31: RADIUM 2025 Wi-Fi ready
A32: НС-1597379 | B32: НС-1595981 | C32: KVS-RAD07CH/IN | D32: KVS-RAD07CH | E32: 17190 | F32: =VLOOKUP(B32,[18]Лист_1!$A$1:$J$65536,COLUMN([18]Лист_1!$H$9),0) -> больше 50
B33: НС-1595982 | C33: KVS-RAD07CH/OUT | F33: =VLOOKUP(B33,[18]Лист_1!$A$1:$J$65536,COLUMN([18]Лист_1!$H$9),0) -> больше 50
A34: НС-1597380 | B34: НС-1595984 | C34: KVS-RAD09CH/IN | D34: KVS-RAD09CH | E34: 18590 | F34: =VLOOKUP(B34,[18]Лист_1!$A$1:$J$65536,COLUMN([18]Лист_1!$H$9),0) -> больше 50
B35: НС-1595985 | C35: KVS-RAD09CH/OUT | F35: =VLOOKUP(B35,[18]Лист_1!$A$1:$J$65536,COLUMN([18]Лист_1!$H$9),0) -> больше 50
A36: НС-1597381 | B36: НС-1595986 | C36: KVS-RAD12CH/IN | D36: KVS-RAD12CH | E36: 25890 | F36: =VLOOKUP(B36,[18]Лист_1!$A$1:$J$65536,COLUMN([18]Лист_1!$H$9),0) -> больше 50
B37: НС-1595987 | C37: KVS-RAD12CH/OUT | F37: =VLOOKUP(B37,[18]Лист_1!$A$1:$J$65536,COLUMN([18]Лист_1!$H$9),0) -> больше 50
A38: НС-1597383 | B38: НС-1595988 | C38: KVS-RAD18CH/IN | D38: KVS-RAD18CH | E38: 42890 | F38: =VLOOKUP(B38,[18]Лист_1!$A$1:$J$65536,COLUMN([18]Лист_1!$H$9),0) -> 48
B39: НС-1595989 | C39: KVS-RAD18CH/OUT | F39: =VLOOKUP(B39,[18]Лист_1!$A$1:$J$65536,COLUMN([18]Лист_1!$H$9),0) -> 45
A40: НС-1597385 | B40: НС-1595990 | C40: KVS-RAD24CH/IN | D40: KVS-RAD24CH | E40: 55290 | F40: =VLOOKUP(B40,[18]Лист_1!$A$1:$J$65536,COLUMN([18]Лист_1!$H$9),0) -> больше 50
B41: НС-1595991 | C41: KVS-RAD24CH/OUT | F41: =VLOOKUP(B41,[18]Лист_1!$A$1:$J$65536,COLUMN([18]Лист_1!$H$9),0) -> больше 50
A42: WI-FI модуль
A43: НС-1626492 | B43: НС-1626492 | C43: LA-WF-TL10 | D43: LA-WF-TL10 WI-FI модуль | E43: 2480 | F43: =VLOOKUP(B43,[18]Лист_1!$A$1:$J$65536,COLUMN([18]Лист_1!$H$9),0) -> #N/A

Sheet Electrolux
A1: HC код комплекта | B1: HC код поблочно | C1: Модель поблочно | D1: Модель | E1: РИЦ | F1: Остаток
A2: ИНВЕРТОРНЫЕ МОДЕЛИ
A3: Тепловые насосы VIKING 2.0
A4: НС-1294411 | C4: EACS/I-09HVI/N8_21Y | D4: EACS/I-09HVI/N8_21Y | E4: 130990 | F4: =VLOOKUP(A4,[8]Sheet1!$A:$J,COLUMN([8]Sheet1!$J$2),0) -> 1
A5: НС-1294412 | C5: EACS/I-12HVI/N8_21Y | D5: EACS/I-12HVI/N8_21Y | E5: 135990 | F5: =VLOOKUP(A5,[8]Sheet1!$A:$J,COLUMN([8]Sheet1!$J$2),0) -> 2
A6: НС-1294413 | C6: EACS/I-18HVI/N8_21Y | D6: EACS/I-18HVI/N8_21Y | E6: 165990 | F6: =VLOOKUP(A6,[8]Sheet1!$A:$J,COLUMN([8]Sheet1!$J$2),0) -> 200
A7: НС-1294414 | C7: EACS/I-24HVI/N8_21Y | D7: EACS/I-24HVI/N8_21Y | E7: 190990 | F7: =VLOOKUP(A7,[8]Sheet1!$A:$J,COLUMN([8]Sheet1!$J$2),0) -> 107
A8: Флагман ENTERPRISE BLACK/WHITE Super DC Inverter
A9: НС-1599050 | C9: EACS/I-09HEN-BLACK/N8_24Y | D9: EACS/I-09HEN-BLACK/N8_24Y | E9: 80990 | F9: =VLOOKUP(A9,[8]Sheet1!$A:$J,COLUMN([8]Sheet1!$J$2),0) -> 236
A10: НС-1599052 | C10: EACS/I-12HEN-BLACK/N8_24Y | D10: EACS/I-12HEN-BLACK/N8_24Y | E10: 89990 | F10: =VLOOKUP(A10,[8]Sheet1!$A:$J,COLUMN([8]Sheet1!$J$2),0) -> 104
A11: НС-1599054 | C11: EACS/I-18HEN-BLACK/N8_24Y | D11: EACS/I-18HEN-BLACK/N8_24Y | E11: 112990 | F11: =VLOOKUP(A11,[8]Sheet1!$A:$J,COLUMN([8]Sheet1!$J$2),0) -> 0
A12: НС-1599056 | C12: EACS/I-24HEN-BLACK/N8_24Y | D12: EACS/I-24HEN-BLACK/N8_24Y | E12: 139990 | F12: =VLOOKUP(A12,[8]Sheet1!$A:$J,COLUMN([8]Sheet1!$J$2),0) -> 0
A13: НС-1599051 | C13: EACS/I-09HEN-WHITE/N8_24Y | D13: EACS/I-09HEN-WHITE/N8_24Y | E13: 78990 | F13: =VLOOKUP(A13,[8]Sheet1!$A:$J,COLUMN([8]Sheet1!$J$2),0) -> 2
A14: НС-1599053 | C14: EACS/I-12HEN-WHITE/N8_24Y | D14: EACS/I-12HEN-WHITE/N8_24Y | E14: 87990 | F14: =VLOOKUP(A14,[8]Sheet1!$A:$J,COLUMN([8]Sheet1!$J$2),0) -> 0
A15: НС-1599055 | C15: EACS/I-18HEN-WHITE/N8_24Y | D15: EACS/I-18HEN-WHITE/N8_24Y | E15: 110990 | F15: =VLOOKUP(A15,[8]Sheet1!$A:$J,COLUMN([8]Sheet1!$J$2),0) -> 0
A16: НС-1599057 | C16: EACS/I-24HEN-WHITE/N8_24Y | D16: EACS/I-24HEN-WHITE/N8_24Y | E16: 137990 | F16: =VLOOKUP(A16,[8]Sheet1!$A:$J,COLUMN([8]Sheet1!$J$2),0) -> 2
A17: НС-1634916 | C17: FA-30 Black (Модуль Приточно-Вытяжной) | E17: 16990 | F17: =VLOOKUP(A17,[8]Sheet1!$A:$J,COLUMN([8]Sheet1!$J$2),0) -> 262
A18: Onix Black Super DC Inverter. Элегантный дизайн: черный глянцевый
A19: НС-1598861 | C19: EACS/I-09HIX-BLACK/N8 | D19: EACS/I-09HIX-BLACK/N8 | E19: 62990 | F19: =VLOOKUP(A19,[8]Sheet1!$A:$J,COLUMN([8]Sheet1!$J$2),0) -> #N/A
A20: НС-1598862 | C20: EACS/I-12HIX-BLACK/N8 | D20: EACS/I-12HIX-BLACK/N8 | E20: 68990 | F20: =VLOOKUP(A20,[8]Sheet1!$A:$J,COLUMN([8]Sheet1!$J$2),0) -> #N/A
A21: НС-1598863 | C21: EACS/I-18HIX-BLACK/N8 | D21: EACS/I-18HIX-BLACK/N8 | E21: 105990 | F21: =VLOOKUP(A21,[8]Sheet1!$A:$J,COLUMN([8]Sheet1!$J$2),0) -> #N/A
A22: НС-1598864 | C22: EACS/I-24HIX-BLACK/N8 | D22: EACS/I-24HIX-BLACK/N8 | E22: 128990 | F22: =VLOOKUP(A22,[8]Sheet1!$A:$J,COLUMN([8]Sheet1!$J$2),0) -> #N/A
A23: AVALANCHE Super DC Inverter
A24: НС-1408772 | C24: EACS/I-09HAV/N8_22Y | D24: EACS/I-09HAV/N8_22Y | E24: 62990 | F24: =VLOOKUP(A24,[8]Sheet1!$A:$J,COLUMN([8]Sheet1!$J$2),0) -> 126
A25: НС-1408773 | C25: EACS/I-12HAV/N8_22Y | D25: EACS/I-12HAV/N8_22Y | E25: 69990 | F25: =VLOOKUP(A25,[8]Sheet1!$A:$J,COLUMN([8]Sheet1!$J$2),0) -> 42
A26: НС-1408774 | C26: EACS/I-18HAV/N8_22Y | D26: EACS/I-18HAV/N8_22Y | E26: 105990 | F26: =VLOOKUP(A26,[8]Sheet1!$A:$J,COLUMN([8]Sheet1!$J$2),0) -> 0
A27: НС-1408775 | C27: EACS/I-24HAV/N8_22Y | D27: EACS/I-24HAV/N8_22Y | E27: 132990 | F27: =VLOOKUP(A27,[8]Sheet1!$A:$J,COLUMN([8]Sheet1!$J$2),0) -> 0
A28: Флагман CRYSTAL AIR Super DC Inverter
A29: НС-1683140 | C29: EACS/I-10HFA/N8_V2 | D29: EACS/I-10HFA/N8_V2 | E29: 70990 | F29: =VLOOKUP(A29,[8]Sheet1!$A:$J,COLUMN([8]Sheet1!$J$2),0) -> 523
A30: НС-1683142 | C30: EACS/I-13HFA/N8_V2 | D30: EACS/I-13HFA/N8_V2 | E30: 77990 | F30: =VLOOKUP(A30,[8]Sheet1!$A:$J,COLUMN([8]Sheet1!$J$2),0) -> 181
A31: FUSION WAVE Super DC Inverter
A32: НС-1688338 | C32: EACS/I-07HFW/N8 | D32: EACS/I-07HFW/N8 | E32: 49990 | F32: =VLOOKUP(A32,[8]Sheet1!$A:$J,COLUMN([8]Sheet1!$J$2),0) -> 421
A33: НС-1688339 | C33: EACS/I-09HFW/N8 | D33: EACS/I-09HFW/N8 | E33: 52990 | F33: =VLOOKUP(A33,[8]Sheet1!$A:$J,COLUMN([8]Sheet1!$J$2),0) -> 844
A34: НС-1688340 | C34: EACS/I-12HFW/N8 | D34: EACS/I-12HFW/N8 | E34: 60590 | F34: =VLOOKUP(A34,[8]Sheet1!$A:$J,COLUMN([8]Sheet1!$J$2),0) -> 366
A35: НС-1688341 | C35: EACS/I-18HFW/N8 | D35: EACS/I-18HFW/N8 | E35: 95990 | F35: =VLOOKUP(A35,[8]Sheet1!$A:$J,COLUMN([8]Sheet1!$J$2),0) -> 133
A36: НС-1688342 | C36: EACS/I-24HFW/N8 | D36: EACS/I-24HFW/N8 | E36: 118990 | F36: =VLOOKUP(A36,[8]Sheet1!$A:$J,COLUMN([8]Sheet1!$J$2),0) -> 43
A37: Smartline DC
A38: НС-1683655 | C38: EACS/I-07HSM/N8_V2 | D38: EACS/I-07HSM/N8_V2 | E38: 41990 | F38: =VLOOKUP(A38,[8]Sheet1!$A:$J,COLUMN([8]Sheet1!$J$2),0) -> #N/A
A39: НС-1683656 | C39: EACS/I-09HSM/N8_V2 | D39: EACS/I-09HSM/N8_V2 | E39: 44990 | F39: =VLOOKUP(A39,[8]Sheet1!$A:$J,COLUMN([8]Sheet1!$J$2),0) -> #N/A
A40: НС-1683661 | C40: EACS/I-12HSM/N8_V2 | D40: EACS/I-12HSM/N8_V2 | E40: 52590 | F40: =VLOOKUP(A40,[8]Sheet1!$A:$J,COLUMN([8]Sheet1!$J$2),0) -> #N/A
A41: НС-1683662 | C41: EACS/I-18HSM/N8_V2 | D41: EACS/I-18HSM/N8_V2 | E41: 87990 | F41: =VLOOKUP(A41,[8]Sheet1!$A:$J,COLUMN([8]Sheet1!$J$2),0) -> #N/A
A42: НС-1683663 | C42: EACS/I-24HSM/N8_V2 | D42: EACS/I-24HSM/N8_V2 | E42: 107990 | F42: =VLOOKUP(A42,[8]Sheet1!$A:$J,COLUMN([8]Sheet1!$J$2),0) -> #N/A
A43: НС-1763022 | C43: EACS/I-07HSM/N8_V3 | D43: EACS/I-07HSM/N8_V3 | E43: 41990 | F43: =VLOOKUP(A43,[8]Sheet1!$A:$J,COLUMN([8]Sheet1!$J$2),0) -> 33
A44: НС-1763023 | C44: EACS/I-09HSM/N8_V3 | D44: EACS/I-09HSM/N8_V3 | E44: 44990 | F44: =VLOOKUP(A44,[8]Sheet1!$A:$J,COLUMN([8]Sheet1!$J$2),0) -> 125
A45: НС-1763024 | C45: EACS/I-12HSM/N8_V3 | D45: EACS/I-12HSM/N8_V3 | E45: 52590 | F45: =VLOOKUP(A45,[8]Sheet1!$A:$J,COLUMN([8]Sheet1!$J$2),0) -> 9
A46: НС-1763025 | C46: EACS/I-18HSM/N8_V3 | D46: EACS/I-18HSM/N8_V3 | E46: 87990 | F46: =VLOOKUP(A46,[8]Sheet1!$A:$J,COLUMN([8]Sheet1!$J$2),0) -> 3
A47: НС-1763026 | C47: EACS/I-24HSM/N8_V3 | D47: EACS/I-24HSM/N8_V3 | E47: 107990 | F47: =VLOOKUP(A47,[8]Sheet1!$A:$J,COLUMN([8]Sheet1!$J$2),0) -> 9
A48: Универсальный Wi-Fi модуль HOMMYN
A49: НС-1646329 | C49: HDN/WFN-02-02 | E49: 2690 | F49: =VLOOKUP(A49,[8]Sheet1!$A:$J,COLUMN([8]Sheet1!$J$2),0) -> 15
A50: НС-1416708 | C50: HDN/WFN-02-01 | E50: 2190 | F50: =VLOOKUP(A50,[8]Sheet1!$A:$J,COLUMN([8]Sheet1!$J$2),0) -> 1213
A51: НС-1535746 | C51: HCC-GR | E51: 670 | F51: =VLOOKUP(A51,[8]Sheet1!$A:$J,COLUMN([8]Sheet1!$J$2),0) -> 135
A52: Portofino DC Inverter 2023
A53: X-00012759 | C53: EACS/I-09HP/N8_23Y | D53: EACS/I-09HP/N8_23Y | E53: 47989 | F53: =VLOOKUP(A53,'[2]Все товары'!$A:$E,COLUMN('[2]Все товары'!$E$2),0) -> 28
A54: X-00012763 | C54: EACS/I-12HP/N8_23Y | D54: EACS/I-12HP/N8_23Y | E54: 68900 | F54: =VLOOKUP(A54,'[2]Все товары'!$A:$E,COLUMN('[2]Все товары'!$E$2),0) -> 0
A55: X-00012764 | C55: EACS/I-18HP/N8_23Y | D55: EACS/I-18HP/N8_23Y | E55: 112989 | F55: =VLOOKUP(A55,'[2]Все товары'!$A:$E,COLUMN('[2]Все товары'!$E$2),0) -> 0
A56: X-00012765 | C56: EACS/I-24HP/N8_23Y | D56: EACS/I-24HP/N8_23Y | E56: 106500 | F56: =VLOOKUP(A56,'[2]Все товары'!$A:$E,COLUMN('[2]Все товары'!$E$2),0) -> 1
A57: Portofino DC Inverter 2025
A58: X-00014387 | C58: EACS/I-09HP/N8_25Y | D58: EACS/I-09HP/N8_25Y | E58: 47989 | F58: =VLOOKUP(A58,'[2]Все товары'!$A:$E,COLUMN('[2]Все товары'!$E$2),0) -> 250+
A59: X-00014389 | C59: EACS/I-12HP/N8_25Y | D59: EACS/I-12HP/N8_25Y | E59: 53489 | F59: =VLOOKUP(A59,'[2]Все товары'!$A:$E,COLUMN('[2]Все товары'!$E$2),0) -> 250+
A60: X-00014391 | C60: EACS/I-18HP/N8_25Y | D60: EACS/I-18HP/N8_25Y | E60: 84649 | F60: =VLOOKUP(A60,'[2]Все товары'!$A:$E,COLUMN('[2]Все товары'!$E$2),0) -> 47
