Workbook

Sheet меню
A1: Курс доллара США АЯК | B1: 80.5
A2: Курс евро | B2: 93
A3: Курс доллара США Аляска | B3: 86
A4: AUX | B4: Инвертор | C4: Hisense | D4: Инвертор | E4: Ultima Comfort | F4: Инвертор
B5: Он-офф | D5: Он-офф | F5: Он-офф
A6: Axioma | B6: Инвертор | C6: Hitachi | D6: Инвертор | E6: Dahatsu | F6: Инвертор
B7: Он-офф | D7: Он-офф | F7: Он-офф
A8: Ballu | B8: Инвертор | C8: Ishimatsu | D8: Инвертор | E8: Denko | F8: Инвертор
B9: Он-офф | D9: Он-офф | F9: Он-офф
A10: Bosch | B10: Инвертор | C10: Kalashnikov | D10: Инвертор | E10: Eurohoff | F10: Инвертор
B11: Он-офф | D11: Он-офф | F11: Он-офф
A12: Casarte | B12: Инвертор | C12: Kentatsu | D12: Инвертор
B13: Он-офф | D13: Он-офф
A14: Coolberg | B14: Инвертор | C14: LG | D14: Инвертор
B15: Он-офф | D15: Он-офф
A16: Daichi | B16: Инвертор | C16: MDV | D16: Инвертор
B17: Он-офф | D17: Он-офф
A18: Ecoclima | B18: Инвертор | C18: MHI | D18: Инвертор
B19: Он-офф | D19: Он-офф
A20: Ecostar | B20: Инвертор | C20: Midea | D20: Инвертор
B21: Он-офф | D21: Он-офф
A22: Electrolux | B22: Инвертор | C22: Royal Clima | D22: Инвертор
B23: Он-офф | D23: Он-офф
A24: Energolux | B24: Инвертор | C24: Royal Thermo | D24: Инвертор
B25: Он-офф | D25: Он-офф
A26: Ferrum | B26: Инвертор | C26: Shuft | D26: Инвертор
B27: Он-офф | D27: Он-офф
A28: Funai | B28: Инвертор | C28: TCL | D28: Инвертор
B29: Он-офф | D29: Он-офф
A30: Haier | B30: Инвертор | C30: Thaicon | D30: Инвертор
B31: Он-офф | D31: Он-офф

Sheet AUX
A1: HC код комплекта | B1: HC код поблочно | C1: Модель поблочно | D1: Модель | E1: РИЦ | F1: Остаток
A2: ИНВЕРТОРНЫЕ МОДЕЛИ
A3: Basic Inverter
A4: X-00014585 | C4: ASW-H07A4/CB-R2DI | D4: ASW-H07A4/CB-R2DI | E4: =VLOOKUP(A4,[1]Бытовые!$A:$N,COLUMN([1]Бытовые!$K$12),0) -> 29900 | F4: =VLOOKUP(A4,'[2]Все товары'!$A:$E,COLUMN('[2]Все товары'!$E$2),0) -> 250+
A5: X-00014587 | C5: ASW-H09A4/CB-R2DI | D5: ASW-H09A4/CB-R2DI | E5: =VLOOKUP(A5,[1]Бытовые!$A:$N,COLUMN([1]Бытовые!$K$12),0) -> 31900 | F5: =VLOOKUP(A5,'[2]Все товары'!$A:$E,COLUMN('[2]Все товары'!$E$2),0) -> 250+
A6: X-00014588 | C6: ASW-H12A4/CB-R2DI | D6: ASW-H12A4/CB-R2DI | E6: =VLOOKUP(A6,[1]Бытовые!$A:$N,COLUMN([1]Бытовые!$K$12),0) -> 37900 | F6: =VLOOKUP(A6,'[2]Все товары'!$A:$E,COLUMN('[2]Все товары'!$E$2),0) -> 118
A7: X-00014589 | C7: ASW-H18A4/CB-R2DI | D7: ASW-H18A4/CB-R2DI | E7: =VLOOKUP(A7,[1]Бытовые!$A:$N,COLUMN([1]Бытовые!$K$12),0) -> 58900 | F7: =VLOOKUP(A7,'[2]Все товары'!$A:$E,COLUMN('[2]Все товары'!$E$2),0) -> 91
A8: X-00014590 | C8: ASW-H24A4/CB-R2DI | D8: ASW-H24A4/CB-R2DI | E8: =VLOOKUP(A8,[1]Бытовые!$A:$N,COLUMN([1]Бытовые!$K$12),0) -> 74900 | F8: =VLOOKUP(A8,'[2]Все товары'!$A:$E,COLUMN('[2]Все товары'!$E$2),0) -> 215
A9: Classic Inverter
A10: X-00013865 | C10: ASW-H09A4/BA-R2DI | D10: ASW-H09A4/BA-R2DI | E10: =VLOOKUP(A10,[1]Бытовые!$A:$N,COLUMN([1]Бытовые!$K$12),0) -> 36800 | F10: =VLOOKUP(A10,'[2]Все товары'!$A:$E,COLUMN('[2]Все товары'!$E$2),0) -> 250+
A11: X-00013866 | C11: ASW-H12A4/BA-R2DI | D11: ASW-H12A4/BA-R2DI | E11: =VLOOKUP(A11,[1]Бытовые!$A:$N,COLUMN([1]Бытовые!$K$12),0) -> 43900 | F11: =VLOOKUP(A11,'[2]Все товары'!$A:$E,COLUMN('[2]Все товары'!$E$2),0) -> 250+
A12: X-00013867 | C12: ASW-H18A4/BA-R2DI | D12: ASW-H18A4/BA-R2DI | E12: =VLOOKUP(A12,[1]Бытовые!$A:$N,COLUMN([1]Бытовые!$K$12),0) -> 68400 | F12: =VLOOKUP(A12,'[2]Все товары'!$A:$E,COLUMN('[2]Все товары'!$E$2),0) -> 250+
A13: X-00013874 | C13: ASW-H07A4/BA-R2DI | D13: ASW-H07A4/BA-R2DI | E13: =VLOOKUP(A13,[1]Бытовые!$A:$N,COLUMN([1]Бытовые!$K$12),0) -> 34800 | F13: =VLOOKUP(A13,'[2]Все товары'!$A:$E,COLUMN('[2]Все товары'!$E$2),0) -> 250+
A14: X-00013879 | C14: ASW-H24A4/BA-R2DI | D14: ASW-H24A4/BA-R2DI | E14: =VLOOKUP(A14,[1]Бытовые!$A:$N,COLUMN([1]Бытовые!$K$12),0) -> 80500 | F14: =VLOOKUP(A14,'[2]Все товары'!$A:$E,COLUMN('[2]Все товары'!$E$2),0) -> 111
A15: Classic Pro Inverter
A16: X-00013802 | C16: ASW-H09A4/CA-R2DI | D16: ASW-H09A4/CA-R2DI | E16: =VLOOKUP(A16,[1]Бытовые!$A:$N,COLUMN([1]Бытовые!$K$12),0) -> 43900 | F16: =VLOOKUP(A16,'[2]Все товары'!$A:$E,COLUMN('[2]Все товары'!$E$2),0) -> 250+
A17: X-00013803 | C17: ASW-H12A4/CA-R2DI | D17: ASW-H12A4/CA-R2DI | E17: =VLOOKUP(A17,[1]Бытовые!$A:$N,COLUMN([1]Бытовые!$K$12),0) -> 48900 | F17: =VLOOKUP(A17,'[2]Все товары'!$A:$E,COLUMN('[2]Все товары'!$E$2),0) -> 198
A18: Comfort Inverter
A19: X-00013956 | C19: ASW-H09A4/HB-R2DI | D19: ASW-H09A4/HB-R2DI | E19: =VLOOKUP(A19,[1]Бытовые!$A:$N,COLUMN([1]Бытовые!$K$12),0) -> 43900 | F19: =VLOOKUP(A19,'[2]Все товары'!$A:$E,COLUMN('[2]Все товары'!$E$2),0) -> 250+
A20: X-00013958 | C20: ASW-H12A4/HB-R2DI | D20: ASW-H12A4/HB-R2DI | E20: =VLOOKUP(A20,[1]Бытовые!$A:$N,COLUMN([1]Бытовые!$K$12),0) -> 50900 | F20: =VLOOKUP(A20,'[2]Все товары'!$A:$E,COLUMN('[2]Все товары'!$E$2),0) -> 250+
A21: J Progressive series Inverter
A22: X-00010640 | C22: ASW-H09A4/JD-R2DI (v1) | D22: ASW-H09A4/JD-R2DI (v1) | E22: =VLOOKUP(A22,[1]Бытовые!$A:$N,COLUMN([1]Бытовые!$K$12),0) -> 43900 | F22: =VLOOKUP(A22,'[2]Все товары'!$A:$E,COLUMN('[2]Все товары'!$E$2),0) -> 250+
A23: X-00010641 | C23: ASW-H12A4/JD-R2DI (v1) | D23: ASW-H12A4/JD-R2DI (v1) | E23: =VLOOKUP(A23,[1]Бытовые!$A:$N,COLUMN([1]Бытовые!$K$12),0) -> 50900 | F23: =VLOOKUP(A23,'[2]Все товары'!$A:$E,COLUMN('[2]Все товары'!$E$2),0) -> 250+
A24: X-00010642 | C24: ASW-H18A4/JD-R2DI (v1) | D24: ASW-H18A4/JD-R2DI (v1) | E24: =VLOOKUP(A24,[1]Бытовые!$A:$N,COLUMN([1]Бытовые!$K$12),0) -> 76600 | F24: =VLOOKUP(A24,'[2]Все товары'!$A:$E,COLUMN('[2]Все товары'!$E$2),0) -> 123
A25: X-00010643 | C25: ASW-H24A4/JD-R2DI (v1) | D25: ASW-H24A4/JD-R2DI (v1) | E25: =VLOOKUP(A25,[1]Бытовые!$A:$N,COLUMN([1]Бытовые!$K$12),0) -> 91300 | F25: =VLOOKUP(A25,'[2]Все товары'!$A:$E,COLUMN('[2]Все товары'!$E$2),0) -> 75
A26: Premium Inverter
A27: X-00013875 | C27: ASW-H09A4/AF-R2DI | D27: ASW-H09A4/AF-R2DI | E27: =VLOOKUP(A27,[1]Бытовые!$A:$N,COLUMN([1]Бытовые!$K$12),0) -> 67700 | F27: =VLOOKUP(A27,'[2]Все товары'!$A:$E,COLUMN('[2]Все товары'!$E$2),0) -> 165
A28: X-00013877 | C28: ASW-H12A4/AF-R2DI | D28: ASW-H12A4/AF-R2DI | E28: =VLOOKUP(A28,[1]Бытовые!$A:$N,COLUMN([1]Бытовые!$K$12),0) -> 72000 | F28: =VLOOKUP(A28,'[2]Все товары'!$A:$E,COLUMN('[2]Все товары'!$E$2),0) -> 96
A29: Q Fresh series Inverter
A30: X-00012264 | C30: ASW-H09A4/QF-R2DI | D30: ASW-H09A4/QF-R2DI | E30: =VLOOKUP(A30,[1]Бытовые!$A:$N,COLUMN([1]Бытовые!$K$12),0) -> 57000 | F30: =VLOOKUP(A30,'[2]Все товары'!$A:$E,COLUMN('[2]Все товары'!$E$2),0) -> 119
A31: X-00012265 | C31: ASW-H12A4/QF-R2DI | D31: ASW-H12A4/QF-R2DI | E31: =VLOOKUP(A31,[1]Бытовые!$A:$N,COLUMN([1]Бытовые!$K$12),0) -> 63300 | F31: =VLOOKUP(A31,'[2]Все товары'!$A:$E,COLUMN('[2]Все товары'!$E$2),0) -> 0
A32: Q Light series Inverter
A33: X-00012276 | C33: ASW-H18A4/QH-R1DI | D33: ASW-H18A4/QH-R1DI | E33: 71100 | F33: =VLOOKUP(A33,'[2]Все товары'!$A:$E,COLUMN('[2]Все товары'!$E$2),0) -> 61
A34: Q Smart Series Inverter
A35: X-00012067 | C35: ASW-H09A4/HA-R2DI | D35: ASW-H09A4/HA-R2DI | E35: =VLOOKUP(A35,[1]Бытовые!$A:$N,COLUMN([1]Бытовые!$K$12),0) -> 41900 | F35: =VLOOKUP(A35,'[2]Все товары'!$A:$E,COLUMN('[2]Все товары'!$E$2),0) -> 0
A36: X-00012071 | C36: ASW-H12A4/HA-R2DI | D36: ASW-H12A4/HA-R2DI | E36: =VLOOKUP(A36,[1]Бытовые!$A:$N,COLUMN([1]Бытовые!$K$12),0) -> 45900 | F36: =VLOOKUP(A36,'[2]Все товары'!$A:$E,COLUMN('[2]Все товары'!$E$2),0) -> 0
A37: Black ART Inverter
A38: X-00013876 | C38: ASW-H09A4/CC-R2DI | D38: ASW-H09A4/CC-R2DI | E38: =VLOOKUP(A38,[1]Бытовые!$A:$N,COLUMN([1]Бытовые!$K$12),0) -> 56600 | F38: =VLOOKUP(A38,'[2]Все товары'!$A:$E,COLUMN('[2]Все товары'!$E$2),0) -> 250+
A39: X-00013878 | C39: ASW-H12A4/CC-R2DI | D39: ASW-H12A4/CC-R2DI | E39: =VLOOKUP(A39,[1]Бытовые!$A:$N,COLUMN([1]Бытовые!$K$12),0) -> 60500 | F39: =VLOOKUP(A39,'[2]Все товары'!$A:$E,COLUMN('[2]Все товары'!$E$2),0) -> 146
A40: Silver ART Inverter
...

Sheet Axioma
A1: HC код комплекта | B1: HC код поблочно | C1: Модель поблочно | D1: Модель | E1: РИЦ | F1: Остаток1 | G1: В пути | H1: Остаток2 | I1: Остаток3
A2: ИНВЕРТОРНЫЕ МОДЕЛИ
A3: ASX/ASB (серия F)
A4: ASX07FZ1 | C4: ASX07FZ1 | D4: =_xlfn.CONCAT(C4," / ",C5) -> ASX07FZ1 / ASB07FZ1 | E4: =VLOOKUP(A4,[4]RAC!$A:$K,COLUMN([4]RAC!$K$11),0) -> 29190 | F4: =VLOOKUP(A4,[5]Лист1!$A:$E,COLUMN([5]Лист1!$C$4),0) -> 0 | G4: =VLOOKUP(A4,[5]Лист1!$A:$E,COLUMN([5]Лист1!$D$526),0) -> 0 | H4: =VLOOKUP(A4,[6]Лист1!$A:$E,COLUMN([6]Лист1!$C$4),0) -> 0 | I4: =VLOOKUP(A4,[7]Лист1!$A:$E,COLUMN([7]Лист1!$C$4),0) -> 0
A5: ASB07FZ1 | C5: ASB07FZ1 | F5: =VLOOKUP(A5,[5]Лист1!$A:$E,COLUMN([5]Лист1!$C$4),0) -> 3 | G5: =VLOOKUP(A5,[5]Лист1!$A:$E,COLUMN([5]Лист1!$D$526),0) -> 2 | H5: =VLOOKUP(A5,[6]Лист1!$A:$E,COLUMN([6]Лист1!$C$4),0) -> 2 | I5: =VLOOKUP(A5,[7]Лист1!$A:$E,COLUMN([7]Лист1!$C$4),0) -> 0
A6: ASX09FZ1 | C6: ASX09FZ1 | D6: =_xlfn.CONCAT(C6," / ",C7) -> ASX09FZ1 / ASB09FZ1 | E6: =VLOOKUP(A6,[4]RAC!$A:$K,COLUMN([4]RAC!$K$11),0) -> 30790 | F6: =VLOOKUP(A6,[5]Лист1!$A:$E,COLUMN([5]Лист1!$C$4),0) -> 2 | G6: =VLOOKUP(A6,[5]Лист1!$A:$E,COLUMN([5]Лист1!$D$526),0) -> 1 | H6: =VLOOKUP(A6,[6]Лист1!$A:$E,COLUMN([6]Лист1!$C$4),0) -> 0 | I6: =VLOOKUP(A6,[7]Лист1!$A:$E,COLUMN([7]Лист1!$C$4),0) -> 0
A7: ASB09FZ1 | C7: ASB09FZ1 | F7: =VLOOKUP(A7,[5]Лист1!$A:$E,COLUMN([5]Лист1!$C$4),0) -> 0 | G7: =VLOOKUP(A7,[5]Лист1!$A:$E,COLUMN([5]Лист1!$D$526),0) -> 0 | H7: =VLOOKUP(A7,[6]Лист1!$A:$E,COLUMN([6]Лист1!$C$4),0) -> 0 | I7: =VLOOKUP(A7,[7]Лист1!$A:$E,COLUMN([7]Лист1!$C$4),0) -> 0
A8: ASX12FZ1 | C8: ASX12FZ1 | D8: =_xlfn.CONCAT(C8," / ",C9) -> ASX12FZ1 / ASB12FZ1 | E8: =VLOOKUP(A8,[4]RAC!$A:$K,COLUMN([4]RAC!$K$11),0) -> 33990 | F8: =VLOOKUP(A8,[5]Лист1!$A:$E,COLUMN([5]Лист1!$C$4),0) -> 0 | G8: =VLOOKUP(A8,[5]Лист1!$A:$E,COLUMN([5]Лист1!$D$526),0) -> 9 | H8: =VLOOKUP(A8,[6]Лист1!$A:$E,COLUMN([6]Лист1!$C$4),0) -> 9 | I8: =VLOOKUP(A8,[7]Лист1!$A:$E,COLUMN([7]Лист1!$C$4),0) -> 0
A9: ASB12FZ1 | C9: ASB12FZ1 | F9: =VLOOKUP(A9,[5]Лист1!$A:$E,COLUMN([5]Лист1!$C$4),0) -> 0 | G9: =VLOOKUP(A9,[5]Лист1!$A:$E,COLUMN([5]Лист1!$D$526),0) -> 6 | H9: =VLOOKUP(A9,[6]Лист1!$A:$E,COLUMN([6]Лист1!$C$4),0) -> 6 | I9: =VLOOKUP(A9,[7]Лист1!$A:$E,COLUMN([7]Лист1!$C$4),0) -> 0
A10: ASX18FZ1 | C10: ASX18FZ1 | D10: =_xlfn.CONCAT(C10," / ",C11) -> ASX18FZ1 / ASB18FZ1 | E10: =VLOOKUP(A10,[4]RAC!$A:$K,COLUMN([4]RAC!$K$11),0) -> 58990 | F10: =VLOOKUP(A10,[5]Лист1!$A:$E,COLUMN([5]Лист1!$C$4),0) -> 1 | G10: =VLOOKUP(A10,[5]Лист1!$A:$E,COLUMN([5]Лист1!$D$526),0) -> >50 | H10: =VLOOKUP(A10,[6]Лист1!$A:$E,COLUMN([6]Лист1!$C$4),0) -> >50 | I10: =VLOOKUP(A10,[7]Лист1!$A:$E,COLUMN([7]Лист1!$C$4),0) -> 0
A11: ASB18FZ1 | C11: ASB18FZ1 | F11: =VLOOKUP(A11,[5]Лист1!$A:$E,COLUMN([5]Лист1!$C$4),0) -> 0 | G11: =VLOOKUP(A11,[5]Лист1!$A:$E,COLUMN([5]Лист1!$D$526),0) -> >50 | H11: =VLOOKUP(A11,[6]Лист1!$A:$E,COLUMN([6]Лист1!$C$4),0) -> >50 | I11: =VLOOKUP(A11,[7]Лист1!$A:$E,COLUMN([7]Лист1!$C$4),0) -> 0
A12: ASX24FZ1 | C12: ASX24FZ1 | D12: =_xlfn.CONCAT(C12," / ",C13) -> ASX24FZ1 / ASB24FZ1 | E12: =VLOOKUP(A12,[4]RAC!$A:$K,COLUMN([4]RAC!$K$11),0) -> 75390 | F12: =VLOOKUP(A12,[5]Лист1!$A:$E,COLUMN([5]Лист1!$C$4),0) -> 1 | G12: =VLOOKUP(A12,[5]Лист1!$A:$E,COLUMN([5]Лист1!$D$526),0) -> 14 | H12: =VLOOKUP(A12,[6]Лист1!$A:$E,COLUMN([6]Лист1!$C$4),0) -> 14 | I12: =VLOOKUP(A12,[7]Лист1!$A:$E,COLUMN([7]Лист1!$C$4),0) -> 0
A13: ASB24FZ1 | C13: ASB24FZ1 | F13: =VLOOKUP(A13,[5]Лист1!$A:$E,COLUMN([5]Лист1!$C$4),0) -> 0 | G13: =VLOOKUP(A13,[5]Лист1!$A:$E,COLUMN([5]Лист1!$D$526),0) -> 12 | H13: =VLOOKUP(A13,[6]Лист1!$A:$E,COLUMN([6]Лист1!$C$4),0) -> 12 | I13: =VLOOKUP(A13,[7]Лист1!$A:$E,COLUMN([7]Лист1!$C$4),0) -> 0
A14: ASX/ASB (серия H)
A15: ASX07HZ1R | C15: ASX07HZ1R | D15: =_xlfn.CONCAT(C15," / ",C16) -> ASX07HZ1R / ASB07HZ1R | E15: =VLOOKUP(A15,[4]RAC!$A:$K,COLUMN([4]RAC!$K$11),0) -> 30090 | F15: =VLOOKUP(A15,[5]Лист1!$A:$E,COLUMN([5]Лист1!$C$4),0) -> 0 | G15: =VLOOKUP(A15,[5]Лист1!$A:$E,COLUMN([5]Лист1!$D$526),0) -> 0 | H15: =VLOOKUP(A15,[6]Лист1!$A:$E,COLUMN([6]Лист1!$C$4),0) -> 0 | I15: =VLOOKUP(A15,[7]Лист1!$A:$E,COLUMN([7]Лист1!$C$4),0) -> 0
A16: ASB07HZ1R | C16: ASB07HZ1R | F16: =VLOOKUP(A16,[5]Лист1!$A:$E,COLUMN([5]Лист1!$C$4),0) -> 0 | G16: =VLOOKUP(A16,[5]Лист1!$A:$E,COLUMN([5]Лист1!$D$526),0) -> 0 | H16: =VLOOKUP(A16,[6]Лист1!$A:$E,COLUMN([6]Лист1!$C$4),0) -> 0 | I16: =VLOOKUP(A16,[7]Лист1!$A:$E,COLUMN([7]Лист1!$C$4),0) -> 0
A17: ASX09HZ1R | C17: ASX09HZ1R | D17: =_xlfn.CONCAT(C17," / ",C18) -> ASX09HZ1R / ASB09HZ1R | E17: =VLOOKUP(A17,[4]RAC!$A:$K,COLUMN([4]RAC!$K$11),0) -> 31890 | F17: =VLOOKUP(A17,[5]Лист1!$A:$E,COLUMN([5]Лист1!$C$4),0) -> 0 | G17: =VLOOKUP(A17,[5]Лист1!$A:$E,COLUMN([5]Лист1!$D$526),0) -> 18 | H17: =VLOOKUP(A17,[6]Лист1!$A:$E,COLUMN([6]Лист1!$C$4),0) -> 0 | I17: =VLOOKUP(A17,[7]Лист1!$A:$E,COLUMN([7]Лист1!$C$4),0) -> 0
A18: ASB09HZ1R | C18: ASB09HZ1R | F18: =VLOOKUP(A18,[5]Лист1!$A:$E,COLUMN([5]Лист1!$C$4),0) -> 0 | G18: =VLOOKUP(A18,[5]Лист1!$A:$E,COLUMN([5]Лист1!$D$526),0) -> 19 | H18: =VLOOKUP(A18,[6]Лист1!$A:$E,COLUMN([6]Лист1!$C$4),0) -> 0 | I18: =VLOOKUP(A18,[7]Лист1!$A:$E,COLUMN([7]Лист1!$C$4),0) -> 0
A19: ASX12HZ1R | C19: ASX12HZ1R | D19: =_xlfn.CONCAT(C19," / ",C20) -> ASX12HZ1R / ASB12HZ1R | E19: =VLOOKUP(A19,[4]RAC!$A:$K,COLUMN([4]RAC!$K$11),0) -> 35090 | F19: =VLOOKUP(A19,[5]Лист1!$A:$E,COLUMN([5]Лист1!$C$4),0) -> 22 | G19: =VLOOKUP(A19,[5]Лист1!$A:$E,COLUMN([5]Лист1!$D$526),0) -> >50 | H19: =VLOOKUP(A19,[6]Лист1!$A:$E,COLUMN([6]Лист1!$C$4),0) -> 0 | I19: =VLOOKUP(A19,[7]Лист1!$A:$E,COLUMN([7]Лист1!$C$4),0) -> 0
A20: ASB12HZ1R | C20: ASB12HZ1R | F20: =VLOOKUP(A20,[5]Лист1!$A:$E,COLUMN([5]Лист1!$C$4),0) -> 21 | G20: =VLOOKUP(A20,[5]Лист1!$A:$E,COLUMN([5]Лист1!$D$526),0) -> >50 | H20: =VLOOKUP(A20,[6]Лист1!$A:$E,COLUMN([6]Лист1!$C$4),0) -> 0 | I20: =VLOOKUP(A20,[7]Лист1!$A:$E,COLUMN([7]Лист1!$C$4),0) -> 0
A21: ASX18HZ1R | C21: ASX18HZ1R | D21: =_xlfn.CONCAT(C21," / ",C22) -> ASX18HZ1R / ASB18HZ1R | E21: =VLOOKUP(A21,[4]RAC!$A:$K,COLUMN([4]RAC!$K$11),0) -> 60890 | F21: =VLOOKUP(A21,[5]Лист1!$A:$E,COLUMN([5]Лист1!$C$4),0) -> 0 | G21: =VLOOKUP(A21,[5]Лист1!$A:$E,COLUMN([5]Лист1!$D$526),0) -> 0 | H21: =VLOOKUP(A21,[6]Лист1!$A:$E,COLUMN([6]Лист1!$C$4),0) -> 0 | I21: =VLOOKUP(A21,[7]Лист1!$A:$E,COLUMN([7]Лист1!$C$4),0) -> 0
A22: ASB18HZ1R | C22: ASB18HZ1R | F22: =VLOOKUP(A22,[5]Лист1!$A:$E,COLUMN([5]Лист1!$C$4),0) -> 0 | G22: =VLOOKUP(A22,[5]Лист1!$A:$E,COLUMN([5]Лист1!$D$526),0) -> 0 | H22: =VLOOKUP(A22,[6]Лист1!$A:$E,COLUMN([6]Лист1!$C$4),0) -> 0 | I22: =VLOOKUP(A22,[7]Лист1!$A:$E,COLUMN([7]Лист1!$C$4),0) -> 0
A23: ASX24HZ1R | C23: ASX24HZ1R | D23: =_xlfn.CONCAT(C23," / ",C24) -> ASX24HZ1R / ASB24HZ1R | E23: =VLOOKUP(A23,[4]RAC!$A:$K,COLUMN([4]RAC!$K$11),0) -> 77990 | F23: =VLOOKUP(A23,[5]Лист1!$A:$E,COLUMN([5]Лист1!$C$4),0) -> 0 | G23: =VLOOKUP(A23,[5]Лист1!$A:$E,COLUMN([5]Лист1!$D$526),0) -> 0 | H23: =VLOOKUP(A23,[6]Лист1!$A:$E,COLUMN([6]Лист1!$C$4),0) -> 0 | I23: =VLOOKUP(A23,[7]Лист1!$A:$E,COLUMN([7]Лист1!$C$4),0) -> 0
A24: ASB24HZ1R | C24: ASB24HZ1R | F24: =VLOOKUP(A24,[5]Лист1!$A:$E,COLUMN([5]Лист1!$C$4),0) -> 0 | G24: =VLOOKUP(A24,[5]Лист1!$A:$E,COLUMN([5]Лист1!$D$526),0) -> 0 | H24: =VLOOKUP(A24,[6]Лист1!$A:$E,COLUMN([6]Лист1!$C$4),0) -> 0 | I24: =VLOOKUP(A24,[7]Лист1!$A:$E,COLUMN([7]Лист1!$C$4),0) -> 0
A26: ASX07H1Z1R | C26: ASX07H1Z1R | D26: =_xlfn.CONCAT(C26," / ",C27) -> ASX07H1Z1R / ASB07H1Z1R | E26: =VLOOKUP(A26,[4]RAC!$A:$K,COLUMN([4]RAC!$K$11),0) -> 30490 | F26: =VLOOKUP(A26,[5]Лист1!$A:$E,COLUMN([5]Лист1!$C$4),0) -> 0 | G26: =VLOOKUP(A26,[5]Лист1!$A:$E,COLUMN([5]Лист1!$D$526),0) -> 0 | H26: =VLOOKUP(A26,[6]Лист1!$A:$E,COLUMN([6]Лист1!$C$4),0) -> 0 | I26: =VLOOKUP(A26,[7]Лист1!$A:$E,COLUMN([7]Лист1!$C$4),0) -> 0
A27: ASB07H1Z1R | C27: ASB07H1Z1R | F27: =VLOOKUP(A27,[5]Лист1!$A:$E,COLUMN([5]Лист1!$C$4),0) -> 0 | G27: =VLOOKUP(A27,[5]Лист1!$A:$E,COLUMN([5]Лист1!$D$526),0) -> 0 | H27: =VLOOKUP(A27,[6]Лист1!$A:$E,COLUMN([6]Лист1!$C$4),0) -> 0 | I27: =VLOOKUP(A27,[7]Лист1!$A:$E,COLUMN([7]Лист1!$C$4),0) -> 0
A28: ASX09H1Z1R | C28: ASX09H1Z1R | D28: =_xlfn.CONCAT(C28," / ",C29) -> ASX09H1Z1R / ASB09H1Z1R | E28: =VLOOKUP(A28,[4]RAC!$A:$K,COLUMN([4]RAC!$K$11),0) -> 32490 | F28: =VLOOKUP(A28,[5]Лист1!$A:$E,COLUMN([5]Лист1!$C$4),0) -> 0 | G28: =VLOOKUP(A28,[5]Лист1!$A:$E,COLUMN([5]Лист1!$D$526),0) -> 0 | H28: =VLOOKUP(A28,[6]Лист1!$A:$E,COLUMN([6]Лист1!$C$4),0) -> 0 | I28: =VLOOKUP(A28,[7]Лист1!$A:$E,COLUMN([7]Лист1!$C$4),0) -> 0
A29: ASB09H1Z1R | C29: ASB09H1Z1R | F29: =VLOOKUP(A29,[5]Лист1!$A:$E,COLUMN([5]Лист1!$C$4),0) -> 0 | G29: =VLOOKUP(A29,[5]Лист1!$A:$E,COLUMN([5]Лист1!$D$526),0) -> 0 | H29: =VLOOKUP(A29,[6]Лист1!$A:$E,COLUMN([6]Лист1!$C$4),0) -> 0 | I29: =VLOOKUP(A29,[7]Лист1!$A:$E,COLUMN([7]Лист1!$C$4),0) -> 0
A30: ASX12H1Z1R | C30: ASX12H1Z1R | D30: =_xlfn.CONCAT(C30," / ",C31) -> ASX12H1Z1R / ASB12H1Z1R | E30: =VLOOKUP(A30,[4]RAC!$A:$K,COLUMN([4]RAC!$K$11),0) -> 35490 | F30: =VLOOKUP(A30,[5]Лист1!$A:$E,COLUMN([5]Лист1!$C$4),0) -> >50 | G30: =VLOOKUP(A30,[5]Лист1!$A:$E,COLUMN([5]Лист1!$D$526),0) -> >50 | H30: =VLOOKUP(A30,[6]Лист1!$A:$E,COLUMN([6]Лист1!$C$4),0) -> >50 | I30: =VLOOKUP(A30,[7]Лист1!$A:$E,COLUMN([7]Лист1!$C$4),0) -> 0
A31: ASB12H1Z1R | C31: ASB12H1Z1R | F31: =VLOOKUP(A31,[5]Лист1!$A:$E,COLUMN([5]Лист1!$C$4),0) -> >50 | G31: =VLOOKUP(A31,[5]Лист1!$A:$E,COLUMN([5]Лист1!$D$526),0) -> >50 | H31: =VLOOKUP(A31,[6]Лист1!$A:$E,COLUMN([6]Лист1!$C$4),0) -> >50 | I31: =VLOOKUP(A31,[7]Лист1!$A:$E,COLUMN([7]Лист1!$C$4),0) -> 0
A32: ASX18H1Z1R | C32: ASX18H1Z1R | D32: =_xlfn.CONCAT(C32," / ",C33) -> ASX18H1Z1R / ASB18H1Z1R | E32: =VLOOKUP(A32,[4]RAC!$A:$K,COLUMN([4]RAC!$K$11),0) -> 61590 | F32: =VLOOKUP(A32,[5]Лист1!$A:$E,COLUMN([5]Лист1!$C$4),0) -> 0 | G32: =VLOOKUP(A32,[5]Лист1!$A:$E,COLUMN([5]Лист1!$D$526),0) -> 22 | H32: =VLOOKUP(A32,[6]Лист1!$A:$E,COLUMN([6]Лист1!$C$4),0) -> 22 | I32: =VLOOKUP(A32,[7]Лист1!$A:$E,COLUMN([7]Лист1!$C$4),0) -> 0
A33: ASB18H1Z1R | C33: ASB18H1Z1R | F33: =VLOOKUP(A33,[5]Лист1!$A:$E,COLUMN([5]Лист1!$C$4),0) -> 0 | G33: =VLOOKUP(A33,[5]Лист1!$A:$E,COLUMN([5]Лист1!$D$526),0) -> 22 | H33: =VLOOKUP(A33,[6]Лист1!$A:$E,COLUMN([6]Лист1!$C$4),0) -> 22 | I33: =VLOOKUP(A33,[7]Лист1!$A:$E,COLUMN([7]Лист1!$C$4),0) -> 0
A34: ASX24H1Z1R | C34: ASX24H1Z1R | D34: =_xlfn.CONCAT(C34," / ",C35) -> ASX24H1Z1R / ASB24H1Z1R | E34: =VLOOKUP(A34,[4]RAC!$A:$K,COLUMN([4]RAC!$K$11),0) -> 78690 | F34: =VLOOKUP(A34,[5]Лист1!$A:$E,COLUMN([5]Лист1!$C$4),0) -> 0 | G34: =VLOOKUP(A34,[5]Лист1!$A:$E,COLUMN([5]Лист1!$D$526),0) -> >50 | H34: =VLOOKUP(A34,[6]Лист1!$A:$E,COLUMN([6]Лист1!$C$4),0) -> >50 | I34: =VLOOKUP(A34,[7]Лист1!$A:$E,COLUMN([7]Лист1!$C$4),0) -> 0
A35: ASB24H1Z1R | C35: ASB24H1Z1R | F35: =VLOOKUP(A35,[5]Лист1!$A:$E,COLUMN([5]Лист1!$C$4),0) -> 0 | G35: =VLOOKUP(A35,[5]Лист1!$A:$E,COLUMN([5]Лист1!$D$526),0) -> >50 | H35: =VLOOKUP(A35,[6]Лист1!$A:$E,COLUMN([6]Лист1!$C$4),0) -> >50 | I35: =VLOOKUP(A35,[7]Лист1!$A:$E,COLUMN([7]Лист1!$C$4),0) -> 0
A36: МОДЕЛИ БЕЗ ИНВЕРТОРА
A37: ASX/ASB (серия F)
A38: ASX07F1 | C38: ASX07F1 | D38: =_xlfn.CONCAT(C38," / ",C39) -> ASX07F1 / ASB07F1 | E38: =VLOOKUP(A38,[4]RAC!$A:$K,COLUMN([4]RAC!$K$11),0) -> 19990 | F38: =VLOOKUP(A38,[5]Лист1!$A:$E,COLUMN([5]Лист1!$C$4),0) -> 0 | G38: =VLOOKUP(A38,[5]Лист1!$A:$E,COLUMN([5]Лист1!$D$526),0) -> 0 | H38: =VLOOKUP(A38,[6]Лист1!$A:$E,COLUMN([6]Лист1!$C$4),0) -> 0 | I38: =VLOOKUP(A38,[7]Лист1!$A:$E,COLUMN([7]Лист1!$C$4),0) -> 0
A39: ASB07F1 | C39: ASB07F1 | F39: =VLOOKUP(A39,[5]Лист1!$A:$E,COLUMN([5]Лист1!$C$4),0) -> 0 | G39: =VLOOKUP(A39,[5]Лист1!$A:$E,COLUMN([5]Лист1!$D$526),0) -> 0 | H39: =VLOOKUP(A39,[6]Лист1!$A:$E,COLUMN([6]Лист1!$C$4),0) -> 0 | I39: =VLOOKUP(A39,[7]Лист1!$A:$E,COLUMN([7]Лист1!$C$4),0) -> 0
A40: ASX09F1 | C40: ASX09F1 | D40: =_xlfn.CONCAT(C40," / ",C41) -> ASX09F1 / ASB09F1 | E40: =VLOOKUP(A40,[4]RAC!$A:$K,COLUMN([4]RAC!$K$11),0) -> 22190 | F40: =VLOOKUP(A40,[5]Лист1!$A:$E,COLUMN([5]Лист1!$C$4),0) -> 3 | G40: =VLOOKUP(A40,[5]Лист1!$A:$E,COLUMN([5]Лист1!$D$526),0) -> 0 | H40: =VLOOKUP(A40,[6]Лист1!$A:$E,COLUMN([6]Лист1!$C$4),0) -> 0 | I40: =VLOOKUP(A40,[7]Лист1!$A:$E,COLUMN([7]Лист1!$C$4),0) -> 0
A41: ASB09F1 | C41: ASB09F1 | F41: =VLOOKUP(A41,[5]Лист1!$A:$E,COLUMN([5]Лист1!$C$4),0) -> 3 | G41: =VLOOKUP(A41,[5]Лист1!$A:$E,COLUMN([5]Лист1!$D$526),0) -> 0 | H41: =VLOOKUP(A41,[6]Лист1!$A:$E,COLUMN([6]Лист1!$C$4),0) -> 0 | I41: =VLOOKUP(A41,[7]Лист1!$A:$E,COLUMN([7]Лист1!$C$4),0) -> 0
...

Sheet Ballu
A1: HC код комплекта | B1: HC код поблочно | C1: Модель поблочно | D1: Модель | E1: РИЦ | F1: Остаток
A2: ИНВЕРТОРНЫЕ МОДЕЛИ
A3: Ice Peak ERP Full DC Inverter / A+++ European Energy Efficiency edition
A4: НС-1688163 | C4: BSPKI-10HN8_V4 | D4: BSPKI-10HN8_V4 | E4: 59990 | F4: =VLOOKUP(A4,[8]Sheet1!$A:$J,COLUMN([8]Sheet1!$J$2),0) -> 0
A5: НС-1688164 | C5: BSPKI-13HN8_V4 | D5: BSPKI-13HN8_V4 | E5: 62990 | F5: =VLOOKUP(A5,[8]Sheet1!$A:$J,COLUMN([8]Sheet1!$J$2),0) -> 1
A6: НС-1688165 | C6: BSPKI-18HN8_V4 | D6: BSPKI-18HN8_V4 | E6: 105990 | F6: =VLOOKUP(A6,[8]Sheet1!$A:$J,COLUMN([8]Sheet1!$J$2),0) -> 45
A7: НС-1688166 | C7: BSPKI-24HN8_V4 | D7: BSPKI-24HN8_V4 | E7: 135990 | F7: =VLOOKUP(A7,[8]Sheet1!$A:$J,COLUMN([8]Sheet1!$J$2),0) -> 10
A8: Boho ERP Full DC Inverter / A+++ European Energy Efficiency edition
A9: НС-1434042 | C9: BSNI-10HN8 | D9: BSNI-10HN8 | E9: 59990 | F9: =VLOOKUP(A9,[8]Sheet1!$A:$J,COLUMN([8]Sheet1!$J$2),0) -> 127
A10: НС-1434043 | C10: BSNI-13HN8 | D10: BSNI-13HN8 | E10: 62990 | F10: =VLOOKUP(A10,[8]Sheet1!$A:$J,COLUMN([8]Sheet1!$J$2),0) -> 94
A11: Platinum ERP DC Inverter Black Edition / A+ European Energy Efficiency edition
A12: НС-1478047 | C12: BSPI-10HN8/BL/EU | D12: BSPI-10HN8/BL/EU | E12: 49990 | F12: =VLOOKUP(A12,[8]Sheet1!$A:$J,COLUMN([8]Sheet1!$J$2),0) -> 1218
A13: НС-1478059 | C13: BSPI-13HN8/BL/EU | D13: BSPI-13HN8/BL/EU | E13: 54990 | F13: =VLOOKUP(A13,[8]Sheet1!$A:$J,COLUMN([8]Sheet1!$J$2),0) -> 479
A14: Defender ERP DC Inverter / A++ European Energy Efficiency edition
A15: НС-1597634 | C15: BSHI-09HN8 | D15: BSHI-09HN8 | E15: 47990 | F15: =VLOOKUP(A15,[8]Sheet1!$A:$J,COLUMN([8]Sheet1!$J$2),0) -> 390
A16: НС-1597635 | C16: BSHI-12HN8 | D16: BSHI-12HN8 | E16: 53490 | F16: =VLOOKUP(A16,[8]Sheet1!$A:$J,COLUMN([8]Sheet1!$J$2),0) -> 216
A17: НС-1597636 | C17: BSHI-18HN8 | D17: BSHI-18HN8 | E17: 88990 | F17: =VLOOKUP(A17,[8]Sheet1!$A:$J,COLUMN([8]Sheet1!$J$2),0) -> 2
A18: НС-1597637 | C18: BSHI-24HN8 | D18: BSHI-24HN8 | E18: 110990 | F18: =VLOOKUP(A18,[8]Sheet1!$A:$J,COLUMN([8]Sheet1!$J$2),0) -> 19
A19: Platinum Evolution ERP DC Inverter / A++ European Energy Efficiency edition
A20: НС-1688175 | C20: BSUI-09HN8_V4 | D20: BSUI-09HN8_V4 | E20: 45990 | F20: =VLOOKUP(A20,[8]Sheet1!$A:$J,COLUMN([8]Sheet1!$J$2),0) -> 557
A21: НС-1688176 | C21: BSUI-12HN8_V4 | D21: BSUI-12HN8_V4 | E21: 51490 | F21: =VLOOKUP(A21,[8]Sheet1!$A:$J,COLUMN([8]Sheet1!$J$2),0) -> 25
A22: НС-1688177 | C22: BSUI-18HN8_V4 | D22: BSUI-18HN8_V4 | E22: 85990 | F22: =VLOOKUP(A22,[8]Sheet1!$A:$J,COLUMN([8]Sheet1!$J$2),0) -> 0
A23: НС-1688178 | C23: BSUI-24HN8_V4 | D23: BSUI-24HN8_V4 | E23: 107990 | F23: =VLOOKUP(A23,[8]Sheet1!$A:$J,COLUMN([8]Sheet1!$J$2),0) -> 90
A24: Greenland / ERP R32 DC Inverter A++ class
A25: НС-1408815 | C25: BSGRI-09HN8_22Y | D25: BSGRI-09HN8_22Y | E25: 49990 | F25: =VLOOKUP(A25,[8]Sheet1!$A:$J,COLUMN([8]Sheet1!$J$2),0) -> 1119
A26: НС-1408818 | C26: BSGRI-12HN8_22Y | D26: BSGRI-12HN8_22Y | E26: 55990 | F26: =VLOOKUP(A26,[8]Sheet1!$A:$J,COLUMN([8]Sheet1!$J$2),0) -> 520
A27: НС-1408821 | C27: BSGRI-18HN8_22Y | D27: BSGRI-18HN8_22Y | E27: 90990 | F27: =VLOOKUP(A27,[8]Sheet1!$A:$J,COLUMN([8]Sheet1!$J$2),0) -> 12
A28: НС-1408822 | C28: BSGRI-24HN8_22Y | D28: BSGRI-24HN8_22Y | E28: 113990 | F28: =VLOOKUP(A28,[8]Sheet1!$A:$J,COLUMN([8]Sheet1!$J$2),0) -> 76
A29: Tessey / Professional Protected A class DC inverter
A30: НС-1763718 | C30: BSTI-07HN8 | D30: BSTI-07HN8 | E30: 29990 | F30: =VLOOKUP(A30,[8]Sheet1!$A:$J,COLUMN([8]Sheet1!$J$2),0) -> 105
A31: НС-1763719 | C31: BSTI-09HN8 | D31: BSTI-09HN8 | E31: 32990 | F31: =VLOOKUP(A31,[8]Sheet1!$A:$J,COLUMN([8]Sheet1!$J$2),0) -> 67
A32: НС-1763720 | C32: BSTI-12HN8 | D32: BSTI-12HN8 | E32: 40490 | F32: =VLOOKUP(A32,[8]Sheet1!$A:$J,COLUMN([8]Sheet1!$J$2),0) -> 148
A33: НС-1763721 | C33: BSTI-18HN8 | D33: BSTI-18HN8 | E33: 70990 | F33: =VLOOKUP(A33,[8]Sheet1!$A:$J,COLUMN([8]Sheet1!$J$2),0) -> 44
A34: НС-1763722 | C34: BSTI-24HN8 | D34: BSTI-24HN8 | E34: 86990 | F34: =VLOOKUP(A34,[8]Sheet1!$A:$J,COLUMN([8]Sheet1!$J$2),0) -> 4
A35: ECO Smart / A class DC inverter
A36: НС-1690235 | C36: BSYI-08HN8_V4 | D36: BSYI-08HN8_V4 | E36: 30990 | F36: =VLOOKUP(A36,[8]Sheet1!$A:$J,COLUMN([8]Sheet1!$J$2),0) -> 0
A37: НС-1690257 | C37: BSYI-10HN8_V4 | D37: BSYI-10HN8_V4 | E37: 33990 | F37: =VLOOKUP(A37,[8]Sheet1!$A:$J,COLUMN([8]Sheet1!$J$2),0) -> 367
A38: НС-1690258 | C38: BSYI-12HN8_V4 | D38: BSYI-12HN8_V4 | E38: 41490 | F38: =VLOOKUP(A38,[8]Sheet1!$A:$J,COLUMN([8]Sheet1!$J$2),0) -> 0
A39: НС-1763004 | C39: BSYI-08HN8_V5 | D39: BSYI-08HN8_V5 | E39: 30990 | F39: =VLOOKUP(A39,[8]Sheet1!$A:$J,COLUMN([8]Sheet1!$J$2),0) -> 0
A40: НС-1763006 | C40: BSYI-10HN8_V5 | D40: BSYI-10HN8_V5 | E40: 33990 | F40: =VLOOKUP(A40,[8]Sheet1!$A:$J,COLUMN([8]Sheet1!$J$2),0) -> 10
...

Sheet Bosch
A1: HC код комплекта | B1: HC код поблочно | C1: Модель поблочно | D1: Модель | E1: РИЦ | F1: Остаток1 | G1: В пути | H1: Остаток2 | I1: Остаток3
A2: ИНВЕРТОРНЫЕ МОДЕЛИ
A3: Инверторные сплит-системы серии Climate Line 5000
A4: CLL5000 W 22 E | C4: CLL5000 W 22 E | D4: =_xlfn.CONCAT(C4," / ",C5) -> CLL5000 W 22 E / CLL5000 22 E | E4: =VLOOKUP(A4,[10]RAC!$A:$K,COLUMN([10]RAC!$K$8),0) -> 46990 | F4: =VLOOKUP(A4,[5]Лист1!$A:$E,COLUMN([5]Лист1!$C$4),0) -> 0 | G4: =VLOOKUP(A4,[5]Лист1!$A:$E,COLUMN([5]Лист1!$D$526),0) -> 0 | H4: =VLOOKUP(A4,[6]Лист1!$A:$E,COLUMN([6]Лист1!$C$4),0) -> 0 | I4: =VLOOKUP(A4,[7]Лист1!$A:$E,COLUMN([7]Лист1!$C$4),0) -> 0
A5: CLL5000 22 E | C5: CLL5000 22 E | F5: =VLOOKUP(A5,[5]Лист1!$A:$E,COLUMN([5]Лист1!$C$4),0) -> 3 | G5: =VLOOKUP(A5,[5]Лист1!$A:$E,COLUMN([5]Лист1!$D$526),0) -> 0 | H5: =VLOOKUP(A5,[6]Лист1!$A:$E,COLUMN([6]Лист1!$C$4),0) -> 0 | I5: =VLOOKUP(A5,[7]Лист1!$A:$E,COLUMN([7]Лист1!$C$4),0) -> 0
A6: CLL5000 W 28 E | C6: CLL5000 W 28 E | D6: =_xlfn.CONCAT(C6," / ",C7) -> CLL5000 W 28 E / CLL5000 28 E | E6: =VLOOKUP(A6,[10]RAC!$A:$K,COLUMN([10]RAC!$K$8),0) -> 49990 | F6: =VLOOKUP(A6,[5]Лист1!$A:$E,COLUMN([5]Лист1!$C$4),0) -> 0 | G6: =VLOOKUP(A6,[5]Лист1!$A:$E,COLUMN([5]Лист1!$D$526),0) -> 1 | H6: =VLOOKUP(A6,[6]Лист1!$A:$E,COLUMN([6]Лист1!$C$4),0) -> 0 | I6: =VLOOKUP(A6,[7]Лист1!$A:$E,COLUMN([7]Лист1!$C$4),0) -> 0
A7: CLL5000 28 E | C7: CLL5000 28 E | F7: =VLOOKUP(A7,[5]Лист1!$A:$E,COLUMN([5]Лист1!$C$4),0) -> 0 | G7: =VLOOKUP(A7,[5]Лист1!$A:$E,COLUMN([5]Лист1!$D$526),0) -> 0 | H7: =VLOOKUP(A7,[6]Лист1!$A:$E,COLUMN([6]Лист1!$C$4),0) -> 0 | I7: =VLOOKUP(A7,[7]Лист1!$A:$E,COLUMN([7]Лист1!$C$4),0) -> 0
A8: CLL5000 W 34 E | C8: CLL5000 W 34 E | D8: =_xlfn.CONCAT(C8," / ",C9) -> CLL5000 W 34 E / CLL5000 34 E | E8: =VLOOKUP(A8,[10]RAC!$A:$K,COLUMN([10]RAC!$K$8),0) -> 56990 | F8: =VLOOKUP(A8,[5]Лист1!$A:$E,COLUMN([5]Лист1!$C$4),0) -> 1 | G8: =VLOOKUP(A8,[5]Лист1!$A:$E,COLUMN([5]Лист1!$D$526),0) -> 0 | H8: =VLOOKUP(A8,[6]Лист1!$A:$E,COLUMN([6]Лист1!$C$4),0) -> 0 | I8: =VLOOKUP(A8,[7]Лист1!$A:$E,COLUMN([7]Лист1!$C$4),0) -> 0
A9: CLL5000 34 E | C9: CLL5000 34 E | F9: =VLOOKUP(A9,[5]Лист1!$A:$E,COLUMN([5]Лист1!$C$4),0) -> 0 | G9: =VLOOKUP(A9,[5]Лист1!$A:$E,COLUMN([5]Лист1!$D$526),0) -> 0 | H9: =VLOOKUP(A9,[6]Лист1!$A:$E,COLUMN([6]Лист1!$C$4),0) -> 0 | I9: =VLOOKUP(A9,[7]Лист1!$A:$E,COLUMN([7]Лист1!$C$4),0) -> 0
A10: Инверторные сплит-системы серии Climate 6000i
A11: CL6001iU W 26 E | C11: CL6001iU W 26 E | D11: =_xlfn.CONCAT(C11," / ",C12) -> CL6001iU W 26 E / CL6001i 26 E | E11: =VLOOKUP(A11,[10]RAC!$A:$K,COLUMN([10]RAC!$K$8),0) -> 67900 | F11: =VLOOKUP(A11,[5]Лист1!$A:$E,COLUMN([5]Лист1!$C$4),0) -> 0 | G11: =VLOOKUP(A11,[5]Лист1!$A:$E,COLUMN([5]Лист1!$D$526),0) -> 0 | H11: =VLOOKUP(A11,[6]Лист1!$A:$E,COLUMN([6]Лист1!$C$4),0) -> 0 | I11: =VLOOKUP(A11,[7]Лист1!$A:$E,COLUMN([7]Лист1!$C$4),0) -> 0
A12: CL6001i 26 E | C12: CL6001i 26 E | F12: =VLOOKUP(A12,[5]Лист1!$A:$E,COLUMN([5]Лист1!$C$4),0) -> 0 | G12: =VLOOKUP(A12,[5]Лист1!$A:$E,COLUMN([5]Лист1!$D$526),0) -> 4 | H12: =VLOOKUP(A12,[6]Лист1!$A:$E,COLUMN([6]Лист1!$C$4),0) -> 0 | I12: =VLOOKUP(A12,[7]Лист1!$A:$E,COLUMN([7]Лист1!$C$4),0) -> 0
A13: CL6001iU W 53 E | C13: CL6001iU W 53 E | D13: =_xlfn.CONCAT(C13," / ",C14) -> CL6001iU W 53 E / CL6001i 53 E | E13: =VLOOKUP(A13,[10]RAC!$A:$K,COLUMN([10]RAC!$K$8),0) -> 88190 | F13: =VLOOKUP(A13,[5]Лист1!$A:$E,COLUMN([5]Лист1!$C$4),0) -> #N/A | G13: =VLOOKUP(A13,[5]Лист1!$A:$E,COLUMN([5]Лист1!$D$526),0) -> #N/A | H13: =VLOOKUP(A13,[6]Лист1!$A:$E,COLUMN([6]Лист1!$C$4),0) -> #N/A | I13: =VLOOKUP(A13,[7]Лист1!$A:$E,COLUMN([7]Лист1!$C$4),0) -> #N/A
A14: CL6001i 53 E | C14: CL6001i 53 E | F14: =VLOOKUP(A14,[5]Лист1!$A:$E,COLUMN([5]Лист1!$C$4),0) -> #N/A | G14: =VLOOKUP(A14,[5]Лист1!$A:$E,COLUMN([5]Лист1!$D$526),0) -> #N/A | H14: =VLOOKUP(A14,[6]Лист1!$A:$E,COLUMN([6]Лист1!$C$4),0) -> #N/A | I14: =VLOOKUP(A14,[7]Лист1!$A:$E,COLUMN([7]Лист1!$C$4),0) -> #N/A
A15: МОДЕЛИ БЕЗ ИНВЕРТОРА
A16: Climate Line 2000
A17: CLL2000 W 23 | C17: CLL2000 W 23 | D17: =_xlfn.CONCAT(C17," / ",C18) -> CLL2000 W 23 / CLL2000 23 | E17: =VLOOKUP(A17,[10]RAC!$A:$K,COLUMN([10]RAC!$K$8),0) -> 30990 | F17: =VLOOKUP(A17,[5]Лист1!$A:$E,COLUMN([5]Лист1!$C$4),0) -> 0 | G17: =VLOOKUP(A17,[5]Лист1!$A:$E,COLUMN([5]Лист1!$D$526),0) -> 0 | H17: =VLOOKUP(A17,[6]Лист1!$A:$E,COLUMN([6]Лист1!$C$4),0) -> 0 | I17: =VLOOKUP(A17,[7]Лист1!$A:$E,COLUMN([7]Лист1!$C$4),0) -> 0
A18: CLL2000 23 | C18: CLL2000 23 | F18: =VLOOKUP(A18,[5]Лист1!$A:$E,COLUMN([5]Лист1!$C$4),0) -> 0 | G18: =VLOOKUP(A18,[5]Лист1!$A:$E,COLUMN([5]Лист1!$D$526),0) -> 0 | H18: =VLOOKUP(A18,[6]Лист1!$A:$E,COLUMN([6]Лист1!$C$4),0) -> 0 | I18: =VLOOKUP(A18,[7]Лист1!$A:$E,COLUMN([7]Лист1!$C$4),0) -> 0
A19: CLL2000 W 26 | C19: CLL2000 W 26 | D19: =_xlfn.CONCAT(C19," / ",C20) -> CLL2000 W 26 / CLL2000 26 | E19: =VLOOKUP(A19,[10]RAC!$A:$K,COLUMN([10]RAC!$K$8),0) -> 34990 | F19: =VLOOKUP(A19,[5]Лист1!$A:$E,COLUMN([5]Лист1!$C$4),0) -> 0 | G19: =VLOOKUP(A19,[5]Лист1!$A:$E,COLUMN([5]Лист1!$D$526),0) -> 3 | H19: =VLOOKUP(A19,[6]Лист1!$A:$E,COLUMN([6]Лист1!$C$4),0) -> 1 | I19: =VLOOKUP(A19,[7]Лист1!$A:$E,COLUMN([7]Лист1!$C$4),0) -> 0
A20: CLL2000 26 | C20: CLL2000 26 | F20: =VLOOKUP(A20,[5]Лист1!$A:$E,COLUMN([5]Лист1!$C$4),0) -> 0 | G20: =VLOOKUP(A20,[5]Лист1!$A:$E,COLUMN([5]Лист1!$D$526),0) -> 0 | H20: =VLOOKUP(A20,[6]Лист1!$A:$E,COLUMN([6]Лист1!$C$4),0) -> 0 | I20: =VLOOKUP(A20,[7]Лист1!$A:$E,COLUMN([7]Лист1!$C$4),0) -> 0
A21: CLL2000 W 35 | C21: CLL2000 W 35 | D21: =_xlfn.CONCAT(C21," / ",C22) -> CLL2000 W 35 / CLL2000 35 | E21: =VLOOKUP(A21,[10]RAC!$A:$K,COLUMN([10]RAC!$K$8),0) -> 41990 | F21: =VLOOKUP(A21,[5]Лист1!$A:$E,COLUMN([5]Лист1!$C$4),0) -> 1 | G21: =VLOOKUP(A21,[5]Лист1!$A:$E,COLUMN([5]Лист1!$D$526),0) -> 0 | H21: =VLOOKUP(A21,[6]Лист1!$A:$E,COLUMN([6]Лист1!$C$4),0) -> 0 | I21: =VLOOKUP(A21,[7]Лист1!$A:$E,COLUMN([7]Лист1!$C$4),0) -> 0
A22: CLL2000 35 | C22: CLL2000 35 | F22: =VLOOKUP(A22,[5]Лист1!$A:$E,COLUMN([5]Лист1!$C$4),0) -> 0 | G22: =VLOOKUP(A22,[5]Лист1!$A:$E,COLUMN([5]Лист1!$D$526),0) -> 4 | H22: =VLOOKUP(A22,[6]Лист1!$A:$E,COLUMN([6]Лист1!$C$4),0) -> 0 | I22: =VLOOKUP(A22,[7]Лист1!$A:$E,COLUMN([7]Лист1!$C$4),0) -> 0
A23: CLL2000 W 53 | C23: CLL2000 W 53 | D23: =_xlfn.CONCAT(C23," / ",C24) -> CLL2000 W 53 / CLL2000 53 | E23: =VLOOKUP(A23,[10]RAC!$A:$K,COLUMN([10]RAC!$K$8),0) -> 53190 | F23: =VLOOKUP(A23,[5]Лист1!$A:$E,COLUMN([5]Лист1!$C$4),0) -> 0 | G23: =VLOOKUP(A23,[5]Лист1!$A:$E,COLUMN([5]Лист1!$D$526),0) -> 5 | H23: =VLOOKUP(A23,[6]Лист1!$A:$E,COLUMN([6]Лист1!$C$4),0) -> 3 | I23: =VLOOKUP(A23,[7]Лист1!$A:$E,COLUMN([7]Лист1!$C$4),0) -> 0
A24: CLL2000 53 | C24: CLL2000 53 | F24: =VLOOKUP(A24,[5]Лист1!$A:$E,COLUMN([5]Лист1!$C$4),0) -> 0 | G24: =VLOOKUP(A24,[5]Лист1!$A:$E,COLUMN([5]Лист1!$D$526),0) -> 0 | H24: =VLOOKUP(A24,[6]Лист1!$A:$E,COLUMN([6]Лист1!$C$4),0) -> 0 | I24: =VLOOKUP(A24,[7]Лист1!$A:$E,COLUMN([7]Лист1!$C$4),0) -> 0
A25: CLL2000 W 70 | C25: CLL2000 W 70 | D25: =_xlfn.CONCAT(C25," / ",C26) -> CLL2000 W 70 / CLL2000 70 | E25: =VLOOKUP(A25,[10]RAC!$A:$K,COLUMN([10]RAC!$K$8),0) -> 64890 | F25: =VLOOKUP(A25,[5]Лист1!$A:$E,COLUMN([5]Лист1!$C$4),0) -> 1 | G25: =VLOOKUP(A25,[5]Лист1!$A:$E,COLUMN([5]Лист1!$D$526),0) -> 0 | H25: =VLOOKUP(A25,[6]Лист1!$A:$E,COLUMN([6]Лист1!$C$4),0) -> 0 | I25: =VLOOKUP(A25,[7]Лист1!$A:$E,COLUMN([7]Лист1!$C$4),0) -> 0
A26: CLL2000 70 | C26: CLL2000 70 | F26: =VLOOKUP(A26,[5]Лист1!$A:$E,COLUMN([5]Лист1!$C$4),0) -> 0 | G26: =VLOOKUP(A26,[5]Лист1!$A:$E,COLUMN([5]Лист1!$D$526),0) -> 2 | H26: =VLOOKUP(A26,[6]Лист1!$A:$E,COLUMN([6]Лист1!$C$4),0) -> 0 | I26: =VLOOKUP(A26,[7]Лист1!$A:$E,COLUMN([7]Лист1!$C$4),0) -> 0
A27: Climate Line 2000 с минусовой доработкой
A28: CLL2000 W 23 | C28: CLL2000 W 23 | D28: =_xlfn.CONCAT(C28," / ",C29) -> CLL2000 W 23 / CLL2000 23/-40 | E28: 36490 | F28: =VLOOKUP(A28,[5]Лист1!$A:$E,COLUMN([5]Лист1!$C$4),0) -> 0 | G28: =VLOOKUP(A28,[5]Лист1!$A:$E,COLUMN([5]Лист1!$D$526),0) -> 0 | H28: =VLOOKUP(A28,[6]Лист1!$A:$E,COLUMN([6]Лист1!$C$4),0) -> 0 | I28: =VLOOKUP(A28,[7]Лист1!$A:$E,COLUMN([7]Лист1!$C$4),0) -> 0
A29: CLL2000 23/-40 | C29: CLL2000 23/-40 | F29: =VLOOKUP(A29,[5]Лист1!$A:$E,COLUMN([5]Лист1!$C$4),0) -> #N/A | G29: =VLOOKUP(A29,[5]Лист1!$A:$E,COLUMN([5]Лист1!$D$526),0) -> #N/A | H29: =VLOOKUP(A29,[6]Лист1!$A:$E,COLUMN([6]Лист1!$C$4),0) -> #N/A | I29: =VLOOKUP(A29,[7]Лист1!$A:$E,COLUMN([7]Лист1!$C$4),0) -> #N/A
A30: CLL2000 W 26 | C30: CLL2000 W 26 | D30: =_xlfn.CONCAT(C30," / ",C31) -> CLL2000 W 26 / CLL2000 26/-40 | E30: 40490 | F30: =VLOOKUP(A30,[5]Лист1!$A:$E,COLUMN([5]Лист1!$C$4),0) -> 0 | G30: =VLOOKUP(A30,[5]Лист1!$A:$E,COLUMN([5]Лист1!$D$526),0) -> 3 | H30: =VLOOKUP(A30,[6]Лист1!$A:$E,COLUMN([6]Лист1!$C$4),0) -> 1 | I30: =VLOOKUP(A30,[7]Лист1!$A:$E,COLUMN([7]Лист1!$C$4),0) -> 0
A31: CLL2000 26/-40 | C31: CLL2000 26/-40 | F31: =VLOOKUP(A31,[5]Лист1!$A:$E,COLUMN([5]Лист1!$C$4),0) -> #N/A | G31: =VLOOKUP(A31,[5]Лист1!$A:$E,COLUMN([5]Лист1!$D$526),0) -> #N/A | H31: =VLOOKUP(A31,[6]Лист1!$A:$E,COLUMN([6]Лист1!$C$4),0) -> #N/A | I31: =VLOOKUP(A31,[7]Лист1!$A:$E,COLUMN([7]Лист1!$C$4),0) -> #N/A
A32: CLL2000 W 35 | C32: CLL2000 W 35 | D32: =_xlfn.CONCAT(C32," / ",C33) -> CLL2000 W 35 / CLL2000 35/-40 | E32: 47490 | F32: =VLOOKUP(A32,[5]Лист1!$A:$E,COLUMN([5]Лист1!$C$4),0) -> 1 | G32: =VLOOKUP(A32,[5]Лист1!$A:$E,COLUMN([5]Лист1!$D$526),0) -> 0 | H32: =VLOOKUP(A32,[6]Лист1!$A:$E,COLUMN([6]Лист1!$C$4),0) -> 0 | I32: =VLOOKUP(A32,[7]Лист1!$A:$E,COLUMN([7]Лист1!$C$4),0) -> 0
A33: CLL2000 35/-40 | C33: CLL2000 35/-40 | F33: =VLOOKUP(A33,[5]Лист1!$A:$E,COLUMN([5]Лист1!$C$4),0) -> #N/A | G33: =VLOOKUP(A33,[5]Лист1!$A:$E,COLUMN([5]Лист1!$D$526),0) -> #N/A | H33: =VLOOKUP(A33,[6]Лист1!$A:$E,COLUMN([6]Лист1!$C$4),0) -> #N/A | I33: =VLOOKUP(A33,[7]Лист1!$A:$E,COLUMN([7]Лист1!$C$4),0) -> #N/A
A34: CLL2000 W 53 | C34: CLL2000 W 53 | D34: =_xlfn.CONCAT(C34," / ",C35) -> CLL2000 W 53 / CLL2000 53/-40 | E34: 58690 | F34: =VLOOKUP(A34,[5]Лист1!$A:$E,COLUMN([5]Лист1!$C$4),0) -> 0 | G34: =VLOOKUP(A34,[5]Лист1!$A:$E,COLUMN([5]Лист1!$D$526),0) -> 5 | H34: =VLOOKUP(A34,[6]Лист1!$A:$E,COLUMN([6]Лист1!$C$4),0) -> 3 | I34: =VLOOKUP(A34,[7]Лист1!$A:$E,COLUMN([7]Лист1!$C$4),0) -> 0
A35: CLL2000 53/-40 | C35: CLL2000 53/-40 | F35: =VLOOKUP(A35,[5]Лист1!$A:$E,COLUMN([5]Лист1!$C$4),0) -> #N/A | G35: =VLOOKUP(A35,[5]Лист1!$A:$E,COLUMN([5]Лист1!$D$526),0) -> #N/A | H35: =VLOOKUP(A35,[6]Лист1!$A:$E,COLUMN([6]Лист1!$C$4),0) -> #N/A | I35: =VLOOKUP(A35,[7]Лист1!$A:$E,COLUMN([7]Лист1!$C$4),0) -> #N/A
A36: CLL2000 W 70 | C36: CLL2000 W 70 | D36: =_xlfn.CONCAT(C36," / ",C37) -> CLL2000 W 70 / CLL2000 70/-40 | E36: 71390 | F36: =VLOOKUP(A36,[5]Лист1!$A:$E,COLUMN([5]Лист1!$C$4),0) -> 1 | G36: =VLOOKUP(A36,[5]Лист1!$A:$E,COLUMN([5]Лист1!$D$526),0) -> 0 | H36: =VLOOKUP(A36,[6]Лист1!$A:$E,COLUMN([6]Лист1!$C$4),0) -> 0 | I36: =VLOOKUP(A36,[7]Лист1!$A:$E,COLUMN([7]Лист1!$C$4),0) -> 0
A37: CLL2000 70/-40 | C37: CLL2000 70/-40 | F37: =VLOOKUP(A37,[5]Лист1!$A:$E,COLUMN([5]Лист1!$C$4),0) -> #N/A | G37: =VLOOKUP(A37,[5]Лист1!$A:$E,COLUMN([5]Лист1!$D$526),0) -> #N/A | H37: =VLOOKUP(A37,[6]Лист1!$A:$E,COLUMN([6]Лист1!$C$4),0) -> #N/A | I37: =VLOOKUP(A37,[7]Лист1!$A:$E,COLUMN([7]Лист1!$C$4),0) -> #N/A

Sheet Casarte
A1: HC код комплекта | B1: HC код поблочно | C1: Модель поблочно | D1: Модель | E1: РИЦ | F1: Остаток
A2: Серия VELATO (HEAT PUMP -30°С) серебристый
A3: CAS25CC1/R3-S | C3: CAS25CC1/R3-S | D3: =_xlfn.CONCAT(C3," / ",C4) -> CAS25CC1/R3-S / 1U25CC1/R3 | E3: {=VLOOKUP("*CAS25CC1/R3*",[11]CASARTE!$A:$M,COLUMN([11]CASARTE!$M$4:$M$5),0)} -> 155000 | F3: =VLOOKUP("*CAS25CC1/R3-S*",[12]Лист_1!$A:$AG,COLUMN([12]Лист_1!$U$9),0) -> 0
A4: 1U25CC1/R3 | C4: 1U25CC1/R3 | F4: =VLOOKUP("*1U25CC1/R3*",[12]Лист_1!$A:$AG,COLUMN([12]Лист_1!$U$9),0) -> 0
A5: CAS35CC1/R3-S | C5: CAS35CC1/R3-S | D5: =_xlfn.CONCAT(C5," / ",C6) -> CAS35CC1/R3-S / 1U35CC1/R3 | E5: {=VLOOKUP("*CAS35CC1/R3*",[11]CASARTE!$A:$M,COLUMN([11]CASARTE!$M$4:$M$5),0)} -> 186000 | F5: =VLOOKUP("*CAS35CC1/R3-S*",[12]Лист_1!$A:$AG,COLUMN([12]Лист_1!$U$9),0) -> 0
A6: 1U35CC1/R3 | C6: 1U35CC1/R3 | F6: =VLOOKUP("*1U35CC1/R3*",[12]Лист_1!$A:$AG,COLUMN([12]Лист_1!$U$9),0) -> 0
A7: CAS50CC1/R3-S | C7: CAS50CC1/R3-S | D7: =_xlfn.CONCAT(C7," / ",C8) -> CAS50CC1/R3-S / 1U50CC1/R3 | E7: {=VLOOKUP("*CAS50CC1/R3*",[11]CASARTE!$A:$M,COLUMN([11]CASARTE!$M$4:$M$5),0)} -> 260000 | F7: =VLOOKUP("*CAS50CC1/R3-S*",[12]Лист_1!$A:$AG,COLUMN([12]Лист_1!$U$9),0) -> #N/A
A8: 1U50CC1/R3 | C8: 1U50CC1/R3 | F8: =VLOOKUP("*1U50CC1/R3*",[12]Лист_1!$A:$AG,COLUMN([12]Лист_1!$U$9),0) -> 0
A9: Серия VELATO (HEAT PUMP -30°С) черный
A10: CAS25CC1/R3-B | C10: CAS25CC1/R3-B | D10: =_xlfn.CONCAT(C10," / ",C11) -> CAS25CC1/R3-B / 1U25CC1/R3 | E10: {=VLOOKUP("*CAS25CC1/R3*",[11]CASARTE!$A:$M,COLUMN([11]CASARTE!$M$4:$M$5),0)} -> 155000 | F10: =VLOOKUP("*CAS25CC1/R3-B*",[12]Лист_1!$A:$AG,COLUMN([12]Лист_1!$U$9),0) -> 0
A11: 1U25CC1/R3 | C11: 1U25CC1/R3 | F11: =VLOOKUP("*1U25CC1/R3*",[12]Лист_1!$A:$AG,COLUMN([12]Лист_1!$U$9),0) -> 0
A12: CAS35CC1/R3-B | C12: CAS35CC1/R3-B | D12: =_xlfn.CONCAT(C12," / ",C13) -> CAS35CC1/R3-B / 1U35CC1/R3 | E12: {=VLOOKUP("*CAS35CC1/R3*",[11]CASARTE!$A:$M,COLUMN([11]CASARTE!$M$4:$M$5),0)} -> 186000 | F12: =VLOOKUP("*CAS35CC1/R3-B*",[12]Лист_1!$A:$AG,COLUMN([12]Лист_1!$U$9),0) -> 0
A13: 1U35CC1/R3 | C13: 1U35CC1/R3 | F13: =VLOOKUP("*1U35CC1/R3*",[12]Лист_1!$A:$AG,COLUMN([12]Лист_1!$U$9),0) -> 0
A14: CAS50CC1/R3-B | C14: CAS50CC1/R3-B | D14: =_xlfn.CONCAT(C14," / ",C15) -> CAS50CC1/R3-B / 1U50CC1/R3 | E14: {=VLOOKUP("*CAS50CC1/R3*",[11]CASARTE!$A:$M,COLUMN([11]CASARTE!$M$4:$M$5),0)} -> 260000 | F14: =VLOOKUP("*CAS50CC1/R3-B*",[12]Лист_1!$A:$AG,COLUMN([12]Лист_1!$U$9),0) -> 0
A15: 1U50CC1/R3 | C15: 1U50CC1/R3 | F15: =VLOOKUP("*1U50CC1/R3*",[12]Лист_1!$A:$AG,COLUMN([12]Лист_1!$U$9),0) -> 0
A16: Серия VELATO (HEAT PUMP -30°С) синий
A17: CAS25CC1/R3-С | C17: CAS25CC1/R3-С | D17: =_xlfn.CONCAT(C17," / ",C18) -> CAS25CC1/R3-С / 1U25CC1/R3 | E17: {=VLOOKUP("*CAS25CC1/R3*",[11]CASARTE!$A:$M,COLUMN([11]CASARTE!$M$4:$M$5),0)} -> 155000 | F17: =VLOOKUP("*CAS25CC1/R3-С*",[12]Лист_1!$A:$AG,COLUMN([12]Лист_1!$U$9),0) -> #N/A
A18: 1U25CC1/R3 | C18: 1U25CC1/R3 | F18: =VLOOKUP("*1U25CC1/R3*",[12]Лист_1!$A:$AG,COLUMN([12]Лист_1!$U$9),0) -> 0
A19: CAS35CC1/R3-С | C19: CAS35CC1/R3-С | D19: =_xlfn.CONCAT(C19," / ",C20) -> CAS35CC1/R3-С / 1U35CC1/R3 | E19: {=VLOOKUP("*CAS35CC1/R3*",[11]CASARTE!$A:$M,COLUMN([11]CASARTE!$M$4:$M$5),0)} -> 186000 | F19: =VLOOKUP("*CAS35CC1/R3-С*",[12]Лист_1!$A:$AG,COLUMN([12]Лист_1!$U$9),0) -> 0
A20: 1U35CC1/R3 | C20: 1U35CC1/R3 | F20: =VLOOKUP("*1U35CC1/R3*",[12]Лист_1!$A:$AG,COLUMN([12]Лист_1!$U$9),0) -> 0
A21: CAS50CC1/R3-С | C21: CAS50CC1/R3-С | D21: =_xlfn.CONCAT(C21," / ",C22) -> CAS50CC1/R3-С / 1U50CC1/R3 | E21: {=VLOOKUP("*CAS50CC1/R3*",[11]CASARTE!$A:$M,COLUMN([11]CASARTE!$M$4:$M$5),0)} -> 260000 | F21: =VLOOKUP("*CAS50CC1/R3-С*",[12]Лист_1!$A:$AG,COLUMN([12]Лист_1!$U$9),0) -> #N/A
A22: 1U50CC1/R3 | C22: 1U50CC1/R3 | F22: =VLOOKUP("*1U50CC1/R3*",[12]Лист_1!$A:$AG,COLUMN([12]Лист_1!$U$9),0) -> 0
A23: Серия ELETTO (HEAT PUMP -20°С) белый
A24: CAS25CX1/R3-W | C24: CAS25CX1/R3-W | D24: =_xlfn.CONCAT(C24," / ",C25) -> CAS25CX1/R3-W / 1U25CX1/R3 | E24: {=VLOOKUP(A24,[11]CASARTE!$A:$M,COLUMN([11]CASARTE!$M$11:$M$12),0)} -> 124000 | F24: =VLOOKUP("*CAS25CX1/R3-W*",[12]Лист_1!$A:$AG,COLUMN([12]Лист_1!$U$9),0) -> 0
A25: 1U25CX1/R3 | C25: 1U25CX1/R3 | F25: =VLOOKUP("*1U25CX1/R3*",[12]Лист_1!$A:$AG,COLUMN([12]Лист_1!$U$9),0) -> #N/A
A26: CAS35CX1/R3-W | C26: CAS35CX1/R3-W | D26: =_xlfn.CONCAT(C26," / ",C27) -> CAS35CX1/R3-W / 1U35CX1/R3 | E26: {=VLOOKUP(A26,[11]CASARTE!$A:$M,COLUMN([11]CASARTE!$M$11:$M$12),0)} -> 156000 | F26: =VLOOKUP("*CAS35CX1/R3-W*",[12]Лист_1!$A:$AG,COLUMN([12]Лист_1!$U$9),0) -> 0
A27: 1U35CX1/R3 | C27: 1U35CX1/R3 | F27: =VLOOKUP("*1U35CX1/R3*",[12]Лист_1!$A:$AG,COLUMN([12]Лист_1!$U$9),0) -> #N/A
A28: CAS50CX1/R3-W | C28: CAS50CX1/R3-W | D28: =_xlfn.CONCAT(C28," / ",C29) -> CAS50CX1/R3-W / 1U50CX1/R3 | E28: {=VLOOKUP(A28,[11]CASARTE!$A:$M,COLUMN([11]CASARTE!$M$11:$M$12),0)} -> 220000 | F28: =VLOOKUP("*CAS50CX1/R3-W*",[12]Лист_1!$A:$AG,COLUMN([12]Лист_1!$U$9),0) -> 0
A29: 1U50CX1/R3 | C29: 1U50CX1/R3 | F29: =VLOOKUP("*1U50CX1/R3*",[12]Лист_1!$A:$AG,COLUMN([12]Лист_1!$U$9),0) -> #N/A
A30: Серия ELETTO (HEAT PUMP -20°С) бежевый
A31: CAS25CX1/R3-G | C31: CAS25CX1/R3-G | D31: =_xlfn.CONCAT(C31," / ",C32) -> CAS25CX1/R3-G / 1U25CX1/R3 | E31: {=VLOOKUP("*CAS25CX1/R3-B*",[11]CASARTE!$1:$1048576,COLUMN([11]CASARTE!$M$13:$M$14),0)} -> 127000 | F31: =VLOOKUP("*CAS25CX1/R3-G*",[12]Лист_1!$A:$AG,COLUMN([12]Лист_1!$U$9),0) -> 0
A32: 1U25CX1/R3 | C32: 1U25CX1/R3 | F32: =VLOOKUP("*1U25CX1/R3*",[12]Лист_1!$A:$AG,COLUMN([12]Лист_1!$U$9),0) -> #N/A
A33: CAS35CX1/R3-G | C33: CAS35CX1/R3-G | D33: =_xlfn.CONCAT(C33," / ",C34) -> CAS35CX1/R3-G / 1U35CX1/R3 | E33: {=VLOOKUP("*CAS35CX1/R3-B*",[11]CASARTE!$1:$1048576,COLUMN([11]CASARTE!$M$13:$M$14),0)} -> 160000 | F33: =VLOOKUP("*CAS35CX1/R3-G*",[12]Лист_1!$A:$AG,COLUMN([12]Лист_1!$U$9),0) -> 0
A34: 1U35CX1/R3 | C34: 1U35CX1/R3 | F34: =VLOOKUP("*1U35CX1/R3*",[12]Лист_1!$A:$AG,COLUMN([12]Лист_1!$U$9),0) -> #N/A
A35: CAS50CX1/R3-G | C35: CAS50CX1/R3-G | D35: =_xlfn.CONCAT(C35," / ",C36) -> CAS50CX1/R3-G / 1U50CX1/R3 | E35: {=VLOOKUP("*CAS50CX1/R3-B*",[11]CASARTE!$1:$1048576,COLUMN([11]CASARTE!$M$13:$M$14),0)} -> 224000 | F35: =VLOOKUP("*CAS50CX1/R3-G*",[12]Лист_1!$A:$AG,COLUMN([12]Лист_1!$U$9),0) -> 0
A36: 1U50CX1/R3 | C36: 1U50CX1/R3 | F36: =VLOOKUP("*1U50CX1/R3*",[12]Лист_1!$A:$AG,COLUMN([12]Лист_1!$U$9),0) -> #N/A
A37: Серия ELETTO (HEAT PUMP -20°С) черный
A38: CAS25CX1/R3-B | C38: CAS25CX1/R3-B | D38: =_xlfn.CONCAT(C38," / ",C39) -> CAS25CX1/R3-B / 1U25CX1/R3 | E38: {=VLOOKUP("*CAS25CX1/R3-B*",[11]CASARTE!$1:$1048576,COLUMN([11]CASARTE!$M$13:$M$14),0)} -> 127000 | F38: =VLOOKUP("*CAS25CX1/R3-B*",[12]Лист_1!$A:$AG,COLUMN([12]Лист_1!$U$9),0) -> 0
A39: 1U25CX1/R3 | C39: 1U25CX1/R3 | F39: =VLOOKUP("*1U25CX1/R3*",[12]Лист_1!$A:$AG,COLUMN([12]Лист_1!$U$9),0) -> #N/A
A40: CAS35CX1/R3-B | C40: CAS35CX1/R3-B | D40: =_xlfn.CONCAT(C40," / ",C41) -> CAS35CX1/R3-B / 1U35CX1/R3 | E40: {=VLOOKUP("*CAS35CX1/R3-B*",[11]CASARTE!$1:$1048576,COLUMN([11]CASARTE!$M$13:$M$14),0)} -> 160000 | F40: =VLOOKUP("*CAS35CX1/R3-B*",[12]Лист_1!$A:$AG,COLUMN([12]Лист_1!$U$9),0) -> 0
...

Sheet Coolberg
A1: HC код комплекта | B1: HC код поблочно | C1: Модель поблочно | D1: Модель | E1: РИЦ | F1: Остаток
A2: ИНВЕРТОРНЫЕ МОДЕЛИ
A3: СЕРИЯ RUNA Silver INVERTER NEW
A4: CI-07UR1-IN | B4: СК00021501 | C4: CI-07UR1-IN | D4: =_xlfn.CONCAT(C4," / ",C5) -> CI-07UR1-IN / CI-07UR1-OUT | E4: 33100 | F4: =VLOOKUP("*CI-07UR1-IN*",[13]TDSheet!$A:$H,COLUMN([13]TDSheet!$E$10),0) -> 96
A5: CI-07UR1-OUT | B5: СК00021506 | C5: CI-07UR1-OUT | F5: =VLOOKUP("*CI-07UR1-OUT*",[13]TDSheet!$A:$H,COLUMN([13]TDSheet!$E$10),0) -> 96
A6: CI-09UR1-IN | B6: СК00021502 | C6: CI-09UR1-IN | D6: =_xlfn.CONCAT(C6," / ",C7) -> CI-09UR1-IN / CI-09UR1-OUT | E6: 35000 | F6: =VLOOKUP("*CI-09UR1-IN*",[13]TDSheet!$A:$H,COLUMN([13]TDSheet!$E$10),0) -> 157
A7: CI-09UR1-OUT | B7: СК00021507 | C7: CI-09UR1-OUT | F7: =VLOOKUP("*CI-09UR1-OUT*",[13]TDSheet!$A:$H,COLUMN([13]TDSheet!$E$10),0) -> 157
A8: CI-12UR1-IN | B8: СК00021503 | C8: CI-12UR1-IN | D8: =_xlfn.CONCAT(C8," / ",C9) -> CI-12UR1-IN / CI-12UR1-OUT | E8: 39800 | F8: =VLOOKUP("*CI-12UR1-IN*",[13]TDSheet!$A:$H,COLUMN([13]TDSheet!$E$10),0) -> 93
A9: CI-12UR1-OUT | B9: СК00021508 | C9: CI-12UR1-OUT | F9: =VLOOKUP("*CI-12UR1-OUT*",[13]TDSheet!$A:$H,COLUMN([13]TDSheet!$E$10),0) -> 93
A10: CI-18UR1-IN | B10: СК00021504 | C10: CI-18UR1-IN | D10: =_xlfn.CONCAT(C10," / ",C11) -> CI-18UR1-IN / CI-18UR1-OUT | E10: 65600 | F10: =VLOOKUP("*CI-18UR1-IN*",[13]TDSheet!$A:$H,COLUMN([13]TDSheet!$E$10),0) -> 11
A11: CI-18UR1-OUT | B11: СК00021509 | C11: CI-18UR1-OUT | F11: =VLOOKUP("*CI-18UR1-OUT*",[13]TDSheet!$A:$H,COLUMN([13]TDSheet!$E$10),0) -> 11
A12: CI-24UR1-IN | B12: СК00021505 | C12: CI-24UR1-IN | D12: =_xlfn.CONCAT(C12," / ",C13) -> CI-24UR1-IN / CI-24UR1-OUT | E12: 82100 | F12: =VLOOKUP("*CI-24UR1-IN*",[13]TDSheet!$A:$H,COLUMN([13]TDSheet!$E$10),0) -> 7
A13: CI-24UR1-OUT | B13: СК00021510 | C13: CI-24UR1-OUT | F13: =VLOOKUP("*CI-24UR1-OUT*",[13]TDSheet!$A:$H,COLUMN([13]TDSheet!$E$10),0) -> 7
A14: СЕРИЯ RUNA INVERTER
A15: CI-07R1-IN | B15: СК00018073 | C15: CI-07R1-IN | D15: =_xlfn.CONCAT(C15," / ",C16) -> CI-07R1-IN / CI-07R1-OUT | E15: 27200 | F15: =VLOOKUP("*CI-07R1-IN*",[13]TDSheet!$A:$H,COLUMN([13]TDSheet!$E$10),0) -> 278
A16: CI-07R1-OUT | B16: СК00018074 | C16: CI-07R1-OUT | F16: =VLOOKUP("*CI-07R1-OUT*",[13]TDSheet!$A:$H,COLUMN([13]TDSheet!$E$10),0) -> 278
A17: CI-09R1-IN | B17: СК00015559 | C17: CI-09R1-IN | D17: =_xlfn.CONCAT(C17," / ",C18) -> CI-09R1-IN / CI-09R1-OUT | E17: 29500 | F17: =VLOOKUP("*CI-09R1-IN*",[13]TDSheet!$A:$H,COLUMN([13]TDSheet!$E$10),0) -> 54
A18: CI-09R1-OUT | B18: СК00015560 | C18: CI-09R1-OUT | F18: =VLOOKUP("*CI-09R1-OUT*",[13]TDSheet!$A:$H,COLUMN([13]TDSheet!$E$10),0) -> 51
A19: CI-12R1-IN | B19: СК00015561 | C19: CI-12R1-IN | D19: =_xlfn.CONCAT(C19," / ",C20) -> CI-12R1-IN / CI-12R1-OUT | E19: 34500 | F19: =VLOOKUP("*CI-12R1-IN*",[13]TDSheet!$A:$H,COLUMN([13]TDSheet!$E$10),0) -> 38
A20: CI-12R1-OUT | B20: СК00015564 | C20: CI-12R1-OUT | F20: =VLOOKUP("*CI-12R1-OUT*",[13]TDSheet!$A:$H,COLUMN([13]TDSheet!$E$10),0) -> 38
A21: CI-18R1-IN | B21: СК00015562 | C21: CI-18R1-IN | D21: =_xlfn.CONCAT(C21," / ",C22) -> CI-18R1-IN / CI-18R1-OUT | E21: 54600 | F21: =VLOOKUP("*CI-18R1-IN*",[13]TDSheet!$A:$H,COLUMN([13]TDSheet!$E$10),0) -> 193
A22: CI-18R1-OUT | B22: СК00015565 | C22: CI-18R1-OUT | F22: =VLOOKUP("*CI-18R1-OUT*",[13]TDSheet!$A:$H,COLUMN([13]TDSheet!$E$10),0) -> 192
A23: CI-24R1-IN | B23: СК00015563 | C23: CI-24R1-IN | D23: =_xlfn.CONCAT(C23," / ",C24) -> CI-24R1-IN / CI-24R1-OUT | E23: 71400 | F23: =VLOOKUP("*CI-24R1-IN*",[13]TDSheet!$A:$H,COLUMN([13]TDSheet!$E$10),0) -> 75
A24: CI-24R1-OUT | B24: СК00015566 | C24: CI-24R1-OUT | F24: =VLOOKUP("*CI-24R1-OUT*",[13]TDSheet!$A:$H,COLUMN([13]TDSheet!$E$10),0) -> 75
A25: МОДЕЛИ БЕЗ ИНВЕРТОРА
A26: СЕРИЯ CITY ON-OFF
A27: CS-07SH1-IN | B27: СК00018063 | C27: CS-07SH1-IN | D27: =_xlfn.CONCAT(C27," / ",C28) -> CS-07SH1-IN / CS-07SH1-OUT | E27: 22300 | F27: =VLOOKUP("*CS-07SH1-IN*",[13]TDSheet!$A:$H,COLUMN([13]TDSheet!$E$10),0) -> 266
A28: CS-07SH1-OUT | B28: СК00018064 | C28: CS-07SH1-OUT | F28: =VLOOKUP("*CS-07SH1-OUT*",[13]TDSheet!$A:$H,COLUMN([13]TDSheet!$E$10),0) -> 266
A29: CS-09SH1-IN | B29: СК00018065 | C29: CS-09SH1-IN | D29: =_xlfn.CONCAT(C29," / ",C30) -> CS-09SH1-IN / CS-09SH1-OUT | E29: 25000 | F29: =VLOOKUP("*CS-09SH1-IN*",[13]TDSheet!$A:$H,COLUMN([13]TDSheet!$E$10),0) -> 216
A30: CS-09SH1-OUT | B30: СК00018066 | C30: CS-09SH1-OUT | F30: =VLOOKUP("*CS-09SH1-OUT*",[13]TDSheet!$A:$H,COLUMN([13]TDSheet!$E$10),0) -> 216
A31: CS-12SH1-IN | B31: СК00018067 | C31: CS-12SH1-IN | D31: =_xlfn.CONCAT(C31," / ",C32) -> CS-12SH1-IN / CS-12SH1-OUT | E31: 34000 | F31: =VLOOKUP("*CS-12SH1-IN*",[13]TDSheet!$A:$H,COLUMN([13]TDSheet!$E$10),0) -> 423
A32: CS-12SH1-OUT | B32: СК00018068 | C32: CS-12SH1-OUT | F32: =VLOOKUP("*CS-12SH1-OUT*",[13]TDSheet!$A:$H,COLUMN([13]TDSheet!$E$10),0) -> 423
A33: CS-18SH1-IN | B33: СК00018069 | C33: CS-18SH1-IN | D33: =_xlfn.CONCAT(C33," / ",C34) -> CS-18SH1-IN / CS-18SH1-OUT | E33: 54800 | F33: =VLOOKUP("*CS-18SH1-IN*",[13]TDSheet!$A:$H,COLUMN([13]TDSheet!$E$10),0) -> 119
A34: CS-18SH1-OUT | B34: СК00018070 | C34: CS-18SH1-OUT | F34: =VLOOKUP("*CS-18SH1-OUT*",[13]TDSheet!$A:$H,COLUMN([13]TDSheet!$E$10),0) -> 19
A35: CS-24SH2-IN | B35: СК00018840 | C35: CS-24SH2-IN | D35: =_xlfn.CONCAT(C35," / ",C36) -> CS-24SH2-IN / CS-24SH2-OUT | E35: 69200 | F35: =VLOOKUP("*CS-24SH2-IN*",[13]TDSheet!$A:$H,COLUMN([13]TDSheet!$E$10),0) -> 131
A36: CS-24SH2-OUT | B36: СК00018841 | C36: CS-24SH2-OUT | F36: =VLOOKUP("*CS-24SH2-OUT*",[13]TDSheet!$A:$H,COLUMN([13]TDSheet!$E$10),0) -> 131
A37: СЕРИЯ RUNA ON-OFF
A38: CS-07R1-IN | B38: СК00018075 | C38: CS-07R1-IN | D38: =_xlfn.CONCAT(C38," / ",C39) -> CS-07R1-IN / CS-07R1-OUT | E38: 19700 | F38: =VLOOKUP("*CS-07R1-IN*",[13]TDSheet!$A:$H,COLUMN([13]TDSheet!$E$10),0) -> 108
A39: CS-07R1-OUT | B39: СК00018076 | C39: CS-07R1-OUT | F39: =VLOOKUP("*CS-07R1-OUT*",[13]TDSheet!$A:$H,COLUMN([13]TDSheet!$E$10),0) -> 127
A40: CS-09R1-IN | B40: СК00015567 | C40: CS-09R1-IN | D40: =_xlfn.CONCAT(C40," / ",C41) -> CS-09R1-IN / CS-09R1-OUT | E40: 21800 | F40: =VLOOKUP("*CS-09R1-IN*",[13]TDSheet!$A:$H,COLUMN([13]TDSheet!$E$10),0) -> 125
...

Sheet Daichi
A1: HC код комплекта | B1: HC код поблочно | C1: Модель поблочно | D1: Модель | E1: РИЦ | F1: Остаток1 | G1: В пути | H1: Остаток2 | I1: Остаток3
A2: ИНВЕРТОРНЫЕ МОДЕЛИ
A3: Тепловой насос серии EVOLUTION (обогрев до -30°C)
A4: EVO25AVQS1R | C4: EVO25AVQS1R | D4: =_xlfn.CONCAT(C4," / ",C5) -> EVO25AVQS1R / EVO25FVS1R | E4: =VLOOKUP(A4,[14]RAC!$A:$K,COLUMN([14]RAC!$K$11),0) -> 111290 | F4: =VLOOKUP(A4,[5]Лист1!$A:$E,COLUMN([5]Лист1!$C$4),0) -> 0 | G4: =VLOOKUP(A4,[5]Лист1!$A:$E,COLUMN([5]Лист1!$D$526),0) -> >50 | H4: =VLOOKUP(A4,[6]Лист1!$A:$E,COLUMN([6]Лист1!$C$4),0) -> >50 | I4: =VLOOKUP(A4,[7]Лист1!$A:$E,COLUMN([7]Лист1!$C$4),0) -> 0
A5: EVO25FVS1R | C5: EVO25FVS1R | F5: =VLOOKUP(A5,[5]Лист1!$A:$E,COLUMN([5]Лист1!$C$4),0) -> 2 | G5: =VLOOKUP(A5,[5]Лист1!$A:$E,COLUMN([5]Лист1!$D$526),0) -> >50 | H5: =VLOOKUP(A5,[6]Лист1!$A:$E,COLUMN([6]Лист1!$C$4),0) -> >50 | I5: =VLOOKUP(A5,[7]Лист1!$A:$E,COLUMN([7]Лист1!$C$4),0) -> 0
A6: EVO35AVQS1R | C6: EVO35AVQS1R | D6: =_xlfn.CONCAT(C6," / ",C7) -> EVO35AVQS1R / EVO35FVS1R | E6: =VLOOKUP(A6,[14]RAC!$A:$K,COLUMN([14]RAC!$K$11),0) -> 117890 | F6: =VLOOKUP(A6,[5]Лист1!$A:$E,COLUMN([5]Лист1!$C$4),0) -> 3 | G6: =VLOOKUP(A6,[5]Лист1!$A:$E,COLUMN([5]Лист1!$D$526),0) -> 33 | H6: =VLOOKUP(A6,[6]Лист1!$A:$E,COLUMN([6]Лист1!$C$4),0) -> 33 | I6: =VLOOKUP(A6,[7]Лист1!$A:$E,COLUMN([7]Лист1!$C$4),0) -> 0
A7: EVO35FVS1R | C7: EVO35FVS1R | F7: =VLOOKUP(A7,[5]Лист1!$A:$E,COLUMN([5]Лист1!$C$4),0) -> 3 | G7: =VLOOKUP(A7,[5]Лист1!$A:$E,COLUMN([5]Лист1!$D$526),0) -> 37 | H7: =VLOOKUP(A7,[6]Лист1!$A:$E,COLUMN([6]Лист1!$C$4),0) -> 37 | I7: =VLOOKUP(A7,[7]Лист1!$A:$E,COLUMN([7]Лист1!$C$4),0) -> 0
A8: EVO50AVQS1R | C8: EVO50AVQS1R | D8: =_xlfn.CONCAT(C8," / ",C9) -> EVO50AVQS1R / EVO50FVS1R | E8: =VLOOKUP(A8,[14]RAC!$A:$K,COLUMN([14]RAC!$K$11),0) -> 150290 | F8: =VLOOKUP(A8,[5]Лист1!$A:$E,COLUMN([5]Лист1!$C$4),0) -> 0 | G8: =VLOOKUP(A8,[5]Лист1!$A:$E,COLUMN([5]Лист1!$D$526),0) -> 21 | H8: =VLOOKUP(A8,[6]Лист1!$A:$E,COLUMN([6]Лист1!$C$4),0) -> 21 | I8: =VLOOKUP(A8,[7]Лист1!$A:$E,COLUMN([7]Лист1!$C$4),0) -> 0
A9: EVO50FVS1R | C9: EVO50FVS1R | F9: =VLOOKUP(A9,[5]Лист1!$A:$E,COLUMN([5]Лист1!$C$4),0) -> 0 | G9: =VLOOKUP(A9,[5]Лист1!$A:$E,COLUMN([5]Лист1!$D$526),0) -> 24 | H9: =VLOOKUP(A9,[6]Лист1!$A:$E,COLUMN([6]Лист1!$C$4),0) -> 24 | I9: =VLOOKUP(A9,[7]Лист1!$A:$E,COLUMN([7]Лист1!$C$4),0) -> 0
A10: Дизайнерский тепловой насос серии UNIQUE (обогрев до -25°C)
A11: UNI25AVQS1R | C11: UNI25AVQS1R | D11: =_xlfn.CONCAT(C11," / ",C12) -> UNI25AVQS1R / UNI25FVS1R | E11: =VLOOKUP(A11,[14]RAC!$A:$K,COLUMN([14]RAC!$K$11),0) -> 70790 | F11: =VLOOKUP(A11,[5]Лист1!$A:$E,COLUMN([5]Лист1!$C$4),0) -> 0 | G11: =VLOOKUP(A11,[5]Лист1!$A:$E,COLUMN([5]Лист1!$D$526),0) -> >50 | H11: =VLOOKUP(A11,[6]Лист1!$A:$E,COLUMN([6]Лист1!$C$4),0) -> >50 | I11: =VLOOKUP(A11,[7]Лист1!$A:$E,COLUMN([7]Лист1!$C$4),0) -> 0
A12: UNI25FVS1R | C12: UNI25FVS1R | F12: =VLOOKUP(A12,[5]Лист1!$A:$E,COLUMN([5]Лист1!$C$4),0) -> 0 | G12: =VLOOKUP(A12,[5]Лист1!$A:$E,COLUMN([5]Лист1!$D$526),0) -> >50 | H12: =VLOOKUP(A12,[6]Лист1!$A:$E,COLUMN([6]Лист1!$C$4),0) -> >50 | I12: =VLOOKUP(A12,[7]Лист1!$A:$E,COLUMN([7]Лист1!$C$4),0) -> 0
A13: UNI35AVQS1R | C13: UNI35AVQS1R | D13: =_xlfn.CONCAT(C13," / ",C14) -> UNI35AVQS1R / UNI35FVS1R | E13: =VLOOKUP(A13,[14]RAC!$A:$K,COLUMN([14]RAC!$K$11),0) -> 89590 | F13: =VLOOKUP(A13,[5]Лист1!$A:$E,COLUMN([5]Лист1!$C$4),0) -> 0 | G13: =VLOOKUP(A13,[5]Лист1!$A:$E,COLUMN([5]Лист1!$D$526),0) -> 0 | H13: =VLOOKUP(A13,[6]Лист1!$A:$E,COLUMN([6]Лист1!$C$4),0) -> 0 | I13: =VLOOKUP(A13,[7]Лист1!$A:$E,COLUMN([7]Лист1!$C$4),0) -> 0
A14: UNI35FVS1R | C14: UNI35FVS1R | F14: =VLOOKUP(A14,[5]Лист1!$A:$E,COLUMN([5]Лист1!$C$4),0) -> 3 | G14: =VLOOKUP(A14,[5]Лист1!$A:$E,COLUMN([5]Лист1!$D$526),0) -> 0 | H14: =VLOOKUP(A14,[6]Лист1!$A:$E,COLUMN([6]Лист1!$C$4),0) -> 0 | I14: =VLOOKUP(A14,[7]Лист1!$A:$E,COLUMN([7]Лист1!$C$4),0) -> 0
A15: Тепловой насос серии SIBERIA (обогрев при до -25°C)
A16: SIB25AVQS1R | C16: SIB25AVQS1R | D16: =_xlfn.CONCAT(C16," / ",C17) -> SIB25AVQS1R / SIB25FVS1R | E16: =VLOOKUP(A16,[14]RAC!$A:$K,COLUMN([14]RAC!$K$11),0) -> 65290 | F16: =VLOOKUP(A16,[5]Лист1!$A:$E,COLUMN([5]Лист1!$C$4),0) -> 0 | G16: =VLOOKUP(A16,[5]Лист1!$A:$E,COLUMN([5]Лист1!$D$526),0) -> 46 | H16: =VLOOKUP(A16,[6]Лист1!$A:$E,COLUMN([6]Лист1!$C$4),0) -> 0 | I16: =VLOOKUP(A16,[7]Лист1!$A:$E,COLUMN([7]Лист1!$C$4),0) -> 0
A17: SIB25FVS1R | C17: SIB25FVS1R | F17: =VLOOKUP(A17,[5]Лист1!$A:$E,COLUMN([5]Лист1!$C$4),0) -> 1 | G17: =VLOOKUP(A17,[5]Лист1!$A:$E,COLUMN([5]Лист1!$D$526),0) -> 46 | H17: =VLOOKUP(A17,[6]Лист1!$A:$E,COLUMN([6]Лист1!$C$4),0) -> 0 | I17: =VLOOKUP(A17,[7]Лист1!$A:$E,COLUMN([7]Лист1!$C$4),0) -> 0
A18: SIB35AVQS1R | C18: SIB35AVQS1R | D18: =_xlfn.CONCAT(C18," / ",C19) -> SIB35AVQS1R / SIB35FVS1R | E18: =VLOOKUP(A18,[14]RAC!$A:$K,COLUMN([14]RAC!$K$11),0) -> 71890 | F18: =VLOOKUP(A18,[5]Лист1!$A:$E,COLUMN([5]Лист1!$C$4),0) -> 0 | G18: =VLOOKUP(A18,[5]Лист1!$A:$E,COLUMN([5]Лист1!$D$526),0) -> 39 | H18: =VLOOKUP(A18,[6]Лист1!$A:$E,COLUMN([6]Лист1!$C$4),0) -> 0 | I18: =VLOOKUP(A18,[7]Лист1!$A:$E,COLUMN([7]Лист1!$C$4),0) -> 0
A19: SIB35FVS1R | C19: SIB35FVS1R | F19: =VLOOKUP(A19,[5]Лист1!$A:$E,COLUMN([5]Лист1!$C$4),0) -> 0 | G19: =VLOOKUP(A19,[5]Лист1!$A:$E,COLUMN([5]Лист1!$D$526),0) -> 36 | H19: =VLOOKUP(A19,[6]Лист1!$A:$E,COLUMN([6]Лист1!$C$4),0) -> 0 | I19: =VLOOKUP(A19,[7]Лист1!$A:$E,COLUMN([7]Лист1!$C$4),0) -> 0
A20: SIB50AVQS1R | C20: SIB50AVQS1R | D20: =_xlfn.CONCAT(C20," / ",C21) -> SIB50AVQS1R / SIB50FVS1R | E20: =VLOOKUP(A20,[14]RAC!$A:$K,COLUMN([14]RAC!$K$11),0) -> 108090 | F20: =VLOOKUP(A20,[5]Лист1!$A:$E,COLUMN([5]Лист1!$C$4),0) -> 0 | G20: =VLOOKUP(A20,[5]Лист1!$A:$E,COLUMN([5]Лист1!$D$526),0) -> 10 | H20: =VLOOKUP(A20,[6]Лист1!$A:$E,COLUMN([6]Лист1!$C$4),0) -> 0 | I20: =VLOOKUP(A20,[7]Лист1!$A:$E,COLUMN([7]Лист1!$C$4),0) -> 0
A21: SIB50FVS1R | C21: SIB50FVS1R | F21: =VLOOKUP(A21,[5]Лист1!$A:$E,COLUMN([5]Лист1!$C$4),0) -> 0 | G21: =VLOOKUP(A21,[5]Лист1!$A:$E,COLUMN([5]Лист1!$D$526),0) -> 7 | H21: =VLOOKUP(A21,[6]Лист1!$A:$E,COLUMN([6]Лист1!$C$4),0) -> 0 | I21: =VLOOKUP(A21,[7]Лист1!$A:$E,COLUMN([7]Лист1!$C$4),0) -> 0
A22: SIB70AVQS1R | C22: SIB70AVQS1R | D22: =_xlfn.CONCAT(C22," / ",C23) -> SIB70AVQS1R / SIB70FVS1R | E22: =VLOOKUP(A22,[14]RAC!$A:$K,COLUMN([14]RAC!$K$11),0) -> 142390 | F22: =VLOOKUP(A22,[5]Лист1!$A:$E,COLUMN([5]Лист1!$C$4),0) -> 1 | G22: =VLOOKUP(A22,[5]Лист1!$A:$E,COLUMN([5]Лист1!$D$526),0) -> 0 | H22: =VLOOKUP(A22,[6]Лист1!$A:$E,COLUMN([6]Лист1!$C$4),0) -> 0 | I22: =VLOOKUP(A22,[7]Лист1!$A:$E,COLUMN([7]Лист1!$C$4),0) -> 0
A23: SIB70FVS1R | C23: SIB70FVS1R | F23: =VLOOKUP(A23,[5]Лист1!$A:$E,COLUMN([5]Лист1!$C$4),0) -> 1 | G23: =VLOOKUP(A23,[5]Лист1!$A:$E,COLUMN([5]Лист1!$D$526),0) -> 0 | H23: =VLOOKUP(A23,[6]Лист1!$A:$E,COLUMN([6]Лист1!$C$4),0) -> 0 | I23: =VLOOKUP(A23,[7]Лист1!$A:$E,COLUMN([7]Лист1!$C$4),0) -> 0
A24: Инверторные сплит-системы серии AIR inverter
A25: AIR25AVQS1R-2 | C25: AIR25AVQS1R-2 | D25: =_xlfn.CONCAT(C25," / ",C26) -> AIR25AVQS1R-2 / AIR25FVS1R-2 | E25: =VLOOKUP(A25,[14]RAC!$A:$K,COLUMN([14]RAC!$K$11),0) -> 44390 | F25: =VLOOKUP(A25,[5]Лист1!$A:$E,COLUMN([5]Лист1!$C$4),0) -> 0 | G25: =VLOOKUP(A25,[5]Лист1!$A:$E,COLUMN([5]Лист1!$D$526),0) -> 0 | H25: =VLOOKUP(A25,[6]Лист1!$A:$E,COLUMN([6]Лист1!$C$4),0) -> 0 | I25: =VLOOKUP(A25,[7]Лист1!$A:$E,COLUMN([7]Лист1!$C$4),0) -> 0
A26: AIR25FVS1R-2 | C26: AIR25FVS1R-2 | F26: =VLOOKUP(A26,[5]Лист1!$A:$E,COLUMN([5]Лист1!$C$4),0) -> 0 | G26: =VLOOKUP(A26,[5]Лист1!$A:$E,COLUMN([5]Лист1!$D$526),0) -> 3 | H26: =VLOOKUP(A26,[6]Лист1!$A:$E,COLUMN([6]Лист1!$C$4),0) -> 0 | I26: =VLOOKUP(A26,[7]Лист1!$A:$E,COLUMN([7]Лист1!$C$4),0) -> 0
A27: AIR35AVQS1R-2 | C27: AIR35AVQS1R-2 | D27: =_xlfn.CONCAT(C27," / ",C28) -> AIR35AVQS1R-2 / AIR35FVS1R-2 | E27: =VLOOKUP(A27,[14]RAC!$A:$K,COLUMN([14]RAC!$K$11),0) -> 49390 | F27: =VLOOKUP(A27,[5]Лист1!$A:$E,COLUMN([5]Лист1!$C$4),0) -> 0 | G27: =VLOOKUP(A27,[5]Лист1!$A:$E,COLUMN([5]Лист1!$D$526),0) -> 0 | H27: =VLOOKUP(A27,[6]Лист1!$A:$E,COLUMN([6]Лист1!$C$4),0) -> 0 | I27: =VLOOKUP(A27,[7]Лист1!$A:$E,COLUMN([7]Лист1!$C$4),0) -> 0
A28: AIR35FVS1R-2 | C28: AIR35FVS1R-2 | F28: =VLOOKUP(A28,[5]Лист1!$A:$E,COLUMN([5]Лист1!$C$4),0) -> 0 | G28: =VLOOKUP(A28,[5]Лист1!$A:$E,COLUMN([5]Лист1!$D$526),0) -> 21 | H28: =VLOOKUP(A28,[6]Лист1!$A:$E,COLUMN([6]Лист1!$C$4),0) -> 19 | I28: =VLOOKUP(A28,[7]Лист1!$A:$E,COLUMN([7]Лист1!$C$4),0) -> 0
A29: AIR50AVQS1R-2 | C29: AIR50AVQS1R-2 | D29: =_xlfn.CONCAT(C29," / ",C30) -> AIR50AVQS1R-2 / AIR50FVS1R-2 | E29: =VLOOKUP(A29,[14]RAC!$A:$K,COLUMN([14]RAC!$K$11),0) -> 85290 | F29: =VLOOKUP(A29,[5]Лист1!$A:$E,COLUMN([5]Лист1!$C$4),0) -> 0 | G29: =VLOOKUP(A29,[5]Лист1!$A:$E,COLUMN([5]Лист1!$D$526),0) -> 1 | H29: =VLOOKUP(A29,[6]Лист1!$A:$E,COLUMN([6]Лист1!$C$4),0) -> 1 | I29: =VLOOKUP(A29,[7]Лист1!$A:$E,COLUMN([7]Лист1!$C$4),0) -> 0
A30: AIR50FVS1R-2 | C30: AIR50FVS1R-2 | F30: =VLOOKUP(A30,[5]Лист1!$A:$E,COLUMN([5]Лист1!$C$4),0) -> 0 | G30: =VLOOKUP(A30,[5]Лист1!$A:$E,COLUMN([5]Лист1!$D$526),0) -> 1 | H30: =VLOOKUP(A30,[6]Лист1!$A:$E,COLUMN([6]Лист1!$C$4),0) -> 1 | I30: =VLOOKUP(A30,[7]Лист1!$A:$E,COLUMN([7]Лист1!$C$4),0) -> 0
A31: AIR60AVQS1R-2 | C31: AIR60AVQS1R-2 | D31: =_xlfn.CONCAT(C31," / ",C32) -> AIR60AVQS1R-2 / AIR60FVS1R-2 | E31: =VLOOKUP(A31,[14]RAC!$A:$K,COLUMN([14]RAC!$K$11),0) -> 114590 | F31: =VLOOKUP(A31,[5]Лист1!$A:$E,COLUMN([5]Лист1!$C$4),0) -> 0 | G31: =VLOOKUP(A31,[5]Лист1!$A:$E,COLUMN([5]Лист1!$D$526),0) -> >50 | H31: =VLOOKUP(A31,[6]Лист1!$A:$E,COLUMN([6]Лист1!$C$4),0) -> >50 | I31: =VLOOKUP(A31,[7]Лист1!$A:$E,COLUMN([7]Лист1!$C$4),0) -> 0
A32: AIR60FVS1R-2 | C32: AIR60FVS1R-2 | F32: =VLOOKUP(A32,[5]Лист1!$A:$E,COLUMN([5]Лист1!$C$4),0) -> 0 | G32: =VLOOKUP(A32,[5]Лист1!$A:$E,COLUMN([5]Лист1!$D$526),0) -> >50 | H32: =VLOOKUP(A32,[6]Лист1!$A:$E,COLUMN([6]Лист1!$C$4),0) -> >50 | I32: =VLOOKUP(A32,[7]Лист1!$A:$E,COLUMN([7]Лист1!$C$4),0) -> 0
A33: Дизайнерская инверторная сплит-система MIRACLE inverter
A34: MIR25AVQS1R-1 | C34: MIR25AVQS1R-1 | D34: =_xlfn.CONCAT(C34," / ",C35) -> MIR25AVQS1R-1 / MIR25FVS1R-1 | E34: =VLOOKUP(A34,[14]RAC!$A:$K,COLUMN([14]RAC!$K$11),0) -> 53090 | F34: =VLOOKUP(A34,[5]Лист1!$A:$E,COLUMN([5]Лист1!$C$4),0) -> 0 | G34: =VLOOKUP(A34,[5]Лист1!$A:$E,COLUMN([5]Лист1!$D$526),0) -> 3 | H34: =VLOOKUP(A34,[6]Лист1!$A:$E,COLUMN([6]Лист1!$C$4),0) -> 3 | I34: =VLOOKUP(A34,[7]Лист1!$A:$E,COLUMN([7]Лист1!$C$4),0) -> 0
